Workbook
Name 学校番号: [1]はじめに!$E$6
Name 学校番号: [2]はじめにお読みください!$E$6
Name 学校番号: はじめにお読みください!$E$6
Name 学校名: [1]はじめに!$E$7
Name 学校名: [2]はじめにお読みください!$E$7
Name 学校名: はじめにお読みください!$E$7
Name 記載責任者: [1]はじめに!$E$9
Name 記載責任者: [2]はじめにお読みください!$E$9
Name 記載責任者: はじめにお読みください!$E$9
Name 緊急連絡先: [1]はじめに!$E$10
Name 緊急連絡先: [2]はじめにお読みください!$E$10
Name 緊急連絡先: はじめにお読みください!$E$10
Name 表示名: [1]はじめに!$E$8
Name 表示名: [2]はじめにお読みください!$E$8
Name 表示名: はじめにお読みください!$E$8

Sheet はじめにお読みください
B2: エントリー方法
C5: １．まず、こちらを入力してください！
D6: 学校番号
D7: 正式名称
D8: 表示名【例：泉北】
D9: 記載責任者（顧問）
D10: 緊急連絡先（携帯）
C14: ２．ファイルの作成・「FAX送信用紙」プリントアウト
D15: ① シングルスの部 入力
D16: ① 必要事項の入力
D17: ② FAX送信用紙 入力、プリントアウト
D18: ※ エントリー数、入金額などをご確認ください。
C22: ３．ファイル名の変更・電子データの送信
D23: ① ファイル名を「学校番号（３桁）_学校名_4gakku_2026ST.xls」と変更
D24: （例 : 099_泉北_4gakku_2026ST.xls ）
D25: ② 4gakku@osaka-hs-tennis.com へメール送信
D26: ※ 件名に必ず学校名を入れてください。（例 : 泉北４学区大会申込 ）
C30: ４．入金・領収書貼付・FAX送信 【郵送書類はありません！】
D31: ① エントリー代の入金
D32: 三井住友銀行 佐野支店 普通１９７０５５１
D33: 名義 第４学区テニス大会実行委員会 代表 辻 博規
D34: ※ 男女あわせて入金してください。
D35: ※ 学校名がわかるようにお願いします。
D36: ② 領収書を貼付し、FAX送信用紙を送信
D37: FAX送信先
D38: 大阪体育大学浪商高等学校 外国語科 辻 博規 宛
D39: FAX番号 072 - 453 - 7002
C43: お問い合わせ先
D44: 泉北高校 数学科 大内 康弘
D45: TEL 072-297-1065 FAX 072-293-2376

Sheet ダブルス（要項）
B2: 42485
B3: テニス部顧問 様
B4: 第４学区テニス大会実行委員会
B6: 第10回 第4学区 テニス大会 ダブルスの部 開催について
B8: 標記大会を下記の要領により開催しますので、貴校生徒の参加方よろしくお取り計らい下さい
B10: 1. 主 催 | C10: 第４学区テニス大会実行委員会
B11: 2. 期 日 | C11: 予選 2016年6月19日（日） 予備日 6月25日（土）
C12: 本戦 6月26日（日） 予備日 7月 3日（日）
B13: 3. 会 場 | C13: 予選は第4学区内の各学校コート、本戦は蜻蛉池公園（予定）
B14: 4. 参加資格 | C14: ・ 大阪高体連テニス部に加盟している第4学区内の学校の生徒
C15: ・ 3年生も出場可です
C16: ・ 出場数の制限はありませんが、多数参加の場合はできるだけ コートの提供をお願いします
B17: 5. 競技規則 | C17: 日本テニス協会規則
B18: 6. 競技方法 | C18: ・ 予選は、直近の春季大会または大阪高校総体の本戦出場者、
C19: およびその他実行委員会が認めたものを除く
C20: ・ 本戦は、上記の予選優勝者と本戦出場者のトーナメントで行う
C21: ・ 試合は、1セットマッチ、6オールタイブレークで行う
B22: 7. 申込方法 | C22: ① 申込用ファイルを『4学区テニス大会実行委員会』のブログより
C23: ダウンロードする
C24: ② 【データ】必要事項を入力後、メール送信
C25: ≪電子データ送信先≫ 4gakku@osaka-hs-tennis.com
C26: ③ 【書類】 「FAX送信用紙」を下記へFAXする
C27: ≪FAX送信先≫
C28: 大阪体育大学浪商高等学校 外国語科 辻 博規 宛
C29: FAX番号 072 - 453 - 7002
C30: ④ エントリー代振込先（学校名がわかるように）
C31: 三井住友銀行 佐野支店 普通１５９０５５７
C32: ＜名義＞ 大阪体育大学浪商高校テニス部 代表 辻 博規
C34: 申込締切（データ・FAXとも） 2016年5月27日（金）
B36: 8. エントリー代 | C36: 1組につき1,000円を学校でまとめて
B37: 9. 代表者連絡会 | C37: 代表者連絡会は行いません
C38: ・ ボールは会場校に直送、ドローと日程はブログにて確認すること
B40: 10. 表 彰 | C40: 男女第3位（ベスト4）以上の入賞者に、賞状と賞品
C41: 予選の優勝者に賞状

Sheet 団体（エントリー）
B2: 色のついたセルに必要事項を入力し、必ず上書き保存してください。 提出不要です。
B5: 男子（団体） | G5: 出場 | H5: =SUM(A8:A82) -> 0 | I5: チーム | K5: 女子（団体） | P5: 出場 | Q5: =SUM(J8:J82) -> 0 | R5: チーム
U6: 1 | V6: 2 | W6: 3 | X6: 4 | Y6: 5 | Z6: 6 | AA6: 7 | AB6: 8 | AC6: 9
D7: 姓 | E7: 名 | F7: 学年 | G7: ポイント | H7: 代表者連絡先（１名必須） | I7: 備考 | M7: 姓 | N7: 名 | O7: 学年 | P7: ポイント | Q7: 代表者連絡先（１名 必須） | R7: 備考 | U7: 組番 | V7: 名前・学年 | W7: ポイント | X7: 連絡先 | Y7: 備考 | Z7: 名前・学年 | AA7: ポイント | AB7: 連絡先 | AC7: 備考
A8: =IF(COUNTA(D8:F10)=9,1,0) -> 0 | B8: A | C8: 1 | J8: =IF(COUNTA(M8:O10)=9,1,0) -> 0 | K8: A | L8: 1 | U8: A1 | V8: =D8&" "&E8&" "&F8 | W8: =G8 -> 0 | X8: =H8 -> 0 | Y8: =I8 -> 0 | Z8: =M8&" "&N8&" "&O8 | AA8: =P8 -> 0 | AB8: =Q8 -> 0 | AC8: =R8 -> 0
C9: 2 | L9: 2 | U9: A2 | V9: =D9&" "&E9&" "&F9 | W9: =G9 -> 0 | X9: =H9 -> 0 | Y9: =I9 -> 0 | Z9: =M9&" "&N9&" "&O9 | AA9: =P9 -> 0 | AB9: =Q9 -> 0 | AC9: =R9 -> 0
C10: 3 | L10: 3 | U10: A3 | V10: =D10&" "&E10&" "&F10 | W10: =G10 -> 0 | X10: =H10 -> 0 | Y10: =I10 -> 0 | Z10: =M10&" "&N10&" "&O10 | AA10: =P10 -> 0 | AB10: =Q10 -> 0 | AC10: =R10 -> 0
C11: 4 | L11: 4 | U11: A4 | V11: =D11&" "&E11&" "&F11 | W11: =G11 -> 0 | X11: =H11 -> 0 | Y11: =I11 -> 0 | Z11: =M11&" "&N11&" "&O11 | AA11: =P11 -> 0 | AB11: =Q11 -> 0 | AC11: =R11 -> 0
C12: 5 | L12: 5 | U12: A5 | V12: =D12&" "&E12&" "&F12 | W12: =G12 -> 0 | X12: =H12 -> 0 | Y12: =I12 -> 0 | Z12: =M12&" "&N12&" "&O12 | AA12: =P12 -> 0 | AB12: =Q12 -> 0 | AC12: =R12 -> 0
A13: =IF(COUNTA(D13:F15)=9,1,0) -> 0 | B13: B | C13: 1 | J13: =IF(COUNTA(M13:O15)=9,1,0) -> 0 | K13: B | L13: 1 | U13: B1 | V13: =D13&" "&E13&" "&F13 | W13: =G13 -> 0 | X13: =H13 -> 0 | Y13: =I13 -> 0 | Z13: =M13&" "&N13&" "&O13 | AA13: =P13 -> 0 | AB13: =Q13 -> 0 | AC13: =R13 -> 0
C14: 2 | L14: 2 | U14: B2 | V14: =D14&" "&E14&" "&F14 | W14: =G14 -> 0 | X14: =H14 -> 0 | Y14: =I14 -> 0 | Z14: =M14&" "&N14&" "&O14 | AA14: =P14 -> 0 | AB14: =Q14 -> 0 | AC14: =R14 -> 0
C15: 3 | L15: 3 | U15: B3 | V15: =D15&" "&E15&" "&F15 | W15: =G15 -> 0 | X15: =H15 -> 0 | Y15: =I15 -> 0 | Z15: =M15&" "&N15&" "&O15 | AA15: =P15 -> 0 | AB15: =Q15 -> 0 | AC15: =R15 -> 0
C16: 4 | L16: 4 | U16: B4 | V16: =D16&" "&E16&" "&F16 | W16: =G16 -> 0 | X16: =H16 -> 0 | Y16: =I16 -> 0 | Z16: =M16&" "&N16&" "&O16 | AA16: =P16 -> 0 | AB16: =Q16 -> 0 | AC16: =R16 -> 0
C17: 5 | L17: 5 | U17: B5 | V17: =D17&" "&E17&" "&F17 | W17: =G17 -> 0 | X17: =H17 -> 0 | Y17: =I17 -> 0 | Z17: =M17&" "&N17&" "&O17 | AA17: =P17 -> 0 | AB17: =Q17 -> 0 | AC17: =R17 -> 0
A18: =IF(COUNTA(D18:F20)=9,1,0) -> 0 | B18: C | C18: 1 | J18: =IF(COUNTA(M18:O20)=9,1,0) -> 0 | K18: C | L18: 1 | U18: C1 | V18: =D18&" "&E18&" "&F18 | W18: =G18 -> 0 | X18: =H18 -> 0 | Y18: =I18 -> 0 | Z18: =M18&" "&N18&" "&O18 | AA18: =P18 -> 0 | AB18: =Q18 -> 0 | AC18: =R18 -> 0
C19: 2 | L19: 2 | U19: C2 | V19: =D19&" "&E19&" "&F19 | W19: =G19 -> 0 | X19: =H19 -> 0 | Y19: =I19 -> 0 | Z19: =M19&" "&N19&" "&O19 | AA19: =P19 -> 0 | AB19: =Q19 -> 0 | AC19: =R19 -> 0
C20: 3 | L20: 3 | U20: C3 | V20: =D20&" "&E20&" "&F20 | W20: =G20 -> 0 | X20: =H20 -> 0 | Y20: =I20 -> 0 | Z20: =M20&" "&N20&" "&O20 | AA20: =P20 -> 0 | AB20: =Q20 -> 0 | AC20: =R20 -> 0
C21: 4 | L21: 4 | U21: C4 | V21: =D21&" "&E21&" "&F21 | W21: =G21 -> 0 | X21: =H21 -> 0 | Y21: =I21 -> 0 | Z21: =M21&" "&N21&" "&O21 | AA21: =P21 -> 0 | AB21: =Q21 -> 0 | AC21: =R21 -> 0
C22: 5 | L22: 5 | U22: C5 | V22: =D22&" "&E22&" "&F22 | W22: =G22 -> 0 | X22: =H22 -> 0 | Y22: =I22 -> 0 | Z22: =M22&" "&N22&" "&O22 | AA22: =P22 -> 0 | AB22: =Q22 -> 0 | AC22: =R22 -> 0
A23: =IF(COUNTA(D23:F25)=9,1,0) -> 0 | B23: D | C23: 1 | J23: =IF(COUNTA(M23:O25)=9,1,0) -> 0 | K23: D | L23: 1 | U23: D1 | V23: =D23&" "&E23&" "&F23 | W23: =G23 -> 0 | X23: =H23 -> 0 | Y23: =I23 -> 0 | Z23: =M23&" "&N23&" "&O23 | AA23: =P23 -> 0 | AB23: =Q23 -> 0 | AC23: =R23 -> 0
C24: 2 | L24: 2 | U24: D2 | V24: =D24&" "&E24&" "&F24 | W24: =G24 -> 0 | X24: =H24 -> 0 | Y24: =I24 -> 0 | Z24: =M24&" "&N24&" "&O24 | AA24: =P24 -> 0 | AB24: =Q24 -> 0 | AC24: =R24 -> 0
C25: 3 | L25: 3 | U25: D3 | V25: =D25&" "&E25&" "&F25 | W25: =G25 -> 0 | X25: =H25 -> 0 | Y25: =I25 -> 0 | Z25: =M25&" "&N25&" "&O25 | AA25: =P25 -> 0 | AB25: =Q25 -> 0 | AC25: =R25 -> 0
C26: 4 | L26: 4 | U26: D4 | V26: =D26&" "&E26&" "&F26 | W26: =G26 -> 0 | X26: =H26 -> 0 | Y26: =I26 -> 0 | Z26: =M26&" "&N26&" "&O26 | AA26: =P26 -> 0 | AB26: =Q26 -> 0 | AC26: =R26 -> 0
C27: 5 | L27: 5 | U27: D5 | V27: =D27&" "&E27&" "&F27 | W27: =G27 -> 0 | X27: =H27 -> 0 | Y27: =I27 -> 0 | Z27: =M27&" "&N27&" "&O27 | AA27: =P27 -> 0 | AB27: =Q27 -> 0 | AC27: =R27 -> 0
A28: =IF(COUNTA(D28:F30)=9,1,0) -> 0 | B28: E | C28: 1 | J28: =IF(COUNTA(M28:O30)=9,1,0) -> 0 | K28: E | L28: 1 | U28: E1 | V28: =D28&" "&E28&" "&F28 | W28: =G28 -> 0 | X28: =H28 -> 0 | Y28: =I28 -> 0 | Z28: =M28&" "&N28&" "&O28 | AA28: =P28 -> 0 | AB28: =Q28 -> 0 | AC28: =R28 -> 0
C29: 2 | L29: 2 | U29: E2 | V29: =D29&" "&E29&" "&F29 | W29: =G29 -> 0 | X29: =H29 -> 0 | Y29: =I29 -> 0 | Z29: =M29&" "&N29&" "&O29 | AA29: =P29 -> 0 | AB29: =Q29 -> 0 | AC29: =R29 -> 0
C30: 3 | L30: 3 | U30: E3 | V30: =D30&" "&E30&" "&F30 | W30: =G30 -> 0 | X30: =H30 -> 0 | Y30: =I30 -> 0 | Z30: =M30&" "&N30&" "&O30 | AA30: =P30 -> 0 | AB30: =Q30 -> 0 | AC30: =R30 -> 0
C31: 4 | L31: 4 | U31: E4 | V31: =D31&" "&E31&" "&F31 | W31: =G31 -> 0 | X31: =H31 -> 0 | Y31: =I31 -> 0 | Z31: =M31&" "&N31&" "&O31 | AA31: =P31 -> 0 | AB31: =Q31 -> 0 | AC31: =R31 -> 0
C32: 5 | L32: 5 | U32: E5 | V32: =D32&" "&E32&" "&F32 | W32: =G32 -> 0 | X32: =H32 -> 0 | Y32: =I32 -> 0 | Z32: =M32&" "&N32&" "&O32 | AA32: =P32 -> 0 | AB32: =Q32 -> 0 | AC32: =R32 -> 0
A33: =IF(COUNTA(D33:F35)=9,1,0) -> 0 | B33: F | C33: 1 | J33: =IF(COUNTA(M33:O35)=9,1,0) -> 0 | K33: F | L33: 1 | U33: F1 | V33: =D33&" "&E33&" "&F33 | W33: =G33 -> 0 | X33: =H33 -> 0 | Y33: =I33 -> 0 | Z33: =M33&" "&N33&" "&O33 | AA33: =P33 -> 0 | AB33: =Q33 -> 0 | AC33: =R33 -> 0
C34: 2 | L34: 2 | U34: F2 | V34: =D34&" "&E34&" "&F34 | W34: =G34 -> 0 | X34: =H34 -> 0 | Y34: =I34 -> 0 | Z34: =M34&" "&N34&" "&O34 | AA34: =P34 -> 0 | AB34: =Q34 -> 0 | AC34: =R34 -> 0
C35: 3 | L35: 3 | U35: F3 | V35: =D35&" "&E35&" "&F35 | W35: =G35 -> 0 | X35: =H35 -> 0 | Y35: =I35 -> 0 | Z35: =M35&" "&N35&" "&O35 | AA35: =P35 -> 0 | AB35: =Q35 -> 0 | AC35: =R35 -> 0
C36: 4 | L36: 4 | U36: F4 | V36: =D36&" "&E36&" "&F36 | W36: =G36 -> 0 | X36: =H36 -> 0 | Y36: =I36 -> 0 | Z36: =M36&" "&N36&" "&O36 | AA36: =P36 -> 0 | AB36: =Q36 -> 0 | AC36: =R36 -> 0
C37: 5 | L37: 5 | U37: F5 | V37: =D37&" "&E37&" "&F37 | W37: =G37 -> 0 | X37: =H37 -> 0 | Y37: =I37 -> 0 | Z37: =M37&" "&N37&" "&O37 | AA37: =P37 -> 0 | AB37: =Q37 -> 0 | AC37: =R37 -> 0
A38: =IF(COUNTA(D38:F40)=9,1,0) -> 0 | B38: G | C38: 1 | J38: =IF(COUNTA(M38:O40)=9,1,0) -> 0 | K38: G | L38: 1 | U38: G1 | V38: =D38&" "&E38&" "&F38 | W38: =G38 -> 0 | X38: =H38 -> 0 | Y38: =I38 -> 0 | Z38: =M38&" "&N38&" "&O38 | AA38: =P38 -> 0 | AB38: =Q38 -> 0 | AC38: =R38 -> 0
C39: 2 | L39: 2 | U39: G2 | V39: =D39&" "&E39&" "&F39 | W39: =G39 -> 0 | X39: =H39 -> 0 | Y39: =I39 -> 0 | Z39: =M39&" "&N39&" "&O39 | AA39: =P39 -> 0 | AB39: =Q39 -> 0 | AC39: =R39 -> 0
C40: 3 | L40: 3 | U40: G3 | V40: =D40&" "&E40&" "&F40 | W40: =G40 -> 0 | X40: =H40 -> 0 | Y40: =I40 -> 0 | Z40: =M40&" "&N40&" "&O40 | AA40: =P40 -> 0 | AB40: =Q40 -> 0 | AC40: =R40 -> 0
C41: 4 | L41: 4 | U41: G4 | V41: =D41&" "&E41&" "&F41 | W41: =G41 -> 0 | X41: =H41 -> 0 | Y41: =I41 -> 0 | Z41: =M41&" "&N41&" "&O41 | AA41: =P41 -> 0 | AB41: =Q41 -> 0 | AC41: =R41 -> 0
C42: 5 | L42: 5 | U42: G5 | V42: =D42&" "&E42&" "&F42 | W42: =G42 -> 0 | X42: =H42 -> 0 | Y42: =I42 -> 0 | Z42: =M42&" "&N42&" "&O42 | AA42: =P42 -> 0 | AB42: =Q42 -> 0 | AC42: =R42 -> 0
A43: =IF(COUNTA(D43:F45)=9,1,0) -> 0 | B43: H | C43: 1 | J43: =IF(COUNTA(M43:O45)=9,1,0) -> 0 | K43: H | L43: 1 | U43: H1 | V43: =D43&" "&E43&" "&F43 | W43: =G43 -> 0 | X43: =H43 -> 0 | Y43: =I43 -> 0 | Z43: =M43&" "&N43&" "&O43 | AA43: =P43 -> 0 | AB43: =Q43 -> 0 | AC43: =R43 -> 0
C44: 2 | L44: 2 | U44: H2 | V44: =D44&" "&E44&" "&F44 | W44: =G44 -> 0 | X44: =H44 -> 0 | Y44: =I44 -> 0 | Z44: =M44&" "&N44&" "&O44 | AA44: =P44 -> 0 | AB44: =Q44 -> 0 | AC44: =R44 -> 0
C45: 3 | L45: 3 | U45: H3 | V45: =D45&" "&E45&" "&F45 | W45: =G45 -> 0 | X45: =H45 -> 0 | Y45: =I45 -> 0 | Z45: =M45&" "&N45&" "&O45 | AA45: =P45 -> 0 | AB45: =Q45 -> 0 | AC45: =R45 -> 0
C46: 4 | L46: 4 | U46: H4 | V46: =D46&" "&E46&" "&F46 | W46: =G46 -> 0 | X46: =H46 -> 0 | Y46: =I46 -> 0 | Z46: =M46&" "&N46&" "&O46 | AA46: =P46 -> 0 | AB46: =Q46 -> 0 | AC46: =R46 -> 0
C47: 5 | L47: 5 | U47: H5 | V47: =D47&" "&E47&" "&F47 | W47: =G47 -> 0 | X47: =H47 -> 0 | Y47: =I47 -> 0 | Z47: =M47&" "&N47&" "&O47 | AA47: =P47 -> 0 | AB47: =Q47 -> 0 | AC47: =R47 -> 0
A48: =IF(COUNTA(D48:F50)=9,1,0) -> 0 | B48: I | C48: 1 | J48: =IF(COUNTA(M48:O50)=9,1,0) -> 0 | K48: I | L48: 1 | U48: I1 | V48: =D48&" "&E48&" "&F48 | W48: =G48 -> 0 | X48: =H48 -> 0 | Y48: =I48 -> 0 | Z48: =M48&" "&N48&" "&O48 | AA48: =P48 -> 0 | AB48: =Q48 -> 0 | AC48: =R48 -> 0
C49: 2 | L49: 2 | U49: I2 | V49: =D49&" "&E49&" "&F49 | W49: =G49 -> 0 | X49: =H49 -> 0 | Y49: =I49 -> 0 | Z49: =M49&" "&N49&" "&O49 | AA49: =P49 -> 0 | AB49: =Q49 -> 0 | AC49: =R49 -> 0
C50: 3 | L50: 3 | U50: I3 | V50: =D50&" "&E50&" "&F50 | W50: =G50 -> 0 | X50: =H50 -> 0 | Y50: =I50 -> 0 | Z50: =M50&" "&N50&" "&O50 | AA50: =P50 -> 0 | AB50: =Q50 -> 0 | AC50: =R50 -> 0
C51: 4 | L51: 4 | U51: I4 | V51: =D51&" "&E51&" "&F51 | W51: =G51 -> 0 | X51: =H51 -> 0 | Y51: =I51 -> 0 | Z51: =M51&" "&N51&" "&O51 | AA51: =P51 -> 0 | AB51: =Q51 -> 0 | AC51: =R51 -> 0
C52: 5 | L52: 5 | U52: I5 | V52: =D52&" "&E52&" "&F52 | W52: =G52 -> 0 | X52: =H52 -> 0 | Y52: =I52 -> 0 | Z52: =M52&" "&N52&" "&O52 | AA52: =P52 -> 0 | AB52: =Q52 -> 0 | AC52: =R52 -> 0
A53: =IF(COUNTA(D53:F55)=9,1,0) -> 0 | B53: J | C53: 1 | J53: =IF(COUNTA(M53:O55)=9,1,0) -> 0 | K53: J | L53: 1 | U53: J1 | V53: =D53&" "&E53&" "&F53 | W53: =G53 -> 0 | X53: =H53 -> 0 | Y53: =I53 -> 0 | Z53: =M53&" "&N53&" "&O53 | AA53: =P53 -> 0 | AB53: =Q53 -> 0 | AC53: =R53 -> 0
C54: 2 | L54: 2 | U54: J2 | V54: =D54&" "&E54&" "&F54 | W54: =G54 -> 0 | X54: =H54 -> 0 | Y54: =I54 -> 0 | Z54: =M54&" "&N54&" "&O54 | AA54: =P54 -> 0 | AB54: =Q54 -> 0 | AC54: =R54 -> 0
C55: 3 | L55: 3 | U55: J3 | V55: =D55&" "&E55&" "&F55 | W55: =G55 -> 0 | X55: =H55 -> 0 | Y55: =I55 -> 0 | Z55: =M55&" "&N55&" "&O55 | AA55: =P55 -> 0 | AB55: =Q55 -> 0 | AC55: =R55 -> 0
C56: 4 | L56: 4 | U56: J4 | V56: =D56&" "&E56&" "&F56 | W56: =G56 -> 0 | X56: =H56 -> 0 | Y56: =I56 -> 0 | Z56: =M56&" "&N56&" "&O56 | AA56: =P56 -> 0 | AB56: =Q56 -> 0 | AC56: =R56 -> 0
C57: 5 | L57: 5 | U57: J5 | V57: =D57&" "&E57&" "&F57 | W57: =G57 -> 0 | X57: =H57 -> 0 | Y57: =I57 -> 0 | Z57: =M57&" "&N57&" "&O57 | AA57: =P57 -> 0 | AB57: =Q57 -> 0 | AC57: =R57 -> 0
A58: =IF(COUNTA(D58:F60)=9,1,0) -> 0 | B58: K | C58: 1 | J58: =IF(COUNTA(M58:O60)=9,1,0) -> 0 | K58: K | L58: 1 | U58: K1 | V58: =D58&" "&E58&" "&F58 | W58: =G58 -> 0 | X58: =H58 -> 0 | Y58: =I58 -> 0 | Z58: =M58&" "&N58&" "&O58 | AA58: =P58 -> 0 | AB58: =Q58 -> 0 | AC58: =R58 -> 0
C59: 2 | L59: 2 | U59: K2 | V59: =D59&" "&E59&" "&F59 | W59: =G59 -> 0 | X59: =H59 -> 0 | Y59: =I59 -> 0 | Z59: =M59&" "&N59&" "&O59 | AA59: =P59 -> 0 | AB59: =Q59 -> 0 | AC59: =R59 -> 0
C60: 3 | L60: 3 | U60: K3 | V60: =D60&" "&E60&" "&F60 | W60: =G60 -> 0 | X60: =H60 -> 0 | Y60: =I60 -> 0 | Z60: =M60&" "&N60&" "&O60 | AA60: =P60 -> 0 | AB60: =Q60 -> 0 | AC60: =R60 -> 0
C61: 4 | L61: 4 | U61: K4 | V61: =D61&" "&E61&" "&F61 | W61: =G61 -> 0 | X61: =H61 -> 0 | Y61: =I61 -> 0 | Z61: =M61&" "&N61&" "&O61 | AA61: =P61 -> 0 | AB61: =Q61 -> 0 | AC61: =R61 -> 0
C62: 5 | L62: 5 | U62: K5 | V62: =D62&" "&E62&" "&F62 | W62: =G62 -> 0 | X62: =H62 -> 0 | Y62: =I62 -> 0 | Z62: =M62&" "&N62&" "&O62 | AA62: =P62 -> 0 | AB62: =Q62 -> 0 | AC62: =R62 -> 0
A63: =IF(COUNTA(D63:F65)=9,1,0) -> 0 | B63: L | C63: 1 | J63: =IF(COUNTA(M63:O65)=9,1,0) -> 0 | K63: L | L63: 1 | U63: L1 | V63: =D63&" "&E63&" "&F63 | W63: =G63 -> 0 | X63: =H63 -> 0 | Y63: =I63 -> 0 | Z63: =M63&" "&N63&" "&O63 | AA63: =P63 -> 0 | AB63: =Q63 -> 0 | AC63: =R63 -> 0
C64: 2 | L64: 2 | U64: L2 | V64: =D64&" "&E64&" "&F64 | W64: =G64 -> 0 | X64: =H64 -> 0 | Y64: =I64 -> 0 | Z64: =M64&" "&N64&" "&O64 | AA64: =P64 -> 0 | AB64: =Q64 -> 0 | AC64: =R64 -> 0
C65: 3 | L65: 3 | U65: L3 | V65: =D65&" "&E65&" "&F65 | W65: =G65 -> 0 | X65: =H65 -> 0 | Y65: =I65 -> 0 | Z65: =M65&" "&N65&" "&O65 | AA65: =P65 -> 0 | AB65: =Q65 -> 0 | AC65: =R65 -> 0
C66: 4 | L66: 4 | U66: L4 | V66: =D66&" "&E66&" "&F66 | W66: =G66 -> 0 | X66: =H66 -> 0 | Y66: =I66 -> 0 | Z66: =M66&" "&N66&" "&O66 | AA66: =P66 -> 0 | AB66: =Q66 -> 0 | AC66: =R66 -> 0
C67: 5 | L67: 5 | U67: L5 | V67: =D67&" "&E67&" "&F67 | W67: =G67 -> 0 | X67: =H67 -> 0 | Y67: =I67 -> 0 | Z67: =M67&" "&N67&" "&O67 | AA67: =P67 -> 0 | AB67: =Q67 -> 0 | AC67: =R67 -> 0
A68: =IF(COUNTA(D68:F70)=9,1,0) -> 0 | B68: M | C68: 1 | J68: =IF(COUNTA(M68:O70)=9,1,0) -> 0 | K68: M | L68: 1 | U68: M1 | V68: =D68&" "&E68&" "&F68 | W68: =G68 -> 0 | X68: =H68 -> 0 | Y68: =I68 -> 0 | Z68: =M68&" "&N68&" "&O68 | AA68: =P68 -> 0 | AB68: =Q68 -> 0 | AC68: =R68 -> 0
C69: 2 | L69: 2 | U69: M2 | V69: =D69&" "&E69&" "&F69 | W69: =G69 -> 0 | X69: =H69 -> 0 | Y69: =I69 -> 0 | Z69: =M69&" "&N69&" "&O69 | AA69: =P69 -> 0 | AB69: =Q69 -> 0 | AC69: =R69 -> 0
C70: 3 | L70: 3 | U70: M3 | V70: =D70&" "&E70&" "&F70 | W70: =G70 -> 0 | X70: =H70 -> 0 | Y70: =I70 -> 0 | Z70: =M70&" "&N70&" "&O70 | AA70: =P70 -> 0 | AB70: =Q70 -> 0 | AC70: =R70 -> 0
C71: 4 | L71: 4 | U71: M4 | V71: =D71&" "&E71&" "&F71 | W71: =G71 -> 0 | X71: =H71 -> 0 | Y71: =I71 -> 0 | Z71: =M71&" "&N71&" "&O71 | AA71: =P71 -> 0 | AB71: =Q71 -> 0 | AC71: =R71 -> 0
C72: 5 | L72: 5 | U72: M5 | V72: =D72&" "&E72&" "&F72 | W72: =G72 -> 0 | X72: =H72 -> 0 | Y72: =I72 -> 0 | Z72: =M72&" "&N72&" "&O72 | AA72: =P72 -> 0 | AB72: =Q72 -> 0 | AC72: =R72 -> 0
A73: =IF(COUNTA(D73:F75)=9,1,0) -> 0 | B73: N | C73: 1 | J73: =IF(COUNTA(M73:O75)=9,1,0) -> 0 | K73: N | L73: 1 | U73: N1 | V73: =D73&" "&E73&" "&F73 | W73: =G73 -> 0 | X73: =H73 -> 0 | Y73: =I73 -> 0 | Z73: =M73&" "&N73&" "&O73 | AA73: =P73 -> 0 | AB73: =Q73 -> 0 | AC73: =R73 -> 0
C74: 2 | L74: 2 | U74: N2 | V74: =D74&" "&E74&" "&F74 | W74: =G74 -> 0 | X74: =H74 -> 0 | Y74: =I74 -> 0 | Z74: =M74&" "&N74&" "&O74 | AA74: =P74 -> 0 | AB74: =Q74 -> 0 | AC74: =R74 -> 0
C75: 3 | L75: 3 | U75: N3 | V75: =D75&" "&E75&" "&F75 | W75: =G75 -> 0 | X75: =H75 -> 0 | Y75: =I75 -> 0 | Z75: =M75&" "&N75&" "&O75 | AA75: =P75 -> 0 | AB75: =Q75 -> 0 | AC75: =R75 -> 0
C76: 4 | L76: 4 | U76: N4 | V76: =D76&" "&E76&" "&F76 | W76: =G76 -> 0 | X76: =H76 -> 0 | Y76: =I76 -> 0 | Z76: =M76&" "&N76&" "&O76 | AA76: =P76 -> 0 | AB76: =Q76 -> 0 | AC76: =R76 -> 0
C77: 5 | L77: 5 | U77: N5 | V77: =D77&" "&E77&" "&F77 | W77: =G77 -> 0 | X77: =H77 -> 0 | Y77: =I77 -> 0 | Z77: =M77&" "&N77&" "&O77 | AA77: =P77 -> 0 | AB77: =Q77 -> 0 | AC77: =R77 -> 0
A78: =IF(COUNTA(D78:F80)=9,1,0) -> 0 | B78: O | C78: 1 | J78: =IF(COUNTA(M78:O80)=9,1,0) -> 0 | K78: O | L78: 1 | U78: O1 | V78: =D78&" "&E78&" "&F78 | W78: =G78 -> 0 | X78: =H78 -> 0 | Y78: =I78 -> 0 | Z78: =M78&" "&N78&" "&O78 | AA78: =P78 -> 0 | AB78: =Q78 -> 0 | AC78: =R78 -> 0
C79: 2 | L79: 2 | U79: O2 | V79: =D79&" "&E79&" "&F79 | W79: =G79 -> 0 | X79: =H79 -> 0 | Y79: =I79 -> 0 | Z79: =M79&" "&N79&" "&O79 | AA79: =P79 -> 0 | AB79: =Q79 -> 0 | AC79: =R79 -> 0
C80: 3 | L80: 3 | U80: O3 | V80: =D80&" "&E80&" "&F80 | W80: =G80 -> 0 | X80: =H80 -> 0 | Y80: =I80 -> 0 | Z80: =M80&" "&N80&" "&O80 | AA80: =P80 -> 0 | AB80: =Q80 -> 0 | AC80: =R80 -> 0
C81: 4 | L81: 4 | U81: O4 | V81: =D81&" "&E81&" "&F81 | W81: =G81 -> 0 | X81: =H81 -> 0 | Y81: =I81 -> 0 | Z81: =M81&" "&N81&" "&O81 | AA81: =P81 -> 0 | AB81: =Q81 -> 0 | AC81: =R81 -> 0
C82: 5 | L82: 5 | U82: O5 | V82: =D82&" "&E82&" "&F82 | W82: =G82 -> 0 | X82: =H82 -> 0 | Y82: =I82 -> 0 | Z82: =M82&" "&N82&" "&O82 | AA82: =P82 -> 0 | AB82: =Q82 -> 0 | AC82: =R82 -> 0

Sheet シングルス（エントリー）
L1: ①
B2: 色のついたセルに必要事項を入力し、必ず上書き保存してください。 提出不要です。 | L2: ②
B5: 男子 | E5: 出場 | F5: =SUM(A7:A56) -> 0 | G5: 名 | I5: 女子 | L5: 出場 | M5: =SUM(H7:H56) -> 0 | N5: 名
B6: 順位 | C6: 姓 | D6: 名 | E6: 学年 | F6: ポイント | G6: 備考 | I6: 順位 | J6: 姓 | K6: 名 | L6: 学年 | M6: ポイント | N6: 備考
A7: =IF(COUNTA(C7:E7)=3,1,0) -> 0 | B7: 1 | H7: =IF(COUNTA(J7:L7)=3,1,0) -> 0 | I7: 1
A8: =IF(COUNTA(C8:E8)=3,1,0) -> 0 | B8: 2 | H8: =IF(COUNTA(J8:L8)=3,1,0) -> 0 | I8: 2
A9: =IF(COUNTA(C9:E9)=3,1,0) -> 0 | B9: 3 | H9: =IF(COUNTA(J9:L9)=3,1,0) -> 0 | I9: 3
A10: =IF(COUNTA(C10:E10)=3,1,0) -> 0 | B10: 4 | H10: =IF(COUNTA(J10:L10)=3,1,0) -> 0 | I10: 4
A11: =IF(COUNTA(C11:E11)=3,1,0) -> 0 | B11: 5 | H11: =IF(COUNTA(J11:L11)=3,1,0) -> 0 | I11: 5
A12: =IF(COUNTA(C12:E12)=3,1,0) -> 0 | B12: 6 | H12: =IF(COUNTA(J12:L12)=3,1,0) -> 0 | I12: 6
A13: =IF(COUNTA(C13:E13)=3,1,0) -> 0 | B13: 7 | H13: =IF(COUNTA(J13:L13)=3,1,0) -> 0 | I13: 7
A14: =IF(COUNTA(C14:E14)=3,1,0) -> 0 | B14: 8 | H14: =IF(COUNTA(J14:L14)=3,1,0) -> 0 | I14: 8
A15: =IF(COUNTA(C15:E15)=3,1,0) -> 0 | B15: 9 | H15: =IF(COUNTA(J15:L15)=3,1,0) -> 0 | I15: 9
A16: =IF(COUNTA(C16:E16)=3,1,0) -> 0 | B16: 10 | H16: =IF(COUNTA(J16:L16)=3,1,0) -> 0 | I16: 10
A17: =IF(COUNTA(C17:E17)=3,1,0) -> 0 | B17: 11 | H17: =IF(COUNTA(J17:L17)=3,1,0) -> 0 | I17: 11
A18: =IF(COUNTA(C18:E18)=3,1,0) -> 0 | B18: 12 | H18: =IF(COUNTA(J18:L18)=3,1,0) -> 0 | I18: 12
... A71: =IF(COUNTA(C71:E71)=3,1,0) -> 0 | B71: 65 | H71: =IF(COUNTA(J71:L71)=3,1,0) -> 0 | I71: 65

Sheet ダブルス（エントリー）
M1: ①
C2: 色のついたセルに必要事項を入力し、必ず上書き保存してください。 提出不要です。 | M2: ②
C5: 男子 | F5: 出場 | G5: =SUM(B7:B106) -> 0 | H5: 組 | J5: 女子 | M5: 出場 | N5: =SUM(I7:I106) -> 0 | O5: 組
C6: 順位 | D6: 姓 | E6: 名 | F6: 学年 | G6: ポイント | H6: 備考 | J6: 順位 | K6: 姓 | L6: 名 | M6: 学年 | N6: ポイント | O6: 備考
B7: =IF(COUNTA(D7:F8)=6,1,0) -> 0 | C7: 1 | I7: =IF(COUNTA(K7:M8)=6,1,0) -> 0 | J7: 1
B9: =IF(COUNTA(D9:F10)=6,1,0) -> 0 | C9: 2 | I9: =IF(COUNTA(K9:M10)=6,1,0) -> 0 | J9: 2
B11: =IF(COUNTA(D11:F12)=6,1,0) -> 0 | C11: 3 | I11: =IF(COUNTA(K11:M12)=6,1,0) -> 0 | J11: 3
B13: =IF(COUNTA(D13:F14)=6,1,0) -> 0 | C13: 4 | I13: =IF(COUNTA(K13:M14)=6,1,0) -> 0 | J13: 4
B15: =IF(COUNTA(D15:F16)=6,1,0) -> 0 | C15: 5 | I15: =IF(COUNTA(K15:M16)=6,1,0) -> 0 | J15: 5
B17: =IF(COUNTA(D17:F18)=6,1,0) -> 0 | C17: 6 | I17: =IF(COUNTA(K17:M18)=6,1,0) -> 0 | J17: 6
B19: =IF(COUNTA(D19:F20)=6,1,0) -> 0 | C19: 7 | I19: =IF(COUNTA(K19:M20)=6,1,0) -> 0 | J19: 7
B21: =IF(COUNTA(D21:F22)=6,1,0) -> 0 | C21: 8 | I21: =IF(COUNTA(K21:M22)=6,1,0) -> 0 | J21: 8
B23: =IF(COUNTA(D23:F24)=6,1,0) -> 0 | C23: 9 | I23: =IF(COUNTA(K23:M24)=6,1,0) -> 0 | J23: 9
B25: =IF(COUNTA(D25:F26)=6,1,0) -> 0 | C25: 10 | I25: =IF(COUNTA(K25:M26)=6,1,0) -> 0 | J25: 10
B27: =IF(COUNTA(D27:F28)=6,1,0) -> 0 | C27: 11 | I27: =IF(COUNTA(K27:M28)=6,1,0) -> 0 | J27: 11
B29: =IF(COUNTA(D29:F30)=6,1,0) -> 0 | C29: 12 | I29: =IF(COUNTA(K29:M30)=6,1,0) -> 0 | J29: 12
... B105: =IF(COUNTA(D105:F106)=6,1,0) -> 0 | C105: 50 | I105: =IF(COUNTA(K105:M106)=6,1,0) -> 0 | J105: 50

Sheet FAX送信用紙
B2: 水色のセルに必要事項を入力し、プリントアウトして下さい。 手書き不可！！
B5: 大阪体育大学浪商高等学校 外国語科 辻 博規 宛 (FAX 072-453-7002)
B8: 第２０回 第４学区テニス大会 FAX送信用紙
B10: 学校名 | H10: 学校番号 | I10: =学校番号 -> 0
B11: =はじめにお読みください!E7 -> 0 | H11: =NOW() -> 46135.431
B12: 表示名 | F12: 記載責任者（顧問）
B13: =はじめにお読みください!E8 -> 0 | F13: =記載責任者 -> 0
F14: 緊急連絡先（すぐに連絡のつく電話番号）
F15: =緊急連絡先 -> 0
C17: シングルス | D17: 予備 | E17: 予備
C18: 46397 | D18: =C18+1 -> 46398 | E18: 46403
B19: 男子（面数）
B20: 女子（面数）
B21: 備考
B23: 出場数（団体の部） | F23: 入金額
B24: 男子 | C24: ='団体（エントリー）'!H5 -> 0 | D24: チーム | F24: =C26*3300+C31*1200 -> 0 | I24: 円
B25: 女子 | C25: ='団体（エントリー）'!Q5 -> 0 | D25: チーム
B26: 計 | C26: =SUM(C24:C25) -> 0 | D26: チーム
B28: シングルスの部 | F28: ＜領収書貼り付け欄＞ 領収書などの振り込んだ金額が 確認できるものを貼り付けてください。 ネットバンキングなどによる入金の 場合は、その記録をプリントアウトした ものを別紙にてFAXしてください。
B29: 男子 | C29: ='シングルス（エントリー）'!F5 -> 0 | D29: 名
B30: 女子 | C30: ='シングルス（エントリー）'!M5 -> 0 | D30: 名
B31: 計 | C31: =SUM(C29:C30) -> 0 | D31: 名
L33: ダブルスの部
L34: 男子 | M34: ='ダブルス（エントリー）'!G5 -> 0 | N34: 組
L35: 女子 | M35: ='ダブルス（エントリー）'!N5 -> 0 | N35: 組
L36: 計 | M36: =SUM(M34:M35) -> 0 | N36: 組
B38: 締切（FAX、データとも）
B39: １１月２６日（木）
B42: 【電子データ送信先】
B43: 4gakku＠osaka-hs-tennis.com

Sheet データ※触らないでください
AM3: 2 | AN3: 2 | AO3: 2 | AP3: 2 | AQ3: 2 | AR3: 3 | AS3: 3 | AT3: 3 | AU3: 3 | AV3: 3 | AW3: 4 | AX3: 4 | AY3: 4 | AZ3: 4 | BA3: 4 | BB3: 5 | BC3: 5 | BD3: 5 | BE3: 5 | BF3: 5 | BJ3: 6 | BK3: 6 | BL3: 6 | BM3: 6 | BN3: 6 | BO3: 7 | BP3: 7 | BQ3: 7 | BR3: 7 | BS3: 7 | BT3: 8 | BU3: 8 | BV3: 8 | BW3: 8 | BX3: 8 | BY3: 9 | BZ3: 9 | CA3: 9 | CB3: 9 | CC3: 9
B4: S | H4: シングルス（女子） | O4: D | Y4: ダブルス（女子） | AJ4: T | AM4: 1 | AN4: 2 | AO4: 3 | AP4: 4 | AQ4: 5 | AR4: 1 | AS4: 2 | AT4: 3 | AU4: 4 | AV4: 5 | AW4: 1 | AX4: 2 | AY4: 3 | AZ4: 4 | BA4: 5 | BB4: 1 | BC4: 2 | BD4: 3 | BE4: 4 | BF4: 5 | BG4: 団体（女子） | BJ4: 1 | BK4: 2 | BL4: 3 | BM4: 4 | BN4: 5 | BO4: 1 | BP4: 2 | BQ4: 3 | BR4: 4 | BS4: 5 | BT4: 1 | BU4: 2 | BV4: 3 | BW4: 4 | BX4: 5 | BY4: 1 | BZ4: 2 | CA4: 3 | CB4: 4 | CC4: 5
B5: 学校番号 | C5: 男子 | D5: 名前・学年 | E5: 学校名 | F5: ポイント | G5: 備考 | H5: 学校番号 | I5: 女子 | J5: 名前・学年 | K5: 学校名 | L5: ポイント | M5: 備考 | O5: 学校番号 | P5: 学校名 | Q5: 順位 | R5: 氏名① | S5: ポイント① | T5: 備考① | U5: 氏名② | V5: ポイント② | W5: 備考② | X5: ポイント計 | Y5: 学校番号 | Z5: 学校名 | AA5: 順位 | AB5: 氏名① | AC5: ポイント① | AD5: 備考① | AE5: 氏名② | AF5: ポイント② | AG5: 備考② | AH5: ポイント計 | AJ5: 学校番号 | AK5: 学校名 | AL5: チーム | AM5: No.1 | AN5: No.2 | AO5: No.3 | AP5: No.4 | AQ5: No.5 | AR5: ポイント① | AS5: ポイント② | AT5: ポイント③ | AU5: ポイント④ | AV5: ポイント⑤ | AW5: 連絡先１ | AX5: 連絡先２ | AY5: 連絡先３ | AZ5: 連絡先４ | BA5: 連絡先５ | BB5: 備考１ | BC5: 備考２ | BD5: 備考３ | BE5: 備考４ | BF5: 備考５ | BG5: 学校番号 | BH5: 学校名 | BI5: チーム | BJ5: No.1 | BK5: No.2 | BL5: No.3 | BM5: No.4 | BN5: No.5 | BO5: ポイント① | BP5: ポイント② | BQ5: ポイント③ | BR5: ポイント④ | BS5: ポイント⑤ | BT5: 連絡先１ | BU5: 連絡先２ | BV5: 連絡先３ | BW5: 連絡先４ | BX5: 連絡先５ | BY5: 備考１ | BZ5: 備考２ | CA5: 備考３ | CB5: 備考４ | CC5: 備考５
B6: =学校番号 -> 0 | C6: BS-01 | D6: ='シングルス（エントリー）'!C7&" "&'シングルス（エントリー）'!D7&" "&'シングルス（エントリー）'!E7 | E6: =表示名 -> 0 | F6: ='シングルス（エントリー）'!F7 -> 0 | G6: ='シングルス（エントリー）'!G7 -> 0 | H6: =学校番号 -> 0 | I6: GS-01 | J6: ='シングルス（エントリー）'!J7&" "&'シングルス（エントリー）'!K7&" "&'シングルス（エントリー）'!L7 | K6: =表示名 -> 0 | L6: ='シングルス（エントリー）'!M7 -> 0 | M6: ='シングルス（エントリー）'!N7 -> 0 | O6: =学校番号 -> 0 | P6: =表示名 -> 0 | Q6: BD-01 | R6: ='ダブルス（エントリー）'!D7&" "&'ダブルス（エントリー）'!E7&" "&'ダブルス（エントリー）'!F7 | S6: ='ダブルス（エントリー）'!G7 -> 0 | T6: ='ダブルス（エントリー）'!H7 -> 0 | U6: ='ダブルス（エントリー）'!D8&" "&'ダブルス（エントリー）'!E8&" "&'ダブルス（エントリー）'!F8 | V6: ='ダブルス（エントリー）'!G8 -> 0 | W6: ='ダブルス（エントリー）'!H8 -> 0 | X6: =S6+V6 -> 0 | Y6: =学校番号 -> 0 | Z6: =表示名 -> 0 | AA6: BD-01 | AB6: ='ダブルス（エントリー）'!K7&" "&'ダブルス（エントリー）'!L7&" "&'ダブルス（エントリー）'!M7 | AC6: ='ダブルス（エントリー）'!N7 -> 0 | AD6: ='ダブルス（エントリー）'!O7 -> 0 | AE6: ='ダブルス（エントリー）'!K8&" "&'ダブルス（エントリー）'!L8&" "&'ダブルス（エントリー）'!M8 | AF6: ='ダブルス（エントリー）'!N8 -> 0 | AG6: ='ダブルス（エントリー）'!O8 -> 0 | AH6: =AC6+AF6 -> 0 | AJ6: =学校番号 -> 0 | AK6: =表示名 -> 0 | AL6: A | AM6: =VLOOKUP($AL6&AM$4,'団体（エントリー）'!$U$7:$AC$82,データ※触らないでください!AM$3,FALSE) | AN6: =VLOOKUP($AL6&AN$4,'団体（エントリー）'!$U$7:$AC$82,データ※触らないでください!AN$3,FALSE) | AO6: =VLOOKUP($AL6&AO$4,'団体（エントリー）'!$U$7:$AC$82,データ※触らないでください!AO$3,FALSE) | AP6: =VLOOKUP($AL6&AP$4,'団体（エントリー）'!$U$7:$AC$82,データ※触らないでください!AP$3,FALSE) | AQ6: =VLOOKUP($AL6&AQ$4,'団体（エントリー）'!$U$7:$AC$82,データ※触らないでください!AQ$3,FALSE) | AR6: =VLOOKUP($AL6&AR$4,'団体（エントリー）'!$U$7:$AC$82,データ※触らないでください!AR$3,FALSE) -> 0 | AS6: =VLOOKUP($AL6&AS$4,'団体（エントリー）'!$U$7:$AC$82,データ※触らないでください!AS$3,FALSE) -> 0 | AT6: =VLOOKUP($AL6&AT$4,'団体（エントリー）'!$U$7:$AC$82,データ※触らないでください!AT$3,FALSE) -> 0 | ... BF6: =VLOOKUP($AL6&BF$4,'団体（エントリー）'!$U$7:$AC$82,データ※触らないでください!BF$3,FALSE) -> 0 | BG6: =学校番号 -> 0 | BH6: =表示名 -> 0 | BI6: A | BJ6: =VLOOKUP($AL6&BJ$4,'団体（エントリー）'!$U$7:$AC$82,データ※触らないでください!BJ$3,FALSE) | BK6: =VLOOKUP($AL6&BK$4,'団体（エントリー）'!$U$7:$AC$82,データ※触らないでください!BK$3,FALSE) | BL6: =VLOOKUP($AL6&BL$4,'団体（エントリー）'!$U$7:$AC$82,データ※触らないでください!BL$3,FALSE) | BM6: =VLOOKUP($AL6&BM$4,'団体（エントリー）'!$U$7:$AC$82,データ※触らないでください!BM$3,FALSE) | BN6: =VLOOKUP($AL6&BN$4,'団体（エントリー）'!$U$7:$AC$82,データ※触らないでください!BN$3,FALSE) | BO6: =VLOOKUP($AL6&BO$4,'団体（エントリー）'!$U$7:$AC$82,データ※触らないでください!BO$3,FALSE) -> 0 | BP6: =VLOOKUP($AL6&BP$4,'団体（エントリー）'!$U$7:$AC$82,データ※触らないでください!BP$3,FALSE) -> 0 | BQ6: =VLOOKUP($AL6&BQ$4,'団体（エントリー）'!$U$7:$AC$82,データ※触らないでください!BQ$3,FALSE) -> 0 | ... CC6: =VLOOKUP($AL6&CC$4,'団体（エントリー）'!$U$7:$AC$82,データ※触らないでください!CC$3,FALSE) -> 0
B7: =学校番号 -> 0 | C7: BS-02 | D7: ='シングルス（エントリー）'!C8&" "&'シングルス（エントリー）'!D8&" "&'シングルス（エントリー）'!E8 | E7: =表示名 -> 0 | F7: ='シングルス（エントリー）'!F8 -> 0 | G7: ='シングルス（エントリー）'!G8 -> 0 | H7: =学校番号 -> 0 | I7: GS-02 | J7: ='シングルス（エントリー）'!J8&" "&'シングルス（エントリー）'!K8&" "&'シングルス（エントリー）'!L8 | K7: =表示名 -> 0 | L7: ='シングルス（エントリー）'!M8 -> 0 | M7: ='シングルス（エントリー）'!N8 -> 0 | O7: =学校番号 -> 0 | P7: =表示名 -> 0 | Q7: BD-02 | R7: ='ダブルス（エントリー）'!D9&" "&'ダブルス（エントリー）'!E9&" "&'ダブルス（エントリー）'!F9 | S7: ='ダブルス（エントリー）'!G9 -> 0 | T7: ='ダブルス（エントリー）'!H9 -> 0 | U7: ='ダブルス（エントリー）'!D10&" "&'ダブルス（エントリー）'!E10&" "&'ダブルス（エントリー）'!F10 | V7: ='ダブルス（エントリー）'!G10 -> 0 | W7: ='ダブルス（エントリー）'!H10 -> 0 | X7: =S7+V7 -> 0 | Y7: =学校番号 -> 0 | Z7: =表示名 -> 0 | AA7: BD-02 | AB7: ='ダブルス（エントリー）'!K9&" "&'ダブルス（エントリー）'!L9&" "&'ダブルス（エントリー）'!M9 | AC7: ='ダブルス（エントリー）'!N9 -> 0 | AD7: ='ダブルス（エントリー）'!O9 -> 0 | AE7: ='ダブルス（エントリー）'!K10&" "&'ダブルス（エントリー）'!L10&" "&'ダブルス（エントリー）'!M10 | AF7: ='ダブルス（エントリー）'!N10 -> 0 | AG7: ='ダブルス（エントリー）'!O10 -> 0 | AH7: =AC7+AF7 -> 0 | AJ7: =学校番号 -> 0 | AK7: =表示名 -> 0 | AL7: B | AM7: =VLOOKUP($AL7&AM$4,'団体（エントリー）'!$U$7:$AC$82,データ※触らないでください!AM$3,FALSE) | AN7: =VLOOKUP($AL7&AN$4,'団体（エントリー）'!$U$7:$AC$82,データ※触らないでください!AN$3,FALSE) | AO7: =VLOOKUP($AL7&AO$4,'団体（エントリー）'!$U$7:$AC$82,データ※触らないでください!AO$3,FALSE) | AP7: =VLOOKUP($AL7&AP$4,'団体（エントリー）'!$U$7:$AC$82,データ※触らないでください!AP$3,FALSE) | AQ7: =VLOOKUP($AL7&AQ$4,'団体（エントリー）'!$U$7:$AC$82,データ※触らないでください!AQ$3,FALSE) | AR7: =VLOOKUP($AL7&AR$4,'団体（エントリー）'!$U$7:$AC$82,データ※触らないでください!AR$3,FALSE) -> 0 | AS7: =VLOOKUP($AL7&AS$4,'団体（エントリー）'!$U$7:$AC$82,データ※触らないでください!AS$3,FALSE) -> 0 | AT7: =VLOOKUP($AL7&AT$4,'団体（エントリー）'!$U$7:$AC$82,データ※触らないでください!AT$3,FALSE) -> 0 | ... BF7: =VLOOKUP($AL7&BF$4,'団体（エントリー）'!$U$7:$AC$82,データ※触らないでください!BF$3,FALSE) -> 0 | BG7: =学校番号 -> 0 | BH7: =表示名 -> 0 | BI7: B | BJ7: =VLOOKUP($AL7&BJ$4,'団体（エントリー）'!$U$7:$AC$82,データ※触らないでください!BJ$3,FALSE) | BK7: =VLOOKUP($AL7&BK$4,'団体（エントリー）'!$U$7:$AC$82,データ※触らないでください!BK$3,FALSE) | BL7: =VLOOKUP($AL7&BL$4,'団体（エントリー）'!$U$7:$AC$82,データ※触らないでください!BL$3,FALSE) | BM7: =VLOOKUP($AL7&BM$4,'団体（エントリー）'!$U$7:$AC$82,データ※触らないでください!BM$3,FALSE) | BN7: =VLOOKUP($AL7&BN$4,'団体（エントリー）'!$U$7:$AC$82,データ※触らないでください!BN$3,FALSE) | BO7: =VLOOKUP($AL7&BO$4,'団体（エントリー）'!$U$7:$AC$82,データ※触らないでください!BO$3,FALSE) -> 0 | BP7: =VLOOKUP($AL7&BP$4,'団体（エントリー）'!$U$7:$AC$82,データ※触らないでください!BP$3,FALSE) -> 0 | BQ7: =VLOOKUP($AL7&BQ$4,'団体（エントリー）'!$U$7:$AC$82,データ※触らないでください!BQ$3,FALSE) -> 0 | ... CC7: =VLOOKUP($AL7&CC$4,'団体（エントリー）'!$U$7:$AC$82,データ※触らないでください!CC$3,FALSE) -> 0
B8: =学校番号 -> 0 | C8: BS-03 | D8: ='シングルス（エントリー）'!C9&" "&'シングルス（エントリー）'!D9&" "&'シングルス（エントリー）'!E9 | E8: =表示名 -> 0 | F8: ='シングルス（エントリー）'!F9 -> 0 | G8: ='シングルス（エントリー）'!G9 -> 0 | H8: =学校番号 -> 0 | I8: GS-03 | J8: ='シングルス（エントリー）'!J9&" "&'シングルス（エントリー）'!K9&" "&'シングルス（エントリー）'!L9 | K8: =表示名 -> 0 | L8: ='シングルス（エントリー）'!M9 -> 0 | M8: ='シングルス（エントリー）'!N9 -> 0 | O8: =学校番号 -> 0 | P8: =表示名 -> 0 | Q8: BD-03 | R8: ='ダブルス（エントリー）'!D11&" "&'ダブルス（エントリー）'!E11&" "&'ダブルス（エントリー）'!F11 | S8: ='ダブルス（エントリー）'!G11 -> 0 | T8: ='ダブルス（エントリー）'!H11 -> 0 | U8: ='ダブルス（エントリー）'!D12&" "&'ダブルス（エントリー）'!E12&" "&'ダブルス（エントリー）'!F12 | V8: ='ダブルス（エントリー）'!G12 -> 0 | W8: ='ダブルス（エントリー）'!H12 -> 0 | X8: =S8+V8 -> 0 | Y8: =学校番号 -> 0 | Z8: =表示名 -> 0 | AA8: BD-03 | AB8: ='ダブルス（エントリー）'!K11&" "&'ダブルス（エントリー）'!L11&" "&'ダブルス（エントリー）'!M11 | AC8: ='ダブルス（エントリー）'!N11 -> 0 | AD8: ='ダブルス（エントリー）'!O11 -> 0 | AE8: ='ダブルス（エントリー）'!K12&" "&'ダブルス（エントリー）'!L12&" "&'ダブルス（エントリー）'!M12 | AF8: ='ダブルス（エントリー）'!N12 -> 0 | AG8: ='ダブルス（エントリー）'!O12 -> 0 | AH8: =AC8+AF8 -> 0 | AJ8: =学校番号 -> 0 | AK8: =表示名 -> 0 | AL8: C | AM8: =VLOOKUP($AL8&AM$4,'団体（エントリー）'!$U$7:$AC$82,データ※触らないでください!AM$3,FALSE) | AN8: =VLOOKUP($AL8&AN$4,'団体（エントリー）'!$U$7:$AC$82,データ※触らないでください!AN$3,FALSE) | AO8: =VLOOKUP($AL8&AO$4,'団体（エントリー）'!$U$7:$AC$82,データ※触らないでください!AO$3,FALSE) | AP8: =VLOOKUP($AL8&AP$4,'団体（エントリー）'!$U$7:$AC$82,データ※触らないでください!AP$3,FALSE) | AQ8: =VLOOKUP($AL8&AQ$4,'団体（エントリー）'!$U$7:$AC$82,データ※触らないでください!AQ$3,FALSE) | AR8: =VLOOKUP($AL8&AR$4,'団体（エントリー）'!$U$7:$AC$82,データ※触らないでください!AR$3,FALSE) -> 0 | AS8: =VLOOKUP($AL8&AS$4,'団体（エントリー）'!$U$7:$AC$82,データ※触らないでください!AS$3,FALSE) -> 0 | AT8: =VLOOKUP($AL8&AT$4,'団体（エントリー）'!$U$7:$AC$82,データ※触らないでください!AT$3,FALSE) -> 0 | ... BF8: =VLOOKUP($AL8&BF$4,'団体（エントリー）'!$U$7:$AC$82,データ※触らないでください!BF$3,FALSE) -> 0 | BG8: =学校番号 -> 0 | BH8: =表示名 -> 0 | BI8: C | BJ8: =VLOOKUP($AL8&BJ$4,'団体（エントリー）'!$U$7:$AC$82,データ※触らないでください!BJ$3,FALSE) | BK8: =VLOOKUP($AL8&BK$4,'団体（エントリー）'!$U$7:$AC$82,データ※触らないでください!BK$3,FALSE) | BL8: =VLOOKUP($AL8&BL$4,'団体（エントリー）'!$U$7:$AC$82,データ※触らないでください!BL$3,FALSE) | BM8: =VLOOKUP($AL8&BM$4,'団体（エントリー）'!$U$7:$AC$82,データ※触らないでください!BM$3,FALSE) | BN8: =VLOOKUP($AL8&BN$4,'団体（エントリー）'!$U$7:$AC$82,データ※触らないでください!BN$3,FALSE) | BO8: =VLOOKUP($AL8&BO$4,'団体（エントリー）'!$U$7:$AC$82,データ※触らないでください!BO$3,FALSE) -> 0 | BP8: =VLOOKUP($AL8&BP$4,'団体（エントリー）'!$U$7:$AC$82,データ※触らないでください!BP$3,FALSE) -> 0 | BQ8: =VLOOKUP($AL8&BQ$4,'団体（エントリー）'!$U$7:$AC$82,データ※触らないでください!BQ$3,FALSE) -> 0 | ... CC8: =VLOOKUP($AL8&CC$4,'団体（エントリー）'!$U$7:$AC$82,データ※触らないでください!CC$3,FALSE) -> 0
B9: =学校番号 -> 0 | C9: BS-04 | D9: ='シングルス（エントリー）'!C10&" "&'シングルス（エントリー）'!D10&" "&'シングルス（エントリー）'!E10 | E9: =表示名 -> 0 | F9: ='シングルス（エントリー）'!F10 -> 0 | G9: ='シングルス（エントリー）'!G10 -> 0 | H9: =学校番号 -> 0 | I9: GS-04 | J9: ='シングルス（エントリー）'!J10&" "&'シングルス（エントリー）'!K10&" "&'シングルス（エントリー）'!L10 | K9: =表示名 -> 0 | L9: ='シングルス（エントリー）'!M10 -> 0 | M9: ='シングルス（エントリー）'!N10 -> 0 | O9: =学校番号 -> 0 | P9: =表示名 -> 0 | Q9: BD-04 | R9: ='ダブルス（エントリー）'!D13&" "&'ダブルス（エントリー）'!E13&" "&'ダブルス（エントリー）'!F13 | S9: ='ダブルス（エントリー）'!G13 -> 0 | T9: ='ダブルス（エントリー）'!H13 -> 0 | U9: ='ダブルス（エントリー）'!D14&" "&'ダブルス（エントリー）'!E14&" "&'ダブルス（エントリー）'!F14 | V9: ='ダブルス（エントリー）'!G14 -> 0 | W9: ='ダブルス（エントリー）'!H14 -> 0 | X9: =S9+V9 -> 0 | Y9: =学校番号 -> 0 | Z9: =表示名 -> 0 | AA9: BD-04 | AB9: ='ダブルス（エントリー）'!K13&" "&'ダブルス（エントリー）'!L13&" "&'ダブルス（エントリー）'!M13 | AC9: ='ダブルス（エントリー）'!N13 -> 0 | AD9: ='ダブルス（エントリー）'!O13 -> 0 | AE9: ='ダブルス（エントリー）'!K14&" "&'ダブルス（エントリー）'!L14&" "&'ダブルス（エントリー）'!M14 | AF9: ='ダブルス（エントリー）'!N14 -> 0 | AG9: ='ダブルス（エントリー）'!O14 -> 0 | AH9: =AC9+AF9 -> 0 | AJ9: =学校番号 -> 0 | AK9: =表示名 -> 0 | AL9: D | AM9: =VLOOKUP($AL9&AM$4,'団体（エントリー）'!$U$7:$AC$82,データ※触らないでください!AM$3,FALSE) | AN9: =VLOOKUP($AL9&AN$4,'団体（エントリー）'!$U$7:$AC$82,データ※触らないでください!AN$3,FALSE) | AO9: =VLOOKUP($AL9&AO$4,'団体（エントリー）'!$U$7:$AC$82,データ※触らないでください!AO$3,FALSE) | AP9: =VLOOKUP($AL9&AP$4,'団体（エントリー）'!$U$7:$AC$82,データ※触らないでください!AP$3,FALSE) | AQ9: =VLOOKUP($AL9&AQ$4,'団体（エントリー）'!$U$7:$AC$82,データ※触らないでください!AQ$3,FALSE) | AR9: =VLOOKUP($AL9&AR$4,'団体（エントリー）'!$U$7:$AC$82,データ※触らないでください!AR$3,FALSE) -> 0 | AS9: =VLOOKUP($AL9&AS$4,'団体（エントリー）'!$U$7:$AC$82,データ※触らないでください!AS$3,FALSE) -> 0 | AT9: =VLOOKUP($AL9&AT$4,'団体（エントリー）'!$U$7:$AC$82,データ※触らないでください!AT$3,FALSE) -> 0 | ... BF9: =VLOOKUP($AL9&BF$4,'団体（エントリー）'!$U$7:$AC$82,データ※触らないでください!BF$3,FALSE) -> 0 | BG9: =学校番号 -> 0 | BH9: =表示名 -> 0 | BI9: D | BJ9: =VLOOKUP($AL9&BJ$4,'団体（エントリー）'!$U$7:$AC$82,データ※触らないでください!BJ$3,FALSE) | BK9: =VLOOKUP($AL9&BK$4,'団体（エントリー）'!$U$7:$AC$82,データ※触らないでください!BK$3,FALSE) | BL9: =VLOOKUP($AL9&BL$4,'団体（エントリー）'!$U$7:$AC$82,データ※触らないでください!BL$3,FALSE) | BM9: =VLOOKUP($AL9&BM$4,'団体（エントリー）'!$U$7:$AC$82,データ※触らないでください!BM$3,FALSE) | BN9: =VLOOKUP($AL9&BN$4,'団体（エントリー）'!$U$7:$AC$82,データ※触らないでください!BN$3,FALSE) | BO9: =VLOOKUP($AL9&BO$4,'団体（エントリー）'!$U$7:$AC$82,データ※触らないでください!BO$3,FALSE) -> 0 | BP9: =VLOOKUP($AL9&BP$4,'団体（エントリー）'!$U$7:$AC$82,データ※触らないでください!BP$3,FALSE) -> 0 | BQ9: =VLOOKUP($AL9&BQ$4,'団体（エントリー）'!$U$7:$AC$82,データ※触らないでください!BQ$3,FALSE) -> 0 | ... CC9: =VLOOKUP($AL9&CC$4,'団体（エントリー）'!$U$7:$AC$82,データ※触らないでください!CC$3,FALSE) -> 0
B10: =学校番号 -> 0 | C10: BS-05 | D10: ='シングルス（エントリー）'!C11&" "&'シングルス（エントリー）'!D11&" "&'シングルス（エントリー）'!E11 | E10: =表示名 -> 0 | F10: ='シングルス（エントリー）'!F11 -> 0 | G10: ='シングルス（エントリー）'!G11 -> 0 | H10: =学校番号 -> 0 | I10: GS-05 | J10: ='シングルス（エントリー）'!J11&" "&'シングルス（エントリー）'!K11&" "&'シングルス（エントリー）'!L11 | K10: =表示名 -> 0 | L10: ='シングルス（エントリー）'!M11 -> 0 | M10: ='シングルス（エントリー）'!N11 -> 0 | O10: =学校番号 -> 0 | P10: =表示名 -> 0 | Q10: BD-05 | R10: ='ダブルス（エントリー）'!D15&" "&'ダブルス（エントリー）'!E15&" "&'ダブルス（エントリー）'!F15 | S10: ='ダブルス（エントリー）'!G15 -> 0 | T10: ='ダブルス（エントリー）'!H15 -> 0 | U10: ='ダブルス（エントリー）'!D16&" "&'ダブルス（エントリー）'!E16&" "&'ダブルス（エントリー）'!F16 | V10: ='ダブルス（エントリー）'!G16 -> 0 | W10: ='ダブルス（エントリー）'!H16 -> 0 | X10: =S10+V10 -> 0 | Y10: =学校番号 -> 0 | Z10: =表示名 -> 0 | AA10: BD-05 | AB10: ='ダブルス（エントリー）'!K15&" "&'ダブルス（エントリー）'!L15&" "&'ダブルス（エントリー）'!M15 | AC10: ='ダブルス（エントリー）'!N15 -> 0 | AD10: ='ダブルス（エントリー）'!O15 -> 0 | AE10: ='ダブルス（エントリー）'!K16&" "&'ダブルス（エントリー）'!L16&" "&'ダブルス（エントリー）'!M16 | AF10: ='ダブルス（エントリー）'!N16 -> 0 | AG10: ='ダブルス（エントリー）'!O16 -> 0 | AH10: =AC10+AF10 -> 0 | AJ10: =学校番号 -> 0 | AK10: =表示名 -> 0 | AL10: E | AM10: =VLOOKUP($AL10&AM$4,'団体（エントリー）'!$U$7:$AC$82,データ※触らないでください!AM$3,FALSE) | AN10: =VLOOKUP($AL10&AN$4,'団体（エントリー）'!$U$7:$AC$82,データ※触らないでください!AN$3,FALSE) | AO10: =VLOOKUP($AL10&AO$4,'団体（エントリー）'!$U$7:$AC$82,データ※触らないでください!AO$3,FALSE) | AP10: =VLOOKUP($AL10&AP$4,'団体（エントリー）'!$U$7:$AC$82,データ※触らないでください!AP$3,FALSE) | AQ10: =VLOOKUP($AL10&AQ$4,'団体（エントリー）'!$U$7:$AC$82,データ※触らないでください!AQ$3,FALSE) | AR10: =VLOOKUP($AL10&AR$4,'団体（エントリー）'!$U$7:$AC$82,データ※触らないでください!AR$3,FALSE) -> 0 | AS10: =VLOOKUP($AL10&AS$4,'団体（エントリー）'!$U$7:$AC$82,データ※触らないでください!AS$3,FALSE) -> 0 | AT10: =VLOOKUP($AL10&AT$4,'団体（エントリー）'!$U$7:$AC$82,データ※触らないでください!AT$3,FALSE) -> 0 | ... BF10: =VLOOKUP($AL10&BF$4,'団体（エントリー）'!$U$7:$AC$82,データ※触らないでください!BF$3,FALSE) -> 0 | BG10: =学校番号 -> 0 | BH10: =表示名 -> 0 | BI10: E | BJ10: =VLOOKUP($AL10&BJ$4,'団体（エントリー）'!$U$7:$AC$82,データ※触らないでください!BJ$3,FALSE) | BK10: =VLOOKUP($AL10&BK$4,'団体（エントリー）'!$U$7:$AC$82,データ※触らないでください!BK$3,FALSE) | BL10: =VLOOKUP($AL10&BL$4,'団体（エントリー）'!$U$7:$AC$82,データ※触らないでください!BL$3,FALSE) | BM10: =VLOOKUP($AL10&BM$4,'団体（エントリー）'!$U$7:$AC$82,データ※触らないでください!BM$3,FALSE) | BN10: =VLOOKUP($AL10&BN$4,'団体（エントリー）'!$U$7:$AC$82,データ※触らないでください!BN$3,FALSE) | BO10: =VLOOKUP($AL10&BO$4,'団体（エントリー）'!$U$7:$AC$82,データ※触らないでください!BO$3,FALSE) -> 0 | BP10: =VLOOKUP($AL10&BP$4,'団体（エントリー）'!$U$7:$AC$82,データ※触らないでください!BP$3,FALSE) -> 0 | BQ10: =VLOOKUP($AL10&BQ$4,'団体（エントリー）'!$U$7:$AC$82,データ※触らないでください!BQ$3,FALSE) -> 0 | ... CC10: =VLOOKUP($AL10&CC$4,'団体（エントリー）'!$U$7:$AC$82,データ※触らないでください!CC$3,FALSE) -> 0
B11: =学校番号 -> 0 | C11: BS-06 | D11: ='シングルス（エントリー）'!C12&" "&'シングルス（エントリー）'!D12&" "&'シングルス（エントリー）'!E12 | E11: =表示名 -> 0 | F11: ='シングルス（エントリー）'!F12 -> 0 | G11: ='シングルス（エントリー）'!G12 -> 0 | H11: =学校番号 -> 0 | I11: GS-06 | J11: ='シングルス（エントリー）'!J12&" "&'シングルス（エントリー）'!K12&" "&'シングルス（エントリー）'!L12 | K11: =表示名 -> 0 | L11: ='シングルス（エントリー）'!M12 -> 0 | M11: ='シングルス（エントリー）'!N12 -> 0 | O11: =学校番号 -> 0 | P11: =表示名 -> 0 | Q11: BD-06 | R11: ='ダブルス（エントリー）'!D17&" "&'ダブルス（エントリー）'!E17&" "&'ダブルス（エントリー）'!F17 | S11: ='ダブルス（エントリー）'!G17 -> 0 | T11: ='ダブルス（エントリー）'!H17 -> 0 | U11: ='ダブルス（エントリー）'!D18&" "&'ダブルス（エントリー）'!E18&" "&'ダブルス（エントリー）'!F18 | V11: ='ダブルス（エントリー）'!G18 -> 0 | W11: ='ダブルス（エントリー）'!H18 -> 0 | X11: =S11+V11 -> 0 | Y11: =学校番号 -> 0 | Z11: =表示名 -> 0 | AA11: BD-06 | AB11: ='ダブルス（エントリー）'!K17&" "&'ダブルス（エントリー）'!L17&" "&'ダブルス（エントリー）'!M17 | AC11: ='ダブルス（エントリー）'!N17 -> 0 | AD11: ='ダブルス（エントリー）'!O17 -> 0 | AE11: ='ダブルス（エントリー）'!K18&" "&'ダブルス（エントリー）'!L18&" "&'ダブルス（エントリー）'!M18 | AF11: ='ダブルス（エントリー）'!N18 -> 0 | AG11: ='ダブルス（エントリー）'!O18 -> 0 | AH11: =AC11+AF11 -> 0 | AJ11: =学校番号 -> 0 | AK11: =表示名 -> 0 | AL11: F | AM11: =VLOOKUP($AL11&AM$4,'団体（エントリー）'!$U$7:$AC$82,データ※触らないでください!AM$3,FALSE) | AN11: =VLOOKUP($AL11&AN$4,'団体（エントリー）'!$U$7:$AC$82,データ※触らないでください!AN$3,FALSE) | AO11: =VLOOKUP($AL11&AO$4,'団体（エントリー）'!$U$7:$AC$82,データ※触らないでください!AO$3,FALSE) | AP11: =VLOOKUP($AL11&AP$4,'団体（エントリー）'!$U$7:$AC$82,データ※触らないでください!AP$3,FALSE) | AQ11: =VLOOKUP($AL11&AQ$4,'団体（エントリー）'!$U$7:$AC$82,データ※触らないでください!AQ$3,FALSE) | AR11: =VLOOKUP($AL11&AR$4,'団体（エントリー）'!$U$7:$AC$82,データ※触らないでください!AR$3,FALSE) -> 0 | AS11: =VLOOKUP($AL11&AS$4,'団体（エントリー）'!$U$7:$AC$82,データ※触らないでください!AS$3,FALSE) -> 0 | AT11: =VLOOKUP($AL11&AT$4,'団体（エントリー）'!$U$7:$AC$82,データ※触らないでください!AT$3,FALSE) -> 0 | ... BF11: =VLOOKUP($AL11&BF$4,'団体（エントリー）'!$U$7:$AC$82,データ※触らないでください!BF$3,FALSE) -> 0 | BG11: =学校番号 -> 0 | BH11: =表示名 -> 0 | BI11: F | BJ11: =VLOOKUP($AL11&BJ$4,'団体（エントリー）'!$U$7:$AC$82,データ※触らないでください!BJ$3,FALSE) | BK11: =VLOOKUP($AL11&BK$4,'団体（エントリー）'!$U$7:$AC$82,データ※触らないでください!BK$3,FALSE) | BL11: =VLOOKUP($AL11&BL$4,'団体（エントリー）'!$U$7:$AC$82,データ※触らないでください!BL$3,FALSE) | BM11: =VLOOKUP($AL11&BM$4,'団体（エントリー）'!$U$7:$AC$82,データ※触らないでください!BM$3,FALSE) | BN11: =VLOOKUP($AL11&BN$4,'団体（エントリー）'!$U$7:$AC$82,データ※触らないでください!BN$3,FALSE) | BO11: =VLOOKUP($AL11&BO$4,'団体（エントリー）'!$U$7:$AC$82,データ※触らないでください!BO$3,FALSE) -> 0 | BP11: =VLOOKUP($AL11&BP$4,'団体（エントリー）'!$U$7:$AC$82,データ※触らないでください!BP$3,FALSE) -> 0 | BQ11: =VLOOKUP($AL11&BQ$4,'団体（エントリー）'!$U$7:$AC$82,データ※触らないでください!BQ$3,FALSE) -> 0 | ... CC11: =VLOOKUP($AL11&CC$4,'団体（エントリー）'!$U$7:$AC$82,データ※触らないでください!CC$3,FALSE) -> 0
B12: =学校番号 -> 0 | C12: BS-07 | D12: ='シングルス（エントリー）'!C13&" "&'シングルス（エントリー）'!D13&" "&'シングルス（エントリー）'!E13 | E12: =表示名 -> 0 | F12: ='シングルス（エントリー）'!F13 -> 0 | G12: ='シングルス（エントリー）'!G13 -> 0 | H12: =学校番号 -> 0 | I12: GS-07 | J12: ='シングルス（エントリー）'!J13&" "&'シングルス（エントリー）'!K13&" "&'シングルス（エントリー）'!L13 | K12: =表示名 -> 0 | L12: ='シングルス（エントリー）'!M13 -> 0 | M12: ='シングルス（エントリー）'!N13 -> 0 | O12: =学校番号 -> 0 | P12: =表示名 -> 0 | Q12: BD-07 | R12: ='ダブルス（エントリー）'!D19&" "&'ダブルス（エントリー）'!E19&" "&'ダブルス（エントリー）'!F19 | S12: ='ダブルス（エントリー）'!G19 -> 0 | T12: ='ダブルス（エントリー）'!H19 -> 0 | U12: ='ダブルス（エントリー）'!D20&" "&'ダブルス（エントリー）'!E20&" "&'ダブルス（エントリー）'!F20 | V12: ='ダブルス（エントリー）'!G20 -> 0 | W12: ='ダブルス（エントリー）'!H20 -> 0 | X12: =S12+V12 -> 0 | Y12: =学校番号 -> 0 | Z12: =表示名 -> 0 | AA12: BD-07 | AB12: ='ダブルス（エントリー）'!K19&" "&'ダブルス（エントリー）'!L19&" "&'ダブルス（エントリー）'!M19 | AC12: ='ダブルス（エントリー）'!N19 -> 0 | AD12: ='ダブルス（エントリー）'!O19 -> 0 | AE12: ='ダブルス（エントリー）'!K20&" "&'ダブルス（エントリー）'!L20&" "&'ダブルス（エントリー）'!M20 | AF12: ='ダブルス（エントリー）'!N20 -> 0 | AG12: ='ダブルス（エントリー）'!O20 -> 0 | AH12: =AC12+AF12 -> 0 | AJ12: =学校番号 -> 0 | AK12: =表示名 -> 0 | AL12: G | AM12: =VLOOKUP($AL12&AM$4,'団体（エントリー）'!$U$7:$AC$82,データ※触らないでください!AM$3,FALSE) | AN12: =VLOOKUP($AL12&AN$4,'団体（エントリー）'!$U$7:$AC$82,データ※触らないでください!AN$3,FALSE) | AO12: =VLOOKUP($AL12&AO$4,'団体（エントリー）'!$U$7:$AC$82,データ※触らないでください!AO$3,FALSE) | AP12: =VLOOKUP($AL12&AP$4,'団体（エントリー）'!$U$7:$AC$82,データ※触らないでください!AP$3,FALSE) | AQ12: =VLOOKUP($AL12&AQ$4,'団体（エントリー）'!$U$7:$AC$82,データ※触らないでください!AQ$3,FALSE) | AR12: =VLOOKUP($AL12&AR$4,'団体（エントリー）'!$U$7:$AC$82,データ※触らないでください!AR$3,FALSE) -> 0 | AS12: =VLOOKUP($AL12&AS$4,'団体（エントリー）'!$U$7:$AC$82,データ※触らないでください!AS$3,FALSE) -> 0 | AT12: =VLOOKUP($AL12&AT$4,'団体（エントリー）'!$U$7:$AC$82,データ※触らないでください!AT$3,FALSE) -> 0 | ... BF12: =VLOOKUP($AL12&BF$4,'団体（エントリー）'!$U$7:$AC$82,データ※触らないでください!BF$3,FALSE) -> 0 | BG12: =学校番号 -> 0 | BH12: =表示名 -> 0 | BI12: G | BJ12: =VLOOKUP($AL12&BJ$4,'団体（エントリー）'!$U$7:$AC$82,データ※触らないでください!BJ$3,FALSE) | BK12: =VLOOKUP($AL12&BK$4,'団体（エントリー）'!$U$7:$AC$82,データ※触らないでください!BK$3,FALSE) | BL12: =VLOOKUP($AL12&BL$4,'団体（エントリー）'!$U$7:$AC$82,データ※触らないでください!BL$3,FALSE) | BM12: =VLOOKUP($AL12&BM$4,'団体（エントリー）'!$U$7:$AC$82,データ※触らないでください!BM$3,FALSE) | BN12: =VLOOKUP($AL12&BN$4,'団体（エントリー）'!$U$7:$AC$82,データ※触らないでください!BN$3,FALSE) | BO12: =VLOOKUP($AL12&BO$4,'団体（エントリー）'!$U$7:$AC$82,データ※触らないでください!BO$3,FALSE) -> 0 | BP12: =VLOOKUP($AL12&BP$4,'団体（エントリー）'!$U$7:$AC$82,データ※触らないでください!BP$3,FALSE) -> 0 | BQ12: =VLOOKUP($AL12&BQ$4,'団体（エントリー）'!$U$7:$AC$82,データ※触らないでください!BQ$3,FALSE) -> 0 | ... CC12: =VLOOKUP($AL12&CC$4,'団体（エントリー）'!$U$7:$AC$82,データ※触らないでください!CC$3,FALSE) -> 0
B13: =学校番号 -> 0 | C13: BS-08 | D13: ='シングルス（エントリー）'!C14&" "&'シングルス（エントリー）'!D14&" "&'シングルス（エントリー）'!E14 | E13: =表示名 -> 0 | F13: ='シングルス（エントリー）'!F14 -> 0 | G13: ='シングルス（エントリー）'!G14 -> 0 | H13: =学校番号 -> 0 | I13: GS-08 | J13: ='シングルス（エントリー）'!J14&" "&'シングルス（エントリー）'!K14&" "&'シングルス（エントリー）'!L14 | K13: =表示名 -> 0 | L13: ='シングルス（エントリー）'!M14 -> 0 | M13: ='シングルス（エントリー）'!N14 -> 0 | O13: =学校番号 -> 0 | P13: =表示名 -> 0 | Q13: BD-08 | R13: ='ダブルス（エントリー）'!D21&" "&'ダブルス（エントリー）'!E21&" "&'ダブルス（エントリー）'!F21 | S13: ='ダブルス（エントリー）'!G21 -> 0 | T13: ='ダブルス（エントリー）'!H21 -> 0 | U13: ='ダブルス（エントリー）'!D22&" "&'ダブルス（エントリー）'!E22&" "&'ダブルス（エントリー）'!F22 | V13: ='ダブルス（エントリー）'!G22 -> 0 | W13: ='ダブルス（エントリー）'!H22 -> 0 | X13: =S13+V13 -> 0 | Y13: =学校番号 -> 0 | Z13: =表示名 -> 0 | AA13: BD-08 | AB13: ='ダブルス（エントリー）'!K21&" "&'ダブルス（エントリー）'!L21&" "&'ダブルス（エントリー）'!M21 | AC13: ='ダブルス（エントリー）'!N21 -> 0 | AD13: ='ダブルス（エントリー）'!O21 -> 0 | AE13: ='ダブルス（エントリー）'!K22&" "&'ダブルス（エントリー）'!L22&" "&'ダブルス（エントリー）'!M22 | AF13: ='ダブルス（エントリー）'!N22 -> 0 | AG13: ='ダブルス（エントリー）'!O22 -> 0 | AH13: =AC13+AF13 -> 0 | AJ13: =学校番号 -> 0 | AK13: =表示名 -> 0 | AL13: H | AM13: =VLOOKUP($AL13&AM$4,'団体（エントリー）'!$U$7:$AC$82,データ※触らないでください!AM$3,FALSE) | AN13: =VLOOKUP($AL13&AN$4,'団体（エントリー）'!$U$7:$AC$82,データ※触らないでください!AN$3,FALSE) | AO13: =VLOOKUP($AL13&AO$4,'団体（エントリー）'!$U$7:$AC$82,データ※触らないでください!AO$3,FALSE) | AP13: =VLOOKUP($AL13&AP$4,'団体（エントリー）'!$U$7:$AC$82,データ※触らないでください!AP$3,FALSE) | AQ13: =VLOOKUP($AL13&AQ$4,'団体（エントリー）'!$U$7:$AC$82,データ※触らないでください!AQ$3,FALSE) | AR13: =VLOOKUP($AL13&AR$4,'団体（エントリー）'!$U$7:$AC$82,データ※触らないでください!AR$3,FALSE) -> 0 | AS13: =VLOOKUP($AL13&AS$4,'団体（エントリー）'!$U$7:$AC$82,データ※触らないでください!AS$3,FALSE) -> 0 | AT13: =VLOOKUP($AL13&AT$4,'団体（エントリー）'!$U$7:$AC$82,データ※触らないでください!AT$3,FALSE) -> 0 | ... BF13: =VLOOKUP($AL13&BF$4,'団体（エントリー）'!$U$7:$AC$82,データ※触らないでください!BF$3,FALSE) -> 0 | BG13: =学校番号 -> 0 | BH13: =表示名 -> 0 | BI13: H | BJ13: =VLOOKUP($AL13&BJ$4,'団体（エントリー）'!$U$7:$AC$82,データ※触らないでください!BJ$3,FALSE) | BK13: =VLOOKUP($AL13&BK$4,'団体（エントリー）'!$U$7:$AC$82,データ※触らないでください!BK$3,FALSE) | BL13: =VLOOKUP($AL13&BL$4,'団体（エントリー）'!$U$7:$AC$82,データ※触らないでください!BL$3,FALSE) | BM13: =VLOOKUP($AL13&BM$4,'団体（エントリー）'!$U$7:$AC$82,データ※触らないでください!BM$3,FALSE) | BN13: =VLOOKUP($AL13&BN$4,'団体（エントリー）'!$U$7:$AC$82,データ※触らないでください!BN$3,FALSE) | BO13: =VLOOKUP($AL13&BO$4,'団体（エントリー）'!$U$7:$AC$82,データ※触らないでください!BO$3,FALSE) -> 0 | BP13: =VLOOKUP($AL13&BP$4,'団体（エントリー）'!$U$7:$AC$82,データ※触らないでください!BP$3,FALSE) -> 0 | BQ13: =VLOOKUP($AL13&BQ$4,'団体（エントリー）'!$U$7:$AC$82,データ※触らないでください!BQ$3,FALSE) -> 0 | ... CC13: =VLOOKUP($AL13&CC$4,'団体（エントリー）'!$U$7:$AC$82,データ※触らないでください!CC$3,FALSE) -> 0
B14: =学校番号 -> 0 | C14: BS-09 | D14: ='シングルス（エントリー）'!C15&" "&'シングルス（エントリー）'!D15&" "&'シングルス（エントリー）'!E15 | E14: =表示名 -> 0 | F14: ='シングルス（エントリー）'!F15 -> 0 | G14: ='シングルス（エントリー）'!G15 -> 0 | H14: =学校番号 -> 0 | I14: GS-09 | J14: ='シングルス（エントリー）'!J15&" "&'シングルス（エントリー）'!K15&" "&'シングルス（エントリー）'!L15 | K14: =表示名 -> 0 | L14: ='シングルス（エントリー）'!M15 -> 0 | M14: ='シングルス（エントリー）'!N15 -> 0 | O14: =学校番号 -> 0 | P14: =表示名 -> 0 | Q14: BD-09 | R14: ='ダブルス（エントリー）'!D23&" "&'ダブルス（エントリー）'!E23&" "&'ダブルス（エントリー）'!F23 | S14: ='ダブルス（エントリー）'!G23 -> 0 | T14: ='ダブルス（エントリー）'!H23 -> 0 | U14: ='ダブルス（エントリー）'!D24&" "&'ダブルス（エントリー）'!E24&" "&'ダブルス（エントリー）'!F24 | V14: ='ダブルス（エントリー）'!G24 -> 0 | W14: ='ダブルス（エントリー）'!H24 -> 0 | X14: =S14+V14 -> 0 | Y14: =学校番号 -> 0 | Z14: =表示名 -> 0 | AA14: BD-09 | AB14: ='ダブルス（エントリー）'!K23&" "&'ダブルス（エントリー）'!L23&" "&'ダブルス（エントリー）'!M23 | AC14: ='ダブルス（エントリー）'!N23 -> 0 | AD14: ='ダブルス（エントリー）'!O23 -> 0 | AE14: ='ダブルス（エントリー）'!K24&" "&'ダブルス（エントリー）'!L24&" "&'ダブルス（エントリー）'!M24 | AF14: ='ダブルス（エントリー）'!N24 -> 0 | AG14: ='ダブルス（エントリー）'!O24 -> 0 | AH14: =AC14+AF14 -> 0 | AJ14: =学校番号 -> 0 | AK14: =表示名 -> 0 | AL14: I | AM14: =VLOOKUP($AL14&AM$4,'団体（エントリー）'!$U$7:$AC$82,データ※触らないでください!AM$3,FALSE) | AN14: =VLOOKUP($AL14&AN$4,'団体（エントリー）'!$U$7:$AC$82,データ※触らないでください!AN$3,FALSE) | AO14: =VLOOKUP($AL14&AO$4,'団体（エントリー）'!$U$7:$AC$82,データ※触らないでください!AO$3,FALSE) | AP14: =VLOOKUP($AL14&AP$4,'団体（エントリー）'!$U$7:$AC$82,データ※触らないでください!AP$3,FALSE) | AQ14: =VLOOKUP($AL14&AQ$4,'団体（エントリー）'!$U$7:$AC$82,データ※触らないでください!AQ$3,FALSE) | AR14: =VLOOKUP($AL14&AR$4,'団体（エントリー）'!$U$7:$AC$82,データ※触らないでください!AR$3,FALSE) -> 0 | AS14: =VLOOKUP($AL14&AS$4,'団体（エントリー）'!$U$7:$AC$82,データ※触らないでください!AS$3,FALSE) -> 0 | AT14: =VLOOKUP($AL14&AT$4,'団体（エントリー）'!$U$7:$AC$82,データ※触らないでください!AT$3,FALSE) -> 0 | ... BF14: =VLOOKUP($AL14&BF$4,'団体（エントリー）'!$U$7:$AC$82,データ※触らないでください!BF$3,FALSE) -> 0 | BG14: =学校番号 -> 0 | BH14: =表示名 -> 0 | BI14: I | BJ14: =VLOOKUP($AL14&BJ$4,'団体（エントリー）'!$U$7:$AC$82,データ※触らないでください!BJ$3,FALSE) | BK14: =VLOOKUP($AL14&BK$4,'団体（エントリー）'!$U$7:$AC$82,データ※触らないでください!BK$3,FALSE) | BL14: =VLOOKUP($AL14&BL$4,'団体（エントリー）'!$U$7:$AC$82,データ※触らないでください!BL$3,FALSE) | BM14: =VLOOKUP($AL14&BM$4,'団体（エントリー）'!$U$7:$AC$82,データ※触らないでください!BM$3,FALSE) | BN14: =VLOOKUP($AL14&BN$4,'団体（エントリー）'!$U$7:$AC$82,データ※触らないでください!BN$3,FALSE) | BO14: =VLOOKUP($AL14&BO$4,'団体（エントリー）'!$U$7:$AC$82,データ※触らないでください!BO$3,FALSE) -> 0 | BP14: =VLOOKUP($AL14&BP$4,'団体（エントリー）'!$U$7:$AC$82,データ※触らないでください!BP$3,FALSE) -> 0 | BQ14: =VLOOKUP($AL14&BQ$4,'団体（エントリー）'!$U$7:$AC$82,データ※触らないでください!BQ$3,FALSE) -> 0 | ... CC14: =VLOOKUP($AL14&CC$4,'団体（エントリー）'!$U$7:$AC$82,データ※触らないでください!CC$3,FALSE) -> 0
B15: =学校番号 -> 0 | C15: BS-10 | D15: ='シングルス（エントリー）'!C16&" "&'シングルス（エントリー）'!D16&" "&'シングルス（エントリー）'!E16 | E15: =表示名 -> 0 | F15: ='シングルス（エントリー）'!F16 -> 0 | G15: ='シングルス（エントリー）'!G16 -> 0 | H15: =学校番号 -> 0 | I15: GS-10 | J15: ='シングルス（エントリー）'!J16&" "&'シングルス（エントリー）'!K16&" "&'シングルス（エントリー）'!L16 | K15: =表示名 -> 0 | L15: ='シングルス（エントリー）'!M16 -> 0 | M15: ='シングルス（エントリー）'!N16 -> 0 | O15: =学校番号 -> 0 | P15: =表示名 -> 0 | Q15: BD-10 | R15: ='ダブルス（エントリー）'!D25&" "&'ダブルス（エントリー）'!E25&" "&'ダブルス（エントリー）'!F25 | S15: ='ダブルス（エントリー）'!G25 -> 0 | T15: ='ダブルス（エントリー）'!H25 -> 0 | U15: ='ダブルス（エントリー）'!D26&" "&'ダブルス（エントリー）'!E26&" "&'ダブルス（エントリー）'!F26 | V15: ='ダブルス（エントリー）'!G26 -> 0 | W15: ='ダブルス（エントリー）'!H26 -> 0 | X15: =S15+V15 -> 0 | Y15: =学校番号 -> 0 | Z15: =表示名 -> 0 | AA15: BD-10 | AB15: ='ダブルス（エントリー）'!K25&" "&'ダブルス（エントリー）'!L25&" "&'ダブルス（エントリー）'!M25 | AC15: ='ダブルス（エントリー）'!N25 -> 0 | AD15: ='ダブルス（エントリー）'!O25 -> 0 | AE15: ='ダブルス（エントリー）'!K26&" "&'ダブルス（エントリー）'!L26&" "&'ダブルス（エントリー）'!M26 | AF15: ='ダブルス（エントリー）'!N26 -> 0 | AG15: ='ダブルス（エントリー）'!O26 -> 0 | AH15: =AC15+AF15 -> 0 | AJ15: =学校番号 -> 0 | AK15: =表示名 -> 0 | AL15: J | AM15: =VLOOKUP($AL15&AM$4,'団体（エントリー）'!$U$7:$AC$82,データ※触らないでください!AM$3,FALSE) | AN15: =VLOOKUP($AL15&AN$4,'団体（エントリー）'!$U$7:$AC$82,データ※触らないでください!AN$3,FALSE) | AO15: =VLOOKUP($AL15&AO$4,'団体（エントリー）'!$U$7:$AC$82,データ※触らないでください!AO$3,FALSE) | AP15: =VLOOKUP($AL15&AP$4,'団体（エントリー）'!$U$7:$AC$82,データ※触らないでください!AP$3,FALSE) | AQ15: =VLOOKUP($AL15&AQ$4,'団体（エントリー）'!$U$7:$AC$82,データ※触らないでください!AQ$3,FALSE) | AR15: =VLOOKUP($AL15&AR$4,'団体（エントリー）'!$U$7:$AC$82,データ※触らないでください!AR$3,FALSE) -> 0 | AS15: =VLOOKUP($AL15&AS$4,'団体（エントリー）'!$U$7:$AC$82,データ※触らないでください!AS$3,FALSE) -> 0 | AT15: =VLOOKUP($AL15&AT$4,'団体（エントリー）'!$U$7:$AC$82,データ※触らないでください!AT$3,FALSE) -> 0 | ... BF15: =VLOOKUP($AL15&BF$4,'団体（エントリー）'!$U$7:$AC$82,データ※触らないでください!BF$3,FALSE) -> 0 | BG15: =学校番号 -> 0 | BH15: =表示名 -> 0 | BI15: J | BJ15: =VLOOKUP($AL15&BJ$4,'団体（エントリー）'!$U$7:$AC$82,データ※触らないでください!BJ$3,FALSE) | BK15: =VLOOKUP($AL15&BK$4,'団体（エントリー）'!$U$7:$AC$82,データ※触らないでください!BK$3,FALSE) | BL15: =VLOOKUP($AL15&BL$4,'団体（エントリー）'!$U$7:$AC$82,データ※触らないでください!BL$3,FALSE) | BM15: =VLOOKUP($AL15&BM$4,'団体（エントリー）'!$U$7:$AC$82,データ※触らないでください!BM$3,FALSE) | BN15: =VLOOKUP($AL15&BN$4,'団体（エントリー）'!$U$7:$AC$82,データ※触らないでください!BN$3,FALSE) | BO15: =VLOOKUP($AL15&BO$4,'団体（エントリー）'!$U$7:$AC$82,データ※触らないでください!BO$3,FALSE) -> 0 | BP15: =VLOOKUP($AL15&BP$4,'団体（エントリー）'!$U$7:$AC$82,データ※触らないでください!BP$3,FALSE) -> 0 | BQ15: =VLOOKUP($AL15&BQ$4,'団体（エントリー）'!$U$7:$AC$82,データ※触らないでください!BQ$3,FALSE) -> 0 | ... CC15: =VLOOKUP($AL15&CC$4,'団体（エントリー）'!$U$7:$AC$82,データ※触らないでください!CC$3,FALSE) -> 0
B16: =学校番号 -> 0 | C16: BS-11 | D16: ='シングルス（エントリー）'!C17&" "&'シングルス（エントリー）'!D17&" "&'シングルス（エントリー）'!E17 | E16: =表示名 -> 0 | F16: ='シングルス（エントリー）'!F17 -> 0 | G16: ='シングルス（エントリー）'!G17 -> 0 | H16: =学校番号 -> 0 | I16: GS-11 | J16: ='シングルス（エントリー）'!J17&" "&'シングルス（エントリー）'!K17&" "&'シングルス（エントリー）'!L17 | K16: =表示名 -> 0 | L16: ='シングルス（エントリー）'!M17 -> 0 | M16: ='シングルス（エントリー）'!N17 -> 0 | O16: =学校番号 -> 0 | P16: =表示名 -> 0 | Q16: BD-11 | R16: ='ダブルス（エントリー）'!D27&" "&'ダブルス（エントリー）'!E27&" "&'ダブルス（エントリー）'!F27 | S16: ='ダブルス（エントリー）'!G27 -> 0 | T16: ='ダブルス（エントリー）'!H27 -> 0 | U16: ='ダブルス（エントリー）'!D28&" "&'ダブルス（エントリー）'!E28&" "&'ダブルス（エントリー）'!F28 | V16: ='ダブルス（エントリー）'!G28 -> 0 | W16: ='ダブルス（エントリー）'!H28 -> 0 | X16: =S16+V16 -> 0 | Y16: =学校番号 -> 0 | Z16: =表示名 -> 0 | AA16: BD-11 | AB16: ='ダブルス（エントリー）'!K27&" "&'ダブルス（エントリー）'!L27&" "&'ダブルス（エントリー）'!M27 | AC16: ='ダブルス（エントリー）'!N27 -> 0 | AD16: ='ダブルス（エントリー）'!O27 -> 0 | AE16: ='ダブルス（エントリー）'!K28&" "&'ダブルス（エントリー）'!L28&" "&'ダブルス（エントリー）'!M28 | AF16: ='ダブルス（エントリー）'!N28 -> 0 | AG16: ='ダブルス（エントリー）'!O28 -> 0 | AH16: =AC16+AF16 -> 0 | AJ16: =学校番号 -> 0 | AK16: =表示名 -> 0 | AL16: K | AM16: =VLOOKUP($AL16&AM$4,'団体（エントリー）'!$U$7:$AC$82,データ※触らないでください!AM$3,FALSE) | AN16: =VLOOKUP($AL16&AN$4,'団体（エントリー）'!$U$7:$AC$82,データ※触らないでください!AN$3,FALSE) | AO16: =VLOOKUP($AL16&AO$4,'団体（エントリー）'!$U$7:$AC$82,データ※触らないでください!AO$3,FALSE) | AP16: =VLOOKUP($AL16&AP$4,'団体（エントリー）'!$U$7:$AC$82,データ※触らないでください!AP$3,FALSE) | AQ16: =VLOOKUP($AL16&AQ$4,'団体（エントリー）'!$U$7:$AC$82,データ※触らないでください!AQ$3,FALSE) | AR16: =VLOOKUP($AL16&AR$4,'団体（エントリー）'!$U$7:$AC$82,データ※触らないでください!AR$3,FALSE) -> 0 | AS16: =VLOOKUP($AL16&AS$4,'団体（エントリー）'!$U$7:$AC$82,データ※触らないでください!AS$3,FALSE) -> 0 | AT16: =VLOOKUP($AL16&AT$4,'団体（エントリー）'!$U$7:$AC$82,データ※触らないでください!AT$3,FALSE) -> 0 | ... BF16: =VLOOKUP($AL16&BF$4,'団体（エントリー）'!$U$7:$AC$82,データ※触らないでください!BF$3,FALSE) -> 0 | BG16: =学校番号 -> 0 | BH16: =表示名 -> 0 | BI16: K | BJ16: =VLOOKUP($AL16&BJ$4,'団体（エントリー）'!$U$7:$AC$82,データ※触らないでください!BJ$3,FALSE) | BK16: =VLOOKUP($AL16&BK$4,'団体（エントリー）'!$U$7:$AC$82,データ※触らないでください!BK$3,FALSE) | BL16: =VLOOKUP($AL16&BL$4,'団体（エントリー）'!$U$7:$AC$82,データ※触らないでください!BL$3,FALSE) | BM16: =VLOOKUP($AL16&BM$4,'団体（エントリー）'!$U$7:$AC$82,データ※触らないでください!BM$3,FALSE) | BN16: =VLOOKUP($AL16&BN$4,'団体（エントリー）'!$U$7:$AC$82,データ※触らないでください!BN$3,FALSE) | BO16: =VLOOKUP($AL16&BO$4,'団体（エントリー）'!$U$7:$AC$82,データ※触らないでください!BO$3,FALSE) -> 0 | BP16: =VLOOKUP($AL16&BP$4,'団体（エントリー）'!$U$7:$AC$82,データ※触らないでください!BP$3,FALSE) -> 0 | BQ16: =VLOOKUP($AL16&BQ$4,'団体（エントリー）'!$U$7:$AC$82,データ※触らないでください!BQ$3,FALSE) -> 0 | ... CC16: =VLOOKUP($AL16&CC$4,'団体（エントリー）'!$U$7:$AC$82,データ※触らないでください!CC$3,FALSE) -> 0
B17: =学校番号 -> 0 | C17: BS-12 | D17: ='シングルス（エントリー）'!C18&" "&'シングルス（エントリー）'!D18&" "&'シングルス（エントリー）'!E18 | E17: =表示名 -> 0 | F17: ='シングルス（エントリー）'!F18 -> 0 | G17: ='シングルス（エントリー）'!G18 -> 0 | H17: =学校番号 -> 0 | I17: GS-12 | J17: ='シングルス（エントリー）'!J18&" "&'シングルス（エントリー）'!K18&" "&'シングルス（エントリー）'!L18 | K17: =表示名 -> 0 | L17: ='シングルス（エントリー）'!M18 -> 0 | M17: ='シングルス（エントリー）'!N18 -> 0 | O17: =学校番号 -> 0 | P17: =表示名 -> 0 | Q17: BD-12 | R17: ='ダブルス（エントリー）'!D29&" "&'ダブルス（エントリー）'!E29&" "&'ダブルス（エントリー）'!F29 | S17: ='ダブルス（エントリー）'!G29 -> 0 | T17: ='ダブルス（エントリー）'!H29 -> 0 | U17: ='ダブルス（エントリー）'!D30&" "&'ダブルス（エントリー）'!E30&" "&'ダブルス（エントリー）'!F30 | V17: ='ダブルス（エントリー）'!G30 -> 0 | W17: ='ダブルス（エントリー）'!H30 -> 0 | X17: =S17+V17 -> 0 | Y17: =学校番号 -> 0 | Z17: =表示名 -> 0 | AA17: BD-12 | AB17: ='ダブルス（エントリー）'!K29&" "&'ダブルス（エントリー）'!L29&" "&'ダブルス（エントリー）'!M29 | AC17: ='ダブルス（エントリー）'!N29 -> 0 | AD17: ='ダブルス（エントリー）'!O29 -> 0 | AE17: ='ダブルス（エントリー）'!K30&" "&'ダブルス（エントリー）'!L30&" "&'ダブルス（エントリー）'!M30 | AF17: ='ダブルス（エントリー）'!N30 -> 0 | AG17: ='ダブルス（エントリー）'!O30 -> 0 | AH17: =AC17+AF17 -> 0 | AJ17: =学校番号 -> 0 | AK17: =表示名 -> 0 | AL17: L | AM17: =VLOOKUP($AL17&AM$4,'団体（エントリー）'!$U$7:$AC$82,データ※触らないでください!AM$3,FALSE) | AN17: =VLOOKUP($AL17&AN$4,'団体（エントリー）'!$U$7:$AC$82,データ※触らないでください!AN$3,FALSE) | AO17: =VLOOKUP($AL17&AO$4,'団体（エントリー）'!$U$7:$AC$82,データ※触らないでください!AO$3,FALSE) | AP17: =VLOOKUP($AL17&AP$4,'団体（エントリー）'!$U$7:$AC$82,データ※触らないでください!AP$3,FALSE) | AQ17: =VLOOKUP($AL17&AQ$4,'団体（エントリー）'!$U$7:$AC$82,データ※触らないでください!AQ$3,FALSE) | AR17: =VLOOKUP($AL17&AR$4,'団体（エントリー）'!$U$7:$AC$82,データ※触らないでください!AR$3,FALSE) -> 0 | AS17: =VLOOKUP($AL17&AS$4,'団体（エントリー）'!$U$7:$AC$82,データ※触らないでください!AS$3,FALSE) -> 0 | AT17: =VLOOKUP($AL17&AT$4,'団体（エントリー）'!$U$7:$AC$82,データ※触らないでください!AT$3,FALSE) -> 0 | ... BF17: =VLOOKUP($AL17&BF$4,'団体（エントリー）'!$U$7:$AC$82,データ※触らないでください!BF$3,FALSE) -> 0 | BG17: =学校番号 -> 0 | BH17: =表示名 -> 0 | BI17: L | BJ17: =VLOOKUP($AL17&BJ$4,'団体（エントリー）'!$U$7:$AC$82,データ※触らないでください!BJ$3,FALSE) | BK17: =VLOOKUP($AL17&BK$4,'団体（エントリー）'!$U$7:$AC$82,データ※触らないでください!BK$3,FALSE) | BL17: =VLOOKUP($AL17&BL$4,'団体（エントリー）'!$U$7:$AC$82,データ※触らないでください!BL$3,FALSE) | BM17: =VLOOKUP($AL17&BM$4,'団体（エントリー）'!$U$7:$AC$82,データ※触らないでください!BM$3,FALSE) | BN17: =VLOOKUP($AL17&BN$4,'団体（エントリー）'!$U$7:$AC$82,データ※触らないでください!BN$3,FALSE) | BO17: =VLOOKUP($AL17&BO$4,'団体（エントリー）'!$U$7:$AC$82,データ※触らないでください!BO$3,FALSE) -> 0 | BP17: =VLOOKUP($AL17&BP$4,'団体（エントリー）'!$U$7:$AC$82,データ※触らないでください!BP$3,FALSE) -> 0 | BQ17: =VLOOKUP($AL17&BQ$4,'団体（エントリー）'!$U$7:$AC$82,データ※触らないでください!BQ$3,FALSE) -> 0 | ... CC17: =VLOOKUP($AL17&CC$4,'団体（エントリー）'!$U$7:$AC$82,データ※触らないでください!CC$3,FALSE) -> 0
B18: =学校番号 -> 0 | C18: BS-13 | D18: ='シングルス（エントリー）'!C19&" "&'シングルス（エントリー）'!D19&" "&'シングルス（エントリー）'!E19 | E18: =表示名 -> 0 | F18: ='シングルス（エントリー）'!F19 -> 0 | G18: ='シングルス（エントリー）'!G19 -> 0 | H18: =学校番号 -> 0 | I18: GS-13 | J18: ='シングルス（エントリー）'!J19&" "&'シングルス（エントリー）'!K19&" "&'シングルス（エントリー）'!L19 | K18: =表示名 -> 0 | L18: ='シングルス（エントリー）'!M19 -> 0 | M18: ='シングルス（エントリー）'!N19 -> 0 | O18: =学校番号 -> 0 | P18: =表示名 -> 0 | Q18: BD-13 | R18: ='ダブルス（エントリー）'!D31&" "&'ダブルス（エントリー）'!E31&" "&'ダブルス（エントリー）'!F31 | S18: ='ダブルス（エントリー）'!G31 -> 0 | T18: ='ダブルス（エントリー）'!H31 -> 0 | U18: ='ダブルス（エントリー）'!D32&" "&'ダブルス（エントリー）'!E32&" "&'ダブルス（エントリー）'!F32 | V18: ='ダブルス（エントリー）'!G32 -> 0 | W18: ='ダブルス（エントリー）'!H32 -> 0 | X18: =S18+V18 -> 0 | Y18: =学校番号 -> 0 | Z18: =表示名 -> 0 | AA18: BD-13 | AB18: ='ダブルス（エントリー）'!K31&" "&'ダブルス（エントリー）'!L31&" "&'ダブルス（エントリー）'!M31 | AC18: ='ダブルス（エントリー）'!N31 -> 0 | AD18: ='ダブルス（エントリー）'!O31 -> 0 | AE18: ='ダブルス（エントリー）'!K32&" "&'ダブルス（エントリー）'!L32&" "&'ダブルス（エントリー）'!M32 | AF18: ='ダブルス（エントリー）'!N32 -> 0 | AG18: ='ダブルス（エントリー）'!O32 -> 0 | AH18: =AC18+AF18 -> 0 | AJ18: =学校番号 -> 0 | AK18: =表示名 -> 0 | AL18: M | AM18: =VLOOKUP($AL18&AM$4,'団体（エントリー）'!$U$7:$AC$82,データ※触らないでください!AM$3,FALSE) | AN18: =VLOOKUP($AL18&AN$4,'団体（エントリー）'!$U$7:$AC$82,データ※触らないでください!AN$3,FALSE) | AO18: =VLOOKUP($AL18&AO$4,'団体（エントリー）'!$U$7:$AC$82,データ※触らないでください!AO$3,FALSE) | AP18: =VLOOKUP($AL18&AP$4,'団体（エントリー）'!$U$7:$AC$82,データ※触らないでください!AP$3,FALSE) | AQ18: =VLOOKUP($AL18&AQ$4,'団体（エントリー）'!$U$7:$AC$82,データ※触らないでください!AQ$3,FALSE) | AR18: =VLOOKUP($AL18&AR$4,'団体（エントリー）'!$U$7:$AC$82,データ※触らないでください!AR$3,FALSE) -> 0 | AS18: =VLOOKUP($AL18&AS$4,'団体（エントリー）'!$U$7:$AC$82,データ※触らないでください!AS$3,FALSE) -> 0 | AT18: =VLOOKUP($AL18&AT$4,'団体（エントリー）'!$U$7:$AC$82,データ※触らないでください!AT$3,FALSE) -> 0 | ... BF18: =VLOOKUP($AL18&BF$4,'団体（エントリー）'!$U$7:$AC$82,データ※触らないでください!BF$3,FALSE) -> 0 | BG18: =学校番号 -> 0 | BH18: =表示名 -> 0 | BI18: M | BJ18: =VLOOKUP($AL18&BJ$4,'団体（エントリー）'!$U$7:$AC$82,データ※触らないでください!BJ$3,FALSE) | BK18: =VLOOKUP($AL18&BK$4,'団体（エントリー）'!$U$7:$AC$82,データ※触らないでください!BK$3,FALSE) | BL18: =VLOOKUP($AL18&BL$4,'団体（エントリー）'!$U$7:$AC$82,データ※触らないでください!BL$3,FALSE) | BM18: =VLOOKUP($AL18&BM$4,'団体（エントリー）'!$U$7:$AC$82,データ※触らないでください!BM$3,FALSE) | BN18: =VLOOKUP($AL18&BN$4,'団体（エントリー）'!$U$7:$AC$82,データ※触らないでください!BN$3,FALSE) | BO18: =VLOOKUP($AL18&BO$4,'団体（エントリー）'!$U$7:$AC$82,データ※触らないでください!BO$3,FALSE) -> 0 | BP18: =VLOOKUP($AL18&BP$4,'団体（エントリー）'!$U$7:$AC$82,データ※触らないでください!BP$3,FALSE) -> 0 | BQ18: =VLOOKUP($AL18&BQ$4,'団体（エントリー）'!$U$7:$AC$82,データ※触らないでください!BQ$3,FALSE) -> 0 | ... CC18: =VLOOKUP($AL18&CC$4,'団体（エントリー）'!$U$7:$AC$82,データ※触らないでください!CC$3,FALSE) -> 0
B19: =学校番号 -> 0 | C19: BS-14 | D19: ='シングルス（エントリー）'!C20&" "&'シングルス（エントリー）'!D20&" "&'シングルス（エントリー）'!E20 | E19: =表示名 -> 0 | F19: ='シングルス（エントリー）'!F20 -> 0 | G19: ='シングルス（エントリー）'!G20 -> 0 | H19: =学校番号 -> 0 | I19: GS-14 | J19: ='シングルス（エントリー）'!J20&" "&'シングルス（エントリー）'!K20&" "&'シングルス（エントリー）'!L20 | K19: =表示名 -> 0 | L19: ='シングルス（エントリー）'!M20 -> 0 | M19: ='シングルス（エントリー）'!N20 -> 0 | O19: =学校番号 -> 0 | P19: =表示名 -> 0 | Q19: BD-14 | R19: ='ダブルス（エントリー）'!D33&" "&'ダブルス（エントリー）'!E33&" "&'ダブルス（エントリー）'!F33 | S19: ='ダブルス（エントリー）'!G33 -> 0 | T19: ='ダブルス（エントリー）'!H33 -> 0 | U19: ='ダブルス（エントリー）'!D34&" "&'ダブルス（エントリー）'!E34&" "&'ダブルス（エントリー）'!F34 | V19: ='ダブルス（エントリー）'!G34 -> 0 | W19: ='ダブルス（エントリー）'!H34 -> 0 | X19: =S19+V19 -> 0 | Y19: =学校番号 -> 0 | Z19: =表示名 -> 0 | AA19: BD-14 | AB19: ='ダブルス（エントリー）'!K33&" "&'ダブルス（エントリー）'!L33&" "&'ダブルス（エントリー）'!M33 | AC19: ='ダブルス（エントリー）'!N33 -> 0 | AD19: ='ダブルス（エントリー）'!O33 -> 0 | AE19: ='ダブルス（エントリー）'!K34&" "&'ダブルス（エントリー）'!L34&" "&'ダブルス（エントリー）'!M34 | AF19: ='ダブルス（エントリー）'!N34 -> 0 | AG19: ='ダブルス（エントリー）'!O34 -> 0 | AH19: =AC19+AF19 -> 0 | AJ19: =学校番号 -> 0 | AK19: =表示名 -> 0 | AL19: N | AM19: =VLOOKUP($AL19&AM$4,'団体（エントリー）'!$U$7:$AC$82,データ※触らないでください!AM$3,FALSE) | AN19: =VLOOKUP($AL19&AN$4,'団体（エントリー）'!$U$7:$AC$82,データ※触らないでください!AN$3,FALSE) | AO19: =VLOOKUP($AL19&AO$4,'団体（エントリー）'!$U$7:$AC$82,データ※触らないでください!AO$3,FALSE) | AP19: =VLOOKUP($AL19&AP$4,'団体（エントリー）'!$U$7:$AC$82,データ※触らないでください!AP$3,FALSE) | AQ19: =VLOOKUP($AL19&AQ$4,'団体（エントリー）'!$U$7:$AC$82,データ※触らないでください!AQ$3,FALSE) | AR19: =VLOOKUP($AL19&AR$4,'団体（エントリー）'!$U$7:$AC$82,データ※触らないでください!AR$3,FALSE) -> 0 | AS19: =VLOOKUP($AL19&AS$4,'団体（エントリー）'!$U$7:$AC$82,データ※触らないでください!AS$3,FALSE) -> 0 | AT19: =VLOOKUP($AL19&AT$4,'団体（エントリー）'!$U$7:$AC$82,データ※触らないでください!AT$3,FALSE) -> 0 | ... BF19: =VLOOKUP($AL19&BF$4,'団体（エントリー）'!$U$7:$AC$82,データ※触らないでください!BF$3,FALSE) -> 0 | BG19: =学校番号 -> 0 | BH19: =表示名 -> 0 | BI19: N | BJ19: =VLOOKUP($AL19&BJ$4,'団体（エントリー）'!$U$7:$AC$82,データ※触らないでください!BJ$3,FALSE) | BK19: =VLOOKUP($AL19&BK$4,'団体（エントリー）'!$U$7:$AC$82,データ※触らないでください!BK$3,FALSE) | BL19: =VLOOKUP($AL19&BL$4,'団体（エントリー）'!$U$7:$AC$82,データ※触らないでください!BL$3,FALSE) | BM19: =VLOOKUP($AL19&BM$4,'団体（エントリー）'!$U$7:$AC$82,データ※触らないでください!BM$3,FALSE) | BN19: =VLOOKUP($AL19&BN$4,'団体（エントリー）'!$U$7:$AC$82,データ※触らないでください!BN$3,FALSE) | BO19: =VLOOKUP($AL19&BO$4,'団体（エントリー）'!$U$7:$AC$82,データ※触らないでください!BO$3,FALSE) -> 0 | BP19: =VLOOKUP($AL19&BP$4,'団体（エントリー）'!$U$7:$AC$82,データ※触らないでください!BP$3,FALSE) -> 0 | BQ19: =VLOOKUP($AL19&BQ$4,'団体（エントリー）'!$U$7:$AC$82,データ※触らないでください!BQ$3,FALSE) -> 0 | ... CC19: =VLOOKUP($AL19&CC$4,'団体（エントリー）'!$U$7:$AC$82,データ※触らないでください!CC$3,FALSE) -> 0
B20: =学校番号 -> 0 | C20: BS-15 | D20: ='シングルス（エントリー）'!C21&" "&'シングルス（エントリー）'!D21&" "&'シングルス（エントリー）'!E21 | E20: =表示名 -> 0 | F20: ='シングルス（エントリー）'!F21 -> 0 | G20: ='シングルス（エントリー）'!G21 -> 0 | H20: =学校番号 -> 0 | I20: GS-15 | J20: ='シングルス（エントリー）'!J21&" "&'シングルス（エントリー）'!K21&" "&'シングルス（エントリー）'!L21 | K20: =表示名 -> 0 | L20: ='シングルス（エントリー）'!M21 -> 0 | M20: ='シングルス（エントリー）'!N21 -> 0 | O20: =学校番号 -> 0 | P20: =表示名 -> 0 | Q20: BD-15 | R20: ='ダブルス（エントリー）'!D35&" "&'ダブルス（エントリー）'!E35&" "&'ダブルス（エントリー）'!F35 | S20: ='ダブルス（エントリー）'!G35 -> 0 | T20: ='ダブルス（エントリー）'!H35 -> 0 | U20: ='ダブルス（エントリー）'!D36&" "&'ダブルス（エントリー）'!E36&" "&'ダブルス（エントリー）'!F36 | V20: ='ダブルス（エントリー）'!G36 -> 0 | W20: ='ダブルス（エントリー）'!H36 -> 0 | X20: =S20+V20 -> 0 | Y20: =学校番号 -> 0 | Z20: =表示名 -> 0 | AA20: BD-15 | AB20: ='ダブルス（エントリー）'!K35&" "&'ダブルス（エントリー）'!L35&" "&'ダブルス（エントリー）'!M35 | AC20: ='ダブルス（エントリー）'!N35 -> 0 | AD20: ='ダブルス（エントリー）'!O35 -> 0 | AE20: ='ダブルス（エントリー）'!K36&" "&'ダブルス（エントリー）'!L36&" "&'ダブルス（エントリー）'!M36 | AF20: ='ダブルス（エントリー）'!N36 -> 0 | AG20: ='ダブルス（エントリー）'!O36 -> 0 | AH20: =AC20+AF20 -> 0 | AJ20: =学校番号 -> 0 | AK20: =表示名 -> 0 | AL20: O | AM20: =VLOOKUP($AL20&AM$4,'団体（エントリー）'!$U$7:$AC$82,データ※触らないでください!AM$3,FALSE) | AN20: =VLOOKUP($AL20&AN$4,'団体（エントリー）'!$U$7:$AC$82,データ※触らないでください!AN$3,FALSE) | AO20: =VLOOKUP($AL20&AO$4,'団体（エントリー）'!$U$7:$AC$82,データ※触らないでください!AO$3,FALSE) | AP20: =VLOOKUP($AL20&AP$4,'団体（エントリー）'!$U$7:$AC$82,データ※触らないでください!AP$3,FALSE) | AQ20: =VLOOKUP($AL20&AQ$4,'団体（エントリー）'!$U$7:$AC$82,データ※触らないでください!AQ$3,FALSE) | AR20: =VLOOKUP($AL20&AR$4,'団体（エントリー）'!$U$7:$AC$82,データ※触らないでください!AR$3,FALSE) -> 0 | AS20: =VLOOKUP($AL20&AS$4,'団体（エントリー）'!$U$7:$AC$82,データ※触らないでください!AS$3,FALSE) -> 0 | AT20: =VLOOKUP($AL20&AT$4,'団体（エントリー）'!$U$7:$AC$82,データ※触らないでください!AT$3,FALSE) -> 0 | ... BF20: =VLOOKUP($AL20&BF$4,'団体（エントリー）'!$U$7:$AC$82,データ※触らないでください!BF$3,FALSE) -> 0 | BG20: =学校番号 -> 0 | BH20: =表示名 -> 0 | BI20: O | BJ20: =VLOOKUP($AL20&BJ$4,'団体（エントリー）'!$U$7:$AC$82,データ※触らないでください!BJ$3,FALSE) | BK20: =VLOOKUP($AL20&BK$4,'団体（エントリー）'!$U$7:$AC$82,データ※触らないでください!BK$3,FALSE) | BL20: =VLOOKUP($AL20&BL$4,'団体（エントリー）'!$U$7:$AC$82,データ※触らないでください!BL$3,FALSE) | BM20: =VLOOKUP($AL20&BM$4,'団体（エントリー）'!$U$7:$AC$82,データ※触らないでください!BM$3,FALSE) | BN20: =VLOOKUP($AL20&BN$4,'団体（エントリー）'!$U$7:$AC$82,データ※触らないでください!BN$3,FALSE) | BO20: =VLOOKUP($AL20&BO$4,'団体（エントリー）'!$U$7:$AC$82,データ※触らないでください!BO$3,FALSE) -> 0 | BP20: =VLOOKUP($AL20&BP$4,'団体（エントリー）'!$U$7:$AC$82,データ※触らないでください!BP$3,FALSE) -> 0 | BQ20: =VLOOKUP($AL20&BQ$4,'団体（エントリー）'!$U$7:$AC$82,データ※触らないでください!BQ$3,FALSE) -> 0 | ... CC20: =VLOOKUP($AL20&CC$4,'団体（エントリー）'!$U$7:$AC$82,データ※触らないでください!CC$3,FALSE) -> 0
B21: =学校番号 -> 0 | C21: BS-16 | D21: ='シングルス（エントリー）'!C22&" "&'シングルス（エントリー）'!D22&" "&'シングルス（エントリー）'!E22 | E21: =表示名 -> 0 | F21: ='シングルス（エントリー）'!F22 -> 0 | G21: ='シングルス（エントリー）'!G22 -> 0 | H21: =学校番号 -> 0 | I21: GS-16 | J21: ='シングルス（エントリー）'!J22&" "&'シングルス（エントリー）'!K22&" "&'シングルス（エントリー）'!L22 | K21: =表示名 -> 0 | L21: ='シングルス（エントリー）'!M22 -> 0 | M21: ='シングルス（エントリー）'!N22 -> 0 | O21: =学校番号 -> 0 | P21: =表示名 -> 0 | Q21: BD-16 | R21: ='ダブルス（エントリー）'!D37&" "&'ダブルス（エントリー）'!E37&" "&'ダブルス（エントリー）'!F37 | S21: ='ダブルス（エントリー）'!G37 -> 0 | T21: ='ダブルス（エントリー）'!H37 -> 0 | U21: ='ダブルス（エントリー）'!D38&" "&'ダブルス（エントリー）'!E38&" "&'ダブルス（エントリー）'!F38 | V21: ='ダブルス（エントリー）'!G38 -> 0 | W21: ='ダブルス（エントリー）'!H38 -> 0 | X21: =S21+V21 -> 0 | Y21: =学校番号 -> 0 | Z21: =表示名 -> 0 | AA21: BD-16 | AB21: ='ダブルス（エントリー）'!K37&" "&'ダブルス（エントリー）'!L37&" "&'ダブルス（エントリー）'!M37 | AC21: ='ダブルス（エントリー）'!N37 -> 0 | AD21: ='ダブルス（エントリー）'!O37 -> 0 | AE21: ='ダブルス（エントリー）'!K38&" "&'ダブルス（エントリー）'!L38&" "&'ダブルス（エントリー）'!M38 | AF21: ='ダブルス（エントリー）'!N38 -> 0 | AG21: ='ダブルス（エントリー）'!O38 -> 0 | AH21: =AC21+AF21 -> 0
B22: =学校番号 -> 0 | C22: BS-17 | D22: ='シングルス（エントリー）'!C23&" "&'シングルス（エントリー）'!D23&" "&'シングルス（エントリー）'!E23 | E22: =表示名 -> 0 | F22: ='シングルス（エントリー）'!F23 -> 0 | G22: ='シングルス（エントリー）'!G23 -> 0 | H22: =学校番号 -> 0 | I22: GS-17 | J22: ='シングルス（エントリー）'!J23&" "&'シングルス（エントリー）'!K23&" "&'シングルス（エントリー）'!L23 | K22: =表示名 -> 0 | L22: ='シングルス（エントリー）'!M23 -> 0 | M22: ='シングルス（エントリー）'!N23 -> 0 | O22: =学校番号 -> 0 | P22: =表示名 -> 0 | Q22: BD-17 | R22: ='ダブルス（エントリー）'!D39&" "&'ダブルス（エントリー）'!E39&" "&'ダブルス（エントリー）'!F39 | S22: ='ダブルス（エントリー）'!G39 -> 0 | T22: ='ダブルス（エントリー）'!H39 -> 0 | U22: ='ダブルス（エントリー）'!D40&" "&'ダブルス（エントリー）'!E40&" "&'ダブルス（エントリー）'!F40 | V22: ='ダブルス（エントリー）'!G40 -> 0 | W22: ='ダブルス（エントリー）'!H40 -> 0 | X22: =S22+V22 -> 0 | Y22: =学校番号 -> 0 | Z22: =表示名 -> 0 | AA22: BD-17 | AB22: ='ダブルス（エントリー）'!K39&" "&'ダブルス（エントリー）'!L39&" "&'ダブルス（エントリー）'!M39 | AC22: ='ダブルス（エントリー）'!N39 -> 0 | AD22: ='ダブルス（エントリー）'!O39 -> 0 | AE22: ='ダブルス（エントリー）'!K40&" "&'ダブルス（エントリー）'!L40&" "&'ダブルス（エントリー）'!M40 | AF22: ='ダブルス（エントリー）'!N40 -> 0 | AG22: ='ダブルス（エントリー）'!O40 -> 0 | AH22: =AC22+AF22 -> 0
B23: =学校番号 -> 0 | C23: BS-18 | D23: ='シングルス（エントリー）'!C24&" "&'シングルス（エントリー）'!D24&" "&'シングルス（エントリー）'!E24 | E23: =表示名 -> 0 | F23: ='シングルス（エントリー）'!F24 -> 0 | G23: ='シングルス（エントリー）'!G24 -> 0 | H23: =学校番号 -> 0 | I23: GS-18 | J23: ='シングルス（エントリー）'!J24&" "&'シングルス（エントリー）'!K24&" "&'シングルス（エントリー）'!L24 | K23: =表示名 -> 0 | L23: ='シングルス（エントリー）'!M24 -> 0 | M23: ='シングルス（エントリー）'!N24 -> 0 | O23: =学校番号 -> 0 | P23: =表示名 -> 0 | Q23: BD-18 | R23: ='ダブルス（エントリー）'!D41&" "&'ダブルス（エントリー）'!E41&" "&'ダブルス（エントリー）'!F41 | S23: ='ダブルス（エントリー）'!G41 -> 0 | T23: ='ダブルス（エントリー）'!H41 -> 0 | U23: ='ダブルス（エントリー）'!D42&" "&'ダブルス（エントリー）'!E42&" "&'ダブルス（エントリー）'!F42 | V23: ='ダブルス（エントリー）'!G42 -> 0 | W23: ='ダブルス（エントリー）'!H42 -> 0 | X23: =S23+V23 -> 0 | Y23: =学校番号 -> 0 | Z23: =表示名 -> 0 | AA23: BD-18 | AB23: ='ダブルス（エントリー）'!K41&" "&'ダブルス（エントリー）'!L41&" "&'ダブルス（エントリー）'!M41 | AC23: ='ダブルス（エントリー）'!N41 -> 0 | AD23: ='ダブルス（エントリー）'!O41 -> 0 | AE23: ='ダブルス（エントリー）'!K42&" "&'ダブルス（エントリー）'!L42&" "&'ダブルス（エントリー）'!M42 | AF23: ='ダブルス（エントリー）'!N42 -> 0 | AG23: ='ダブルス（エントリー）'!O42 -> 0 | AH23: =AC23+AF23 -> 0
B24: =学校番号 -> 0 | C24: BS-19 | D24: ='シングルス（エントリー）'!C25&" "&'シングルス（エントリー）'!D25&" "&'シングルス（エントリー）'!E25 | E24: =表示名 -> 0 | F24: ='シングルス（エントリー）'!F25 -> 0 | G24: ='シングルス（エントリー）'!G25 -> 0 | H24: =学校番号 -> 0 | I24: GS-19 | J24: ='シングルス（エントリー）'!J25&" "&'シングルス（エントリー）'!K25&" "&'シングルス（エントリー）'!L25 | K24: =表示名 -> 0 | L24: ='シングルス（エントリー）'!M25 -> 0 | M24: ='シングルス（エントリー）'!N25 -> 0 | O24: =学校番号 -> 0 | P24: =表示名 -> 0 | Q24: BD-19 | R24: ='ダブルス（エントリー）'!D43&" "&'ダブルス（エントリー）'!E43&" "&'ダブルス（エントリー）'!F43 | S24: ='ダブルス（エントリー）'!G43 -> 0 | T24: ='ダブルス（エントリー）'!H43 -> 0 | U24: ='ダブルス（エントリー）'!D44&" "&'ダブルス（エントリー）'!E44&" "&'ダブルス（エントリー）'!F44 | V24: ='ダブルス（エントリー）'!G44 -> 0 | W24: ='ダブルス（エントリー）'!H44 -> 0 | X24: =S24+V24 -> 0 | Y24: =学校番号 -> 0 | Z24: =表示名 -> 0 | AA24: BD-19 | AB24: ='ダブルス（エントリー）'!K43&" "&'ダブルス（エントリー）'!L43&" "&'ダブルス（エントリー）'!M43 | AC24: ='ダブルス（エントリー）'!N43 -> 0 | AD24: ='ダブルス（エントリー）'!O43 -> 0 | AE24: ='ダブルス（エントリー）'!K44&" "&'ダブルス（エントリー）'!L44&" "&'ダブルス（エントリー）'!M44 | AF24: ='ダブルス（エントリー）'!N44 -> 0 | AG24: ='ダブルス（エントリー）'!O44 -> 0 | AH24: =AC24+AF24 -> 0
B25: =学校番号 -> 0 | C25: BS-20 | D25: ='シングルス（エントリー）'!C26&" "&'シングルス（エントリー）'!D26&" "&'シングルス（エントリー）'!E26 | E25: =表示名 -> 0 | F25: ='シングルス（エントリー）'!F26 -> 0 | G25: ='シングルス（エントリー）'!G26 -> 0 | H25: =学校番号 -> 0 | I25: GS-20 | J25: ='シングルス（エントリー）'!J26&" "&'シングルス（エントリー）'!K26&" "&'シングルス（エントリー）'!L26 | K25: =表示名 -> 0 | L25: ='シングルス（エントリー）'!M26 -> 0 | M25: ='シングルス（エントリー）'!N26 -> 0 | O25: =学校番号 -> 0 | P25: =表示名 -> 0 | Q25: BD-20 | R25: ='ダブルス（エントリー）'!D45&" "&'ダブルス（エントリー）'!E45&" "&'ダブルス（エントリー）'!F45 | S25: ='ダブルス（エントリー）'!G45 -> 0 | T25: ='ダブルス（エントリー）'!H45 -> 0 | U25: ='ダブルス（エントリー）'!D46&" "&'ダブルス（エントリー）'!E46&" "&'ダブルス（エントリー）'!F46 | V25: ='ダブルス（エントリー）'!G46 -> 0 | W25: ='ダブルス（エントリー）'!H46 -> 0 | X25: =S25+V25 -> 0 | Y25: =学校番号 -> 0 | Z25: =表示名 -> 0 | AA25: BD-20 | AB25: ='ダブルス（エントリー）'!K45&" "&'ダブルス（エントリー）'!L45&" "&'ダブルス（エントリー）'!M45 | AC25: ='ダブルス（エントリー）'!N45 -> 0 | AD25: ='ダブルス（エントリー）'!O45 -> 0 | AE25: ='ダブルス（エントリー）'!K46&" "&'ダブルス（エントリー）'!L46&" "&'ダブルス（エントリー）'!M46 | AF25: ='ダブルス（エントリー）'!N46 -> 0 | AG25: ='ダブルス（エントリー）'!O46 -> 0 | AH25: =AC25+AF25 -> 0
B26: =学校番号 -> 0 | C26: BS-21 | D26: ='シングルス（エントリー）'!C27&" "&'シングルス（エントリー）'!D27&" "&'シングルス（エントリー）'!E27 | E26: =表示名 -> 0 | F26: ='シングルス（エントリー）'!F27 -> 0 | G26: ='シングルス（エントリー）'!G27 -> 0 | H26: =学校番号 -> 0 | I26: GS-21 | J26: ='シングルス（エントリー）'!J27&" "&'シングルス（エントリー）'!K27&" "&'シングルス（エントリー）'!L27 | K26: =表示名 -> 0 | L26: ='シングルス（エントリー）'!M27 -> 0 | M26: ='シングルス（エントリー）'!N27 -> 0 | O26: =学校番号 -> 0 | P26: =表示名 -> 0 | Q26: BD-21 | R26: ='ダブルス（エントリー）'!D47&" "&'ダブルス（エントリー）'!E47&" "&'ダブルス（エントリー）'!F47 | S26: ='ダブルス（エントリー）'!G47 -> 0 | T26: ='ダブルス（エントリー）'!H47 -> 0 | U26: ='ダブルス（エントリー）'!D48&" "&'ダブルス（エントリー）'!E48&" "&'ダブルス（エントリー）'!F48 | V26: ='ダブルス（エントリー）'!G48 -> 0 | W26: ='ダブルス（エントリー）'!H48 -> 0 | X26: =S26+V26 -> 0 | Y26: =学校番号 -> 0 | Z26: =表示名 -> 0 | AA26: BD-21 | AB26: ='ダブルス（エントリー）'!K47&" "&'ダブルス（エントリー）'!L47&" "&'ダブルス（エントリー）'!M47 | AC26: ='ダブルス（エントリー）'!N47 -> 0 | AD26: ='ダブルス（エントリー）'!O47 -> 0 | AE26: ='ダブルス（エントリー）'!K48&" "&'ダブルス（エントリー）'!L48&" "&'ダブルス（エントリー）'!M48 | AF26: ='ダブルス（エントリー）'!N48 -> 0 | AG26: ='ダブルス（エントリー）'!O48 -> 0 | AH26: =AC26+AF26 -> 0
B27: =学校番号 -> 0 | C27: BS-22 | D27: ='シングルス（エントリー）'!C28&" "&'シングルス（エントリー）'!D28&" "&'シングルス（エントリー）'!E28 | E27: =表示名 -> 0 | F27: ='シングルス（エントリー）'!F28 -> 0 | G27: ='シングルス（エントリー）'!G28 -> 0 | H27: =学校番号 -> 0 | I27: GS-22 | J27: ='シングルス（エントリー）'!J28&" "&'シングルス（エントリー）'!K28&" "&'シングルス（エントリー）'!L28 | K27: =表示名 -> 0 | L27: ='シングルス（エントリー）'!M28 -> 0 | M27: ='シングルス（エントリー）'!N28 -> 0 | O27: =学校番号 -> 0 | P27: =表示名 -> 0 | Q27: BD-22 | R27: ='ダブルス（エントリー）'!D49&" "&'ダブルス（エントリー）'!E49&" "&'ダブルス（エントリー）'!F49 | S27: ='ダブルス（エントリー）'!G49 -> 0 | T27: ='ダブルス（エントリー）'!H49 -> 0 | U27: ='ダブルス（エントリー）'!D50&" "&'ダブルス（エントリー）'!E50&" "&'ダブルス（エントリー）'!F50 | V27: ='ダブルス（エントリー）'!G50 -> 0 | W27: ='ダブルス（エントリー）'!H50 -> 0 | X27: =S27+V27 -> 0 | Y27: =学校番号 -> 0 | Z27: =表示名 -> 0 | AA27: BD-22 | AB27: ='ダブルス（エントリー）'!K49&" "&'ダブルス（エントリー）'!L49&" "&'ダブルス（エントリー）'!M49 | AC27: ='ダブルス（エントリー）'!N49 -> 0 | AD27: ='ダブルス（エントリー）'!O49 -> 0 | AE27: ='ダブルス（エントリー）'!K50&" "&'ダブルス（エントリー）'!L50&" "&'ダブルス（エントリー）'!M50 | AF27: ='ダブルス（エントリー）'!N50 -> 0 | AG27: ='ダブルス（エントリー）'!O50 -> 0 | AH27: =AC27+AF27 -> 0
B28: =学校番号 -> 0 | C28: BS-23 | D28: ='シングルス（エントリー）'!C29&" "&'シングルス（エントリー）'!D29&" "&'シングルス（エントリー）'!E29 | E28: =表示名 -> 0 | F28: ='シングルス（エントリー）'!F29 -> 0 | G28: ='シングルス（エントリー）'!G29 -> 0 | H28: =学校番号 -> 0 | I28: GS-23 | J28: ='シングルス（エントリー）'!J29&" "&'シングルス（エントリー）'!K29&" "&'シングルス（エントリー）'!L29 | K28: =表示名 -> 0 | L28: ='シングルス（エントリー）'!M29 -> 0 | M28: ='シングルス（エントリー）'!N29 -> 0 | O28: =学校番号 -> 0 | P28: =表示名 -> 0 | Q28: BD-23 | R28: ='ダブルス（エントリー）'!D51&" "&'ダブルス（エントリー）'!E51&" "&'ダブルス（エントリー）'!F51 | S28: ='ダブルス（エントリー）'!G51 -> 0 | T28: ='ダブルス（エントリー）'!H51 -> 0 | U28: ='ダブルス（エントリー）'!D52&" "&'ダブルス（エントリー）'!E52&" "&'ダブルス（エントリー）'!F52 | V28: ='ダブルス（エントリー）'!G52 -> 0 | W28: ='ダブルス（エントリー）'!H52 -> 0 | X28: =S28+V28 -> 0 | Y28: =学校番号 -> 0 | Z28: =表示名 -> 0 | AA28: BD-23 | AB28: ='ダブルス（エントリー）'!K51&" "&'ダブルス（エントリー）'!L51&" "&'ダブルス（エントリー）'!M51 | AC28: ='ダブルス（エントリー）'!N51 -> 0 | AD28: ='ダブルス（エントリー）'!O51 -> 0 | AE28: ='ダブルス（エントリー）'!K52&" "&'ダブルス（エントリー）'!L52&" "&'ダブルス（エントリー）'!M52 | AF28: ='ダブルス（エントリー）'!N52 -> 0 | AG28: ='ダブルス（エントリー）'!O52 -> 0 | AH28: =AC28+AF28 -> 0
B29: =学校番号 -> 0 | C29: BS-24 | D29: ='シングルス（エントリー）'!C30&" "&'シングルス（エントリー）'!D30&" "&'シングルス（エントリー）'!E30 | E29: =表示名 -> 0 | F29: ='シングルス（エントリー）'!F30 -> 0 | G29: ='シングルス（エントリー）'!G30 -> 0 | H29: =学校番号 -> 0 | I29: GS-24 | J29: ='シングルス（エントリー）'!J30&" "&'シングルス（エントリー）'!K30&" "&'シングルス（エントリー）'!L30 | K29: =表示名 -> 0 | L29: ='シングルス（エントリー）'!M30 -> 0 | M29: ='シングルス（エントリー）'!N30 -> 0 | O29: =学校番号 -> 0 | P29: =表示名 -> 0 | Q29: BD-24 | R29: ='ダブルス（エントリー）'!D53&" "&'ダブルス（エントリー）'!E53&" "&'ダブルス（エントリー）'!F53 | S29: ='ダブルス（エントリー）'!G53 -> 0 | T29: ='ダブルス（エントリー）'!H53 -> 0 | U29: ='ダブルス（エントリー）'!D54&" "&'ダブルス（エントリー）'!E54&" "&'ダブルス（エントリー）'!F54 | V29: ='ダブルス（エントリー）'!G54 -> 0 | W29: ='ダブルス（エントリー）'!H54 -> 0 | X29: =S29+V29 -> 0 | Y29: =学校番号 -> 0 | Z29: =表示名 -> 0 | AA29: BD-24 | AB29: ='ダブルス（エントリー）'!K53&" "&'ダブルス（エントリー）'!L53&" "&'ダブルス（エントリー）'!M53 | AC29: ='ダブルス（エントリー）'!N53 -> 0 | AD29: ='ダブルス（エントリー）'!O53 -> 0 | AE29: ='ダブルス（エントリー）'!K54&" "&'ダブルス（エントリー）'!L54&" "&'ダブルス（エントリー）'!M54 | AF29: ='ダブルス（エントリー）'!N54 -> 0 | AG29: ='ダブルス（エントリー）'!O54 -> 0 | AH29: =AC29+AF29 -> 0
B30: =学校番号 -> 0 | C30: BS-25 | D30: ='シングルス（エントリー）'!C31&" "&'シングルス（エントリー）'!D31&" "&'シングルス（エントリー）'!E31 | E30: =表示名 -> 0 | F30: ='シングルス（エントリー）'!F31 -> 0 | G30: ='シングルス（エントリー）'!G31 -> 0 | H30: =学校番号 -> 0 | I30: GS-25 | J30: ='シングルス（エントリー）'!J31&" "&'シングルス（エントリー）'!K31&" "&'シングルス（エントリー）'!L31 | K30: =表示名 -> 0 | L30: ='シングルス（エントリー）'!M31 -> 0 | M30: ='シングルス（エントリー）'!N31 -> 0 | O30: =学校番号 -> 0 | P30: =表示名 -> 0 | Q30: BD-25 | R30: ='ダブルス（エントリー）'!D55&" "&'ダブルス（エントリー）'!E55&" "&'ダブルス（エントリー）'!F55 | S30: ='ダブルス（エントリー）'!G55 -> 0 | T30: ='ダブルス（エントリー）'!H55 -> 0 | U30: ='ダブルス（エントリー）'!D56&" "&'ダブルス（エントリー）'!E56&" "&'ダブルス（エントリー）'!F56 | V30: ='ダブルス（エントリー）'!G56 -> 0 | W30: ='ダブルス（エントリー）'!H56 -> 0 | X30: =S30+V30 -> 0 | Y30: =学校番号 -> 0 | Z30: =表示名 -> 0 | AA30: BD-25 | AB30: ='ダブルス（エントリー）'!K55&" "&'ダブルス（エントリー）'!L55&" "&'ダブルス（エントリー）'!M55 | AC30: ='ダブルス（エントリー）'!N55 -> 0 | AD30: ='ダブルス（エントリー）'!O55 -> 0 | AE30: ='ダブルス（エントリー）'!K56&" "&'ダブルス（エントリー）'!L56&" "&'ダブルス（エントリー）'!M56 | AF30: ='ダブルス（エントリー）'!N56 -> 0 | AG30: ='ダブルス（エントリー）'!O56 -> 0 | AH30: =AC30+AF30 -> 0
B31: =学校番号 -> 0 | C31: BS-26 | D31: ='シングルス（エントリー）'!C32&" "&'シングルス（エントリー）'!D32&" "&'シングルス（エントリー）'!E32 | E31: =表示名 -> 0 | F31: ='シングルス（エントリー）'!F32 -> 0 | G31: ='シングルス（エントリー）'!G32 -> 0 | H31: =学校番号 -> 0 | I31: GS-26 | J31: ='シングルス（エントリー）'!J32&" "&'シングルス（エントリー）'!K32&" "&'シングルス（エントリー）'!L32 | K31: =表示名 -> 0 | L31: ='シングルス（エントリー）'!M32 -> 0 | M31: ='シングルス（エントリー）'!N32 -> 0 | O31: =学校番号 -> 0 | P31: =表示名 -> 0 | Q31: BD-26 | R31: ='ダブルス（エントリー）'!D57&" "&'ダブルス（エントリー）'!E57&" "&'ダブルス（エントリー）'!F57 | S31: ='ダブルス（エントリー）'!G57 -> 0 | T31: ='ダブルス（エントリー）'!H57 -> 0 | U31: ='ダブルス（エントリー）'!D58&" "&'ダブルス（エントリー）'!E58&" "&'ダブルス（エントリー）'!F58 | V31: ='ダブルス（エントリー）'!G58 -> 0 | W31: ='ダブルス（エントリー）'!H58 -> 0 | X31: =S31+V31 -> 0 | Y31: =学校番号 -> 0 | Z31: =表示名 -> 0 | AA31: BD-26 | AB31: ='ダブルス（エントリー）'!K57&" "&'ダブルス（エントリー）'!L57&" "&'ダブルス（エントリー）'!M57 | AC31: ='ダブルス（エントリー）'!N57 -> 0 | AD31: ='ダブルス（エントリー）'!O57 -> 0 | AE31: ='ダブルス（エントリー）'!K58&" "&'ダブルス（エントリー）'!L58&" "&'ダブルス（エントリー）'!M58 | AF31: ='ダブルス（エントリー）'!N58 -> 0 | AG31: ='ダブルス（エントリー）'!O58 -> 0 | AH31: =AC31+AF31 -> 0
B32: =学校番号 -> 0 | C32: BS-27 | D32: ='シングルス（エントリー）'!C33&" "&'シングルス（エントリー）'!D33&" "&'シングルス（エントリー）'!E33 | E32: =表示名 -> 0 | F32: ='シングルス（エントリー）'!F33 -> 0 | G32: ='シングルス（エントリー）'!G33 -> 0 | H32: =学校番号 -> 0 | I32: GS-27 | J32: ='シングルス（エントリー）'!J33&" "&'シングルス（エントリー）'!K33&" "&'シングルス（エントリー）'!L33 | K32: =表示名 -> 0 | L32: ='シングルス（エントリー）'!M33 -> 0 | M32: ='シングルス（エントリー）'!N33 -> 0 | O32: =学校番号 -> 0 | P32: =表示名 -> 0 | Q32: BD-27 | R32: ='ダブルス（エントリー）'!D59&" "&'ダブルス（エントリー）'!E59&" "&'ダブルス（エントリー）'!F59 | S32: ='ダブルス（エントリー）'!G59 -> 0 | T32: ='ダブルス（エントリー）'!H59 -> 0 | U32: ='ダブルス（エントリー）'!D60&" "&'ダブルス（エントリー）'!E60&" "&'ダブルス（エントリー）'!F60 | V32: ='ダブルス（エントリー）'!G60 -> 0 | W32: ='ダブルス（エントリー）'!H60 -> 0 | X32: =S32+V32 -> 0 | Y32: =学校番号 -> 0 | Z32: =表示名 -> 0 | AA32: BD-27 | AB32: ='ダブルス（エントリー）'!K59&" "&'ダブルス（エントリー）'!L59&" "&'ダブルス（エントリー）'!M59 | AC32: ='ダブルス（エントリー）'!N59 -> 0 | AD32: ='ダブルス（エントリー）'!O59 -> 0 | AE32: ='ダブルス（エントリー）'!K60&" "&'ダブルス（エントリー）'!L60&" "&'ダブルス（エントリー）'!M60 | AF32: ='ダブルス（エントリー）'!N60 -> 0 | AG32: ='ダブルス（エントリー）'!O60 -> 0 | AH32: =AC32+AF32 -> 0
B33: =学校番号 -> 0 | C33: BS-28 | D33: ='シングルス（エントリー）'!C34&" "&'シングルス（エントリー）'!D34&" "&'シングルス（エントリー）'!E34 | E33: =表示名 -> 0 | F33: ='シングルス（エントリー）'!F34 -> 0 | G33: ='シングルス（エントリー）'!G34 -> 0 | H33: =学校番号 -> 0 | I33: GS-28 | J33: ='シングルス（エントリー）'!J34&" "&'シングルス（エントリー）'!K34&" "&'シングルス（エントリー）'!L34 | K33: =表示名 -> 0 | L33: ='シングルス（エントリー）'!M34 -> 0 | M33: ='シングルス（エントリー）'!N34 -> 0 | O33: =学校番号 -> 0 | P33: =表示名 -> 0 | Q33: BD-28 | R33: ='ダブルス（エントリー）'!D61&" "&'ダブルス（エントリー）'!E61&" "&'ダブルス（エントリー）'!F61 | S33: ='ダブルス（エントリー）'!G61 -> 0 | T33: ='ダブルス（エントリー）'!H61 -> 0 | U33: ='ダブルス（エントリー）'!D62&" "&'ダブルス（エントリー）'!E62&" "&'ダブルス（エントリー）'!F62 | V33: ='ダブルス（エントリー）'!G62 -> 0 | W33: ='ダブルス（エントリー）'!H62 -> 0 | X33: =S33+V33 -> 0 | Y33: =学校番号 -> 0 | Z33: =表示名 -> 0 | AA33: BD-28 | AB33: ='ダブルス（エントリー）'!K61&" "&'ダブルス（エントリー）'!L61&" "&'ダブルス（エントリー）'!M61 | AC33: ='ダブルス（エントリー）'!N61 -> 0 | AD33: ='ダブルス（エントリー）'!O61 -> 0 | AE33: ='ダブルス（エントリー）'!K62&" "&'ダブルス（エントリー）'!L62&" "&'ダブルス（エントリー）'!M62 | AF33: ='ダブルス（エントリー）'!N62 -> 0 | AG33: ='ダブルス（エントリー）'!O62 -> 0 | AH33: =AC33+AF33 -> 0
B34: =学校番号 -> 0 | C34: BS-29 | D34: ='シングルス（エントリー）'!C35&" "&'シングルス（エントリー）'!D35&" "&'シングルス（エントリー）'!E35 | E34: =表示名 -> 0 | F34: ='シングルス（エントリー）'!F35 -> 0 | G34: ='シングルス（エントリー）'!G35 -> 0 | H34: =学校番号 -> 0 | I34: GS-29 | J34: ='シングルス（エントリー）'!J35&" "&'シングルス（エントリー）'!K35&" "&'シングルス（エントリー）'!L35 | K34: =表示名 -> 0 | L34: ='シングルス（エントリー）'!M35 -> 0 | M34: ='シングルス（エントリー）'!N35 -> 0 | O34: =学校番号 -> 0 | P34: =表示名 -> 0 | Q34: BD-29 | R34: ='ダブルス（エントリー）'!D63&" "&'ダブルス（エントリー）'!E63&" "&'ダブルス（エントリー）'!F63 | S34: ='ダブルス（エントリー）'!G63 -> 0 | T34: ='ダブルス（エントリー）'!H63 -> 0 | U34: ='ダブルス（エントリー）'!D64&" "&'ダブルス（エントリー）'!E64&" "&'ダブルス（エントリー）'!F64 | V34: ='ダブルス（エントリー）'!G64 -> 0 | W34: ='ダブルス（エントリー）'!H64 -> 0 | X34: =S34+V34 -> 0 | Y34: =学校番号 -> 0 | Z34: =表示名 -> 0 | AA34: BD-29 | AB34: ='ダブルス（エントリー）'!K63&" "&'ダブルス（エントリー）'!L63&" "&'ダブルス（エントリー）'!M63 | AC34: ='ダブルス（エントリー）'!N63 -> 0 | AD34: ='ダブルス（エントリー）'!O63 -> 0 | AE34: ='ダブルス（エントリー）'!K64&" "&'ダブルス（エントリー）'!L64&" "&'ダブルス（エントリー）'!M64 | AF34: ='ダブルス（エントリー）'!N64 -> 0 | AG34: ='ダブルス（エントリー）'!O64 -> 0 | AH34: =AC34+AF34 -> 0
B35: =学校番号 -> 0 | C35: BS-30 | D35: ='シングルス（エントリー）'!C36&" "&'シングルス（エントリー）'!D36&" "&'シングルス（エントリー）'!E36 | E35: =表示名 -> 0 | F35: ='シングルス（エントリー）'!F36 -> 0 | G35: ='シングルス（エントリー）'!G36 -> 0 | H35: =学校番号 -> 0 | I35: GS-30 | J35: ='シングルス（エントリー）'!J36&" "&'シングルス（エントリー）'!K36&" "&'シングルス（エントリー）'!L36 | K35: =表示名 -> 0 | L35: ='シングルス（エントリー）'!M36 -> 0 | M35: ='シングルス（エントリー）'!N36 -> 0 | O35: =学校番号 -> 0 | P35: =表示名 -> 0 | Q35: BD-30 | R35: ='ダブルス（エントリー）'!D65&" "&'ダブルス（エントリー）'!E65&" "&'ダブルス（エントリー）'!F65 | S35: ='ダブルス（エントリー）'!G65 -> 0 | T35: ='ダブルス（エントリー）'!H65 -> 0 | U35: ='ダブルス（エントリー）'!D66&" "&'ダブルス（エントリー）'!E66&" "&'ダブルス（エントリー）'!F66 | V35: ='ダブルス（エントリー）'!G66 -> 0 | W35: ='ダブルス（エントリー）'!H66 -> 0 | X35: =S35+V35 -> 0 | Y35: =学校番号 -> 0 | Z35: =表示名 -> 0 | AA35: BD-30 | AB35: ='ダブルス（エントリー）'!K65&" "&'ダブルス（エントリー）'!L65&" "&'ダブルス（エントリー）'!M65 | AC35: ='ダブルス（エントリー）'!N65 -> 0 | AD35: ='ダブルス（エントリー）'!O65 -> 0 | AE35: ='ダブルス（エントリー）'!K66&" "&'ダブルス（エントリー）'!L66&" "&'ダブルス（エントリー）'!M66 | AF35: ='ダブルス（エントリー）'!N66 -> 0 | AG35: ='ダブルス（エントリー）'!O66 -> 0 | AH35: =AC35+AF35 -> 0
B36: =学校番号 -> 0 | C36: BS-31 | D36: ='シングルス（エントリー）'!C37&" "&'シングルス（エントリー）'!D37&" "&'シングルス（エントリー）'!E37 | E36: =表示名 -> 0 | F36: ='シングルス（エントリー）'!F37 -> 0 | G36: ='シングルス（エントリー）'!G37 -> 0 | H36: =学校番号 -> 0 | I36: GS-31 | J36: ='シングルス（エントリー）'!J37&" "&'シングルス（エントリー）'!K37&" "&'シングルス（エントリー）'!L37 | K36: =表示名 -> 0 | L36: ='シングルス（エントリー）'!M37 -> 0 | M36: ='シングルス（エントリー）'!N37 -> 0 | O36: =学校番号 -> 0 | P36: =表示名 -> 0 | Q36: BD-31 | R36: ='ダブルス（エントリー）'!D67&" "&'ダブルス（エントリー）'!E67&" "&'ダブルス（エントリー）'!F67 | S36: ='ダブルス（エントリー）'!G67 -> 0 | T36: ='ダブルス（エントリー）'!H67 -> 0 | U36: ='ダブルス（エントリー）'!D68&" "&'ダブルス（エントリー）'!E68&" "&'ダブルス（エントリー）'!F68 | V36: ='ダブルス（エントリー）'!G68 -> 0 | W36: ='ダブルス（エントリー）'!H68 -> 0 | X36: =S36+V36 -> 0 | Y36: =学校番号 -> 0 | Z36: =表示名 -> 0 | AA36: BD-31 | AB36: ='ダブルス（エントリー）'!K67&" "&'ダブルス（エントリー）'!L67&" "&'ダブルス（エントリー）'!M67 | AC36: ='ダブルス（エントリー）'!N67 -> 0 | AD36: ='ダブルス（エントリー）'!O67 -> 0 | AE36: ='ダブルス（エントリー）'!K68&" "&'ダブルス（エントリー）'!L68&" "&'ダブルス（エントリー）'!M68 | AF36: ='ダブルス（エントリー）'!N68 -> 0 | AG36: ='ダブルス（エントリー）'!O68 -> 0 | AH36: =AC36+AF36 -> 0
B37: =学校番号 -> 0 | C37: BS-32 | D37: ='シングルス（エントリー）'!C38&" "&'シングルス（エントリー）'!D38&" "&'シングルス（エントリー）'!E38 | E37: =表示名 -> 0 | F37: ='シングルス（エントリー）'!F38 -> 0 | G37: ='シングルス（エントリー）'!G38 -> 0 | H37: =学校番号 -> 0 | I37: GS-32 | J37: ='シングルス（エントリー）'!J38&" "&'シングルス（エントリー）'!K38&" "&'シングルス（エントリー）'!L38 | K37: =表示名 -> 0 | L37: ='シングルス（エントリー）'!M38 -> 0 | M37: ='シングルス（エントリー）'!N38 -> 0 | O37: =学校番号 -> 0 | P37: =表示名 -> 0 | Q37: BD-32 | R37: ='ダブルス（エントリー）'!D69&" "&'ダブルス（エントリー）'!E69&" "&'ダブルス（エントリー）'!F69 | S37: ='ダブルス（エントリー）'!G69 -> 0 | T37: ='ダブルス（エントリー）'!H69 -> 0 | U37: ='ダブルス（エントリー）'!D70&" "&'ダブルス（エントリー）'!E70&" "&'ダブルス（エントリー）'!F70 | V37: ='ダブルス（エントリー）'!G70 -> 0 | W37: ='ダブルス（エントリー）'!H70 -> 0 | X37: =S37+V37 -> 0 | Y37: =学校番号 -> 0 | Z37: =表示名 -> 0 | AA37: BD-32 | AB37: ='ダブルス（エントリー）'!K69&" "&'ダブルス（エントリー）'!L69&" "&'ダブルス（エントリー）'!M69 | AC37: ='ダブルス（エントリー）'!N69 -> 0 | AD37: ='ダブルス（エントリー）'!O69 -> 0 | AE37: ='ダブルス（エントリー）'!K70&" "&'ダブルス（エントリー）'!L70&" "&'ダブルス（エントリー）'!M70 | AF37: ='ダブルス（エントリー）'!N70 -> 0 | AG37: ='ダブルス（エントリー）'!O70 -> 0 | AH37: =AC37+AF37 -> 0
B38: =学校番号 -> 0 | C38: BS-33 | D38: ='シングルス（エントリー）'!C39&" "&'シングルス（エントリー）'!D39&" "&'シングルス（エントリー）'!E39 | E38: =表示名 -> 0 | F38: ='シングルス（エントリー）'!F39 -> 0 | G38: ='シングルス（エントリー）'!G39 -> 0 | H38: =学校番号 -> 0 | I38: GS-33 | J38: ='シングルス（エントリー）'!J39&" "&'シングルス（エントリー）'!K39&" "&'シングルス（エントリー）'!L39 | K38: =表示名 -> 0 | L38: ='シングルス（エントリー）'!M39 -> 0 | M38: ='シングルス（エントリー）'!N39 -> 0 | O38: =学校番号 -> 0 | P38: =表示名 -> 0 | Q38: BD-33 | R38: ='ダブルス（エントリー）'!D71&" "&'ダブルス（エントリー）'!E71&" "&'ダブルス（エントリー）'!F71 | S38: ='ダブルス（エントリー）'!G71 -> 0 | T38: ='ダブルス（エントリー）'!H71 -> 0 | U38: ='ダブルス（エントリー）'!D72&" "&'ダブルス（エントリー）'!E72&" "&'ダブルス（エントリー）'!F72 | V38: ='ダブルス（エントリー）'!G72 -> 0 | W38: ='ダブルス（エントリー）'!H72 -> 0 | X38: =S38+V38 -> 0 | Y38: =学校番号 -> 0 | Z38: =表示名 -> 0 | AA38: BD-33 | AB38: ='ダブルス（エントリー）'!K71&" "&'ダブルス（エントリー）'!L71&" "&'ダブルス（エントリー）'!M71 | AC38: ='ダブルス（エントリー）'!N71 -> 0 | AD38: ='ダブルス（エントリー）'!O71 -> 0 | AE38: ='ダブルス（エントリー）'!K72&" "&'ダブルス（エントリー）'!L72&" "&'ダブルス（エントリー）'!M72 | AF38: ='ダブルス（エントリー）'!N72 -> 0 | AG38: ='ダブルス（エントリー）'!O72 -> 0 | AH38: =AC38+AF38 -> 0
B39: =学校番号 -> 0 | C39: BS-34 | D39: ='シングルス（エントリー）'!C40&" "&'シングルス（エントリー）'!D40&" "&'シングルス（エントリー）'!E40 | E39: =表示名 -> 0 | F39: ='シングルス（エントリー）'!F40 -> 0 | G39: ='シングルス（エントリー）'!G40 -> 0 | H39: =学校番号 -> 0 | I39: GS-34 | J39: ='シングルス（エントリー）'!J40&" "&'シングルス（エントリー）'!K40&" "&'シングルス（エントリー）'!L40 | K39: =表示名 -> 0 | L39: ='シングルス（エントリー）'!M40 -> 0 | M39: ='シングルス（エントリー）'!N40 -> 0 | O39: =学校番号 -> 0 | P39: =表示名 -> 0 | Q39: BD-34 | R39: ='ダブルス（エントリー）'!D73&" "&'ダブルス（エントリー）'!E73&" "&'ダブルス（エントリー）'!F73 | S39: ='ダブルス（エントリー）'!G73 -> 0 | T39: ='ダブルス（エントリー）'!H73 -> 0 | U39: ='ダブルス（エントリー）'!D74&" "&'ダブルス（エントリー）'!E74&" "&'ダブルス（エントリー）'!F74 | V39: ='ダブルス（エントリー）'!G74 -> 0 | W39: ='ダブルス（エントリー）'!H74 -> 0 | X39: =S39+V39 -> 0 | Y39: =学校番号 -> 0 | Z39: =表示名 -> 0 | AA39: BD-34 | AB39: ='ダブルス（エントリー）'!K73&" "&'ダブルス（エントリー）'!L73&" "&'ダブルス（エントリー）'!M73 | AC39: ='ダブルス（エントリー）'!N73 -> 0 | AD39: ='ダブルス（エントリー）'!O73 -> 0 | AE39: ='ダブルス（エントリー）'!K74&" "&'ダブルス（エントリー）'!L74&" "&'ダブルス（エントリー）'!M74 | AF39: ='ダブルス（エントリー）'!N74 -> 0 | AG39: ='ダブルス（エントリー）'!O74 -> 0 | AH39: =AC39+AF39 -> 0
B40: =学校番号 -> 0 | C40: BS-35 | D40: ='シングルス（エントリー）'!C41&" "&'シングルス（エントリー）'!D41&" "&'シングルス（エントリー）'!E41 | E40: =表示名 -> 0 | F40: ='シングルス（エントリー）'!F41 -> 0 | G40: ='シングルス（エントリー）'!G41 -> 0 | H40: =学校番号 -> 0 | I40: GS-35 | J40: ='シングルス（エントリー）'!J41&" "&'シングルス（エントリー）'!K41&" "&'シングルス（エントリー）'!L41 | K40: =表示名 -> 0 | L40: ='シングルス（エントリー）'!M41 -> 0 | M40: ='シングルス（エントリー）'!N41 -> 0 | O40: =学校番号 -> 0 | P40: =表示名 -> 0 | Q40: BD-35 | R40: ='ダブルス（エントリー）'!D75&" "&'ダブルス（エントリー）'!E75&" "&'ダブルス（エントリー）'!F75 | S40: ='ダブルス（エントリー）'!G75 -> 0 | T40: ='ダブルス（エントリー）'!H75 -> 0 | U40: ='ダブルス（エントリー）'!D76&" "&'ダブルス（エントリー）'!E76&" "&'ダブルス（エントリー）'!F76 | V40: ='ダブルス（エントリー）'!G76 -> 0 | W40: ='ダブルス（エントリー）'!H76 -> 0 | X40: =S40+V40 -> 0 | Y40: =学校番号 -> 0 | Z40: =表示名 -> 0 | AA40: BD-35 | AB40: ='ダブルス（エントリー）'!K75&" "&'ダブルス（エントリー）'!L75&" "&'ダブルス（エントリー）'!M75 | AC40: ='ダブルス（エントリー）'!N75 -> 0 | AD40: ='ダブルス（エントリー）'!O75 -> 0 | AE40: ='ダブルス（エントリー）'!K76&" "&'ダブルス（エントリー）'!L76&" "&'ダブルス（エントリー）'!M76 | AF40: ='ダブルス（エントリー）'!N76 -> 0 | AG40: ='ダブルス（エントリー）'!O76 -> 0 | AH40: =AC40+AF40 -> 0
B41: =学校番号 -> 0 | C41: BS-36 | D41: ='シングルス（エントリー）'!C42&" "&'シングルス（エントリー）'!D42&" "&'シングルス（エントリー）'!E42 | E41: =表示名 -> 0 | F41: ='シングルス（エントリー）'!F42 -> 0 | G41: ='シングルス（エントリー）'!G42 -> 0 | H41: =学校番号 -> 0 | I41: GS-36 | J41: ='シングルス（エントリー）'!J42&" "&'シングルス（エントリー）'!K42&" "&'シングルス（エントリー）'!L42 | K41: =表示名 -> 0 | L41: ='シングルス（エントリー）'!M42 -> 0 | M41: ='シングルス（エントリー）'!N42 -> 0 | O41: =学校番号 -> 0 | P41: =表示名 -> 0 | Q41: BD-36 | R41: ='ダブルス（エントリー）'!D77&" "&'ダブルス（エントリー）'!E77&" "&'ダブルス（エントリー）'!F77 | S41: ='ダブルス（エントリー）'!G77 -> 0 | T41: ='ダブルス（エントリー）'!H77 -> 0 | U41: ='ダブルス（エントリー）'!D78&" "&'ダブルス（エントリー）'!E78&" "&'ダブルス（エントリー）'!F78 | V41: ='ダブルス（エントリー）'!G78 -> 0 | W41: ='ダブルス（エントリー）'!H78 -> 0 | X41: =S41+V41 -> 0 | Y41: =学校番号 -> 0 | Z41: =表示名 -> 0 | AA41: BD-36 | AB41: ='ダブルス（エントリー）'!K77&" "&'ダブルス（エントリー）'!L77&" "&'ダブルス（エントリー）'!M77 | AC41: ='ダブルス（エントリー）'!N77 -> 0 | AD41: ='ダブルス（エントリー）'!O77 -> 0 | AE41: ='ダブルス（エントリー）'!K78&" "&'ダブルス（エントリー）'!L78&" "&'ダブルス（エントリー）'!M78 | AF41: ='ダブルス（エントリー）'!N78 -> 0 | AG41: ='ダブルス（エントリー）'!O78 -> 0 | AH41: =AC41+AF41 -> 0
B42: =学校番号 -> 0 | C42: BS-37 | D42: ='シングルス（エントリー）'!C43&" "&'シングルス（エントリー）'!D43&" "&'シングルス（エントリー）'!E43 | E42: =表示名 -> 0 | F42: ='シングルス（エントリー）'!F43 -> 0 | G42: ='シングルス（エントリー）'!G43 -> 0 | H42: =学校番号 -> 0 | I42: GS-37 | J42: ='シングルス（エントリー）'!J43&" "&'シングルス（エントリー）'!K43&" "&'シングルス（エントリー）'!L43 | K42: =表示名 -> 0 | L42: ='シングルス（エントリー）'!M43 -> 0 | M42: ='シングルス（エントリー）'!N43 -> 0 | O42: =学校番号 -> 0 | P42: =表示名 -> 0 | Q42: BD-37 | R42: ='ダブルス（エントリー）'!D79&" "&'ダブルス（エントリー）'!E79&" "&'ダブルス（エントリー）'!F79 | S42: ='ダブルス（エントリー）'!G79 -> 0 | T42: ='ダブルス（エントリー）'!H79 -> 0 | U42: ='ダブルス（エントリー）'!D80&" "&'ダブルス（エントリー）'!E80&" "&'ダブルス（エントリー）'!F80 | V42: ='ダブルス（エントリー）'!G80 -> 0 | W42: ='ダブルス（エントリー）'!H80 -> 0 | X42: =S42+V42 -> 0 | Y42: =学校番号 -> 0 | Z42: =表示名 -> 0 | AA42: BD-37 | AB42: ='ダブルス（エントリー）'!K79&" "&'ダブルス（エントリー）'!L79&" "&'ダブルス（エントリー）'!M79 | AC42: ='ダブルス（エントリー）'!N79 -> 0 | AD42: ='ダブルス（エントリー）'!O79 -> 0 | AE42: ='ダブルス（エントリー）'!K80&" "&'ダブルス（エントリー）'!L80&" "&'ダブルス（エントリー）'!M80 | AF42: ='ダブルス（エントリー）'!N80 -> 0 | AG42: ='ダブルス（エントリー）'!O80 -> 0 | AH42: =AC42+AF42 -> 0
B43: =学校番号 -> 0 | C43: BS-38 | D43: ='シングルス（エントリー）'!C44&" "&'シングルス（エントリー）'!D44&" "&'シングルス（エントリー）'!E44 | E43: =表示名 -> 0 | F43: ='シングルス（エントリー）'!F44 -> 0 | G43: ='シングルス（エントリー）'!G44 -> 0 | H43: =学校番号 -> 0 | I43: GS-38 | J43: ='シングルス（エントリー）'!J44&" "&'シングルス（エントリー）'!K44&" "&'シングルス（エントリー）'!L44 | K43: =表示名 -> 0 | L43: ='シングルス（エントリー）'!M44 -> 0 | M43: ='シングルス（エントリー）'!N44 -> 0 | O43: =学校番号 -> 0 | P43: =表示名 -> 0 | Q43: BD-38 | R43: ='ダブルス（エントリー）'!D81&" "&'ダブルス（エントリー）'!E81&" "&'ダブルス（エントリー）'!F81 | S43: ='ダブルス（エントリー）'!G81 -> 0 | T43: ='ダブルス（エントリー）'!H81 -> 0 | U43: ='ダブルス（エントリー）'!D82&" "&'ダブルス（エントリー）'!E82&" "&'ダブルス（エントリー）'!F82 | V43: ='ダブルス（エントリー）'!G82 -> 0 | W43: ='ダブルス（エントリー）'!H82 -> 0 | X43: =S43+V43 -> 0 | Y43: =学校番号 -> 0 | Z43: =表示名 -> 0 | AA43: BD-38 | AB43: ='ダブルス（エントリー）'!K81&" "&'ダブルス（エントリー）'!L81&" "&'ダブルス（エントリー）'!M81 | AC43: ='ダブルス（エントリー）'!N81 -> 0 | AD43: ='ダブルス（エントリー）'!O81 -> 0 | AE43: ='ダブルス（エントリー）'!K82&" "&'ダブルス（エントリー）'!L82&" "&'ダブルス（エントリー）'!M82 | AF43: ='ダブルス（エントリー）'!N82 -> 0 | AG43: ='ダブルス（エントリー）'!O82 -> 0 | AH43: =AC43+AF43 -> 0
B44: =学校番号 -> 0 | C44: BS-39 | D44: ='シングルス（エントリー）'!C45&" "&'シングルス（エントリー）'!D45&" "&'シングルス（エントリー）'!E45 | E44: =表示名 -> 0 | F44: ='シングルス（エントリー）'!F45 -> 0 | G44: ='シングルス（エントリー）'!G45 -> 0 | H44: =学校番号 -> 0 | I44: GS-39 | J44: ='シングルス（エントリー）'!J45&" "&'シングルス（エントリー）'!K45&" "&'シングルス（エントリー）'!L45 | K44: =表示名 -> 0 | L44: ='シングルス（エントリー）'!M45 -> 0 | M44: ='シングルス（エントリー）'!N45 -> 0 | O44: =学校番号 -> 0 | P44: =表示名 -> 0 | Q44: BD-39 | R44: ='ダブルス（エントリー）'!D83&" "&'ダブルス（エントリー）'!E83&" "&'ダブルス（エントリー）'!F83 | S44: ='ダブルス（エントリー）'!G83 -> 0 | T44: ='ダブルス（エントリー）'!H83 -> 0 | U44: ='ダブルス（エントリー）'!D84&" "&'ダブルス（エントリー）'!E84&" "&'ダブルス（エントリー）'!F84 | V44: ='ダブルス（エントリー）'!G84 -> 0 | W44: ='ダブルス（エントリー）'!H84 -> 0 | X44: =S44+V44 -> 0 | Y44: =学校番号 -> 0 | Z44: =表示名 -> 0 | AA44: BD-39 | AB44: ='ダブルス（エントリー）'!K83&" "&'ダブルス（エントリー）'!L83&" "&'ダブルス（エントリー）'!M83 | AC44: ='ダブルス（エントリー）'!N83 -> 0 | AD44: ='ダブルス（エントリー）'!O83 -> 0 | AE44: ='ダブルス（エントリー）'!K84&" "&'ダブルス（エントリー）'!L84&" "&'ダブルス（エントリー）'!M84 | AF44: ='ダブルス（エントリー）'!N84 -> 0 | AG44: ='ダブルス（エントリー）'!O84 -> 0 | AH44: =AC44+AF44 -> 0
B45: =学校番号 -> 0 | C45: BS-40 | D45: ='シングルス（エントリー）'!C46&" "&'シングルス（エントリー）'!D46&" "&'シングルス（エントリー）'!E46 | E45: =表示名 -> 0 | F45: ='シングルス（エントリー）'!F46 -> 0 | G45: ='シングルス（エントリー）'!G46 -> 0 | H45: =学校番号 -> 0 | I45: GS-40 | J45: ='シングルス（エントリー）'!J46&" "&'シングルス（エントリー）'!K46&" "&'シングルス（エントリー）'!L46 | K45: =表示名 -> 0 | L45: ='シングルス（エントリー）'!M46 -> 0 | M45: ='シングルス（エントリー）'!N46 -> 0 | O45: =学校番号 -> 0 | P45: =表示名 -> 0 | Q45: BD-40 | R45: ='ダブルス（エントリー）'!D85&" "&'ダブルス（エントリー）'!E85&" "&'ダブルス（エントリー）'!F85 | S45: ='ダブルス（エントリー）'!G85 -> 0 | T45: ='ダブルス（エントリー）'!H85 -> 0 | U45: ='ダブルス（エントリー）'!D86&" "&'ダブルス（エントリー）'!E86&" "&'ダブルス（エントリー）'!F86 | V45: ='ダブルス（エントリー）'!G86 -> 0 | W45: ='ダブルス（エントリー）'!H86 -> 0 | X45: =S45+V45 -> 0 | Y45: =学校番号 -> 0 | Z45: =表示名 -> 0 | AA45: BD-40 | AB45: ='ダブルス（エントリー）'!K85&" "&'ダブルス（エントリー）'!L85&" "&'ダブルス（エントリー）'!M85 | AC45: ='ダブルス（エントリー）'!N85 -> 0 | AD45: ='ダブルス（エントリー）'!O85 -> 0 | AE45: ='ダブルス（エントリー）'!K86&" "&'ダブルス（エントリー）'!L86&" "&'ダブルス（エントリー）'!M86 | AF45: ='ダブルス（エントリー）'!N86 -> 0 | AG45: ='ダブルス（エントリー）'!O86 -> 0 | AH45: =AC45+AF45 -> 0
B46: =学校番号 -> 0 | C46: BS-41 | D46: ='シングルス（エントリー）'!C47&" "&'シングルス（エントリー）'!D47&" "&'シングルス（エントリー）'!E47 | E46: =表示名 -> 0 | F46: ='シングルス（エントリー）'!F47 -> 0 | G46: ='シングルス（エントリー）'!G47 -> 0 | H46: =学校番号 -> 0 | I46: GS-41 | J46: ='シングルス（エントリー）'!J47&" "&'シングルス（エントリー）'!K47&" "&'シングルス（エントリー）'!L47 | K46: =表示名 -> 0 | L46: ='シングルス（エントリー）'!M47 -> 0 | M46: ='シングルス（エントリー）'!N47 -> 0 | O46: =学校番号 -> 0 | P46: =表示名 -> 0 | Q46: BD-41 | R46: ='ダブルス（エントリー）'!D87&" "&'ダブルス（エントリー）'!E87&" "&'ダブルス（エントリー）'!F87 | S46: ='ダブルス（エントリー）'!G87 -> 0 | T46: ='ダブルス（エントリー）'!H87 -> 0 | U46: ='ダブルス（エントリー）'!D88&" "&'ダブルス（エントリー）'!E88&" "&'ダブルス（エントリー）'!F88 | V46: ='ダブルス（エントリー）'!G88 -> 0 | W46: ='ダブルス（エントリー）'!H88 -> 0 | X46: =S46+V46 -> 0 | Y46: =学校番号 -> 0 | Z46: =表示名 -> 0 | AA46: BD-41 | AB46: ='ダブルス（エントリー）'!K87&" "&'ダブルス（エントリー）'!L87&" "&'ダブルス（エントリー）'!M87 | AC46: ='ダブルス（エントリー）'!N87 -> 0 | AD46: ='ダブルス（エントリー）'!O87 -> 0 | AE46: ='ダブルス（エントリー）'!K88&" "&'ダブルス（エントリー）'!L88&" "&'ダブルス（エントリー）'!M88 | AF46: ='ダブルス（エントリー）'!N88 -> 0 | AG46: ='ダブルス（エントリー）'!O88 -> 0 | AH46: =AC46+AF46 -> 0
B47: =学校番号 -> 0 | C47: BS-42 | D47: ='シングルス（エントリー）'!C48&" "&'シングルス（エントリー）'!D48&" "&'シングルス（エントリー）'!E48 | E47: =表示名 -> 0 | F47: ='シングルス（エントリー）'!F48 -> 0 | G47: ='シングルス（エントリー）'!G48 -> 0 | H47: =学校番号 -> 0 | I47: GS-42 | J47: ='シングルス（エントリー）'!J48&" "&'シングルス（エントリー）'!K48&" "&'シングルス（エントリー）'!L48 | K47: =表示名 -> 0 | L47: ='シングルス（エントリー）'!M48 -> 0 | M47: ='シングルス（エントリー）'!N48 -> 0 | O47: =学校番号 -> 0 | P47: =表示名 -> 0 | Q47: BD-42 | R47: ='ダブルス（エントリー）'!D89&" "&'ダブルス（エントリー）'!E89&" "&'ダブルス（エントリー）'!F89 | S47: ='ダブルス（エントリー）'!G89 -> 0 | T47: ='ダブルス（エントリー）'!H89 -> 0 | U47: ='ダブルス（エントリー）'!D90&" "&'ダブルス（エントリー）'!E90&" "&'ダブルス（エントリー）'!F90 | V47: ='ダブルス（エントリー）'!G90 -> 0 | W47: ='ダブルス（エントリー）'!H90 -> 0 | X47: =S47+V47 -> 0 | Y47: =学校番号 -> 0 | Z47: =表示名 -> 0 | AA47: BD-42 | AB47: ='ダブルス（エントリー）'!K89&" "&'ダブルス（エントリー）'!L89&" "&'ダブルス（エントリー）'!M89 | AC47: ='ダブルス（エントリー）'!N89 -> 0 | AD47: ='ダブルス（エントリー）'!O89 -> 0 | AE47: ='ダブルス（エントリー）'!K90&" "&'ダブルス（エントリー）'!L90&" "&'ダブルス（エントリー）'!M90 | AF47: ='ダブルス（エントリー）'!N90 -> 0 | AG47: ='ダブルス（エントリー）'!O90 -> 0 | AH47: =AC47+AF47 -> 0
B48: =学校番号 -> 0 | C48: BS-43 | D48: ='シングルス（エントリー）'!C49&" "&'シングルス（エントリー）'!D49&" "&'シングルス（エントリー）'!E49 | E48: =表示名 -> 0 | F48: ='シングルス（エントリー）'!F49 -> 0 | G48: ='シングルス（エントリー）'!G49 -> 0 | H48: =学校番号 -> 0 | I48: GS-43 | J48: ='シングルス（エントリー）'!J49&" "&'シングルス（エントリー）'!K49&" "&'シングルス（エントリー）'!L49 | K48: =表示名 -> 0 | L48: ='シングルス（エントリー）'!M49 -> 0 | M48: ='シングルス（エントリー）'!N49 -> 0 | O48: =学校番号 -> 0 | P48: =表示名 -> 0 | Q48: BD-43 | R48: ='ダブルス（エントリー）'!D91&" "&'ダブルス（エントリー）'!E91&" "&'ダブルス（エントリー）'!F91 | S48: ='ダブルス（エントリー）'!G91 -> 0 | T48: ='ダブルス（エントリー）'!H91 -> 0 | U48: ='ダブルス（エントリー）'!D92&" "&'ダブルス（エントリー）'!E92&" "&'ダブルス（エントリー）'!F92 | V48: ='ダブルス（エントリー）'!G92 -> 0 | W48: ='ダブルス（エントリー）'!H92 -> 0 | X48: =S48+V48 -> 0 | Y48: =学校番号 -> 0 | Z48: =表示名 -> 0 | AA48: BD-43 | AB48: ='ダブルス（エントリー）'!K91&" "&'ダブルス（エントリー）'!L91&" "&'ダブルス（エントリー）'!M91 | AC48: ='ダブルス（エントリー）'!N91 -> 0 | AD48: ='ダブルス（エントリー）'!O91 -> 0 | AE48: ='ダブルス（エントリー）'!K92&" "&'ダブルス（エントリー）'!L92&" "&'ダブルス（エントリー）'!M92 | AF48: ='ダブルス（エントリー）'!N92 -> 0 | AG48: ='ダブルス（エントリー）'!O92 -> 0 | AH48: =AC48+AF48 -> 0
B49: =学校番号 -> 0 | C49: BS-44 | D49: ='シングルス（エントリー）'!C50&" "&'シングルス（エントリー）'!D50&" "&'シングルス（エントリー）'!E50 | E49: =表示名 -> 0 | F49: ='シングルス（エントリー）'!F50 -> 0 | G49: ='シングルス（エントリー）'!G50 -> 0 | H49: =学校番号 -> 0 | I49: GS-44 | J49: ='シングルス（エントリー）'!J50&" "&'シングルス（エントリー）'!K50&" "&'シングルス（エントリー）'!L50 | K49: =表示名 -> 0 | L49: ='シングルス（エントリー）'!M50 -> 0 | M49: ='シングルス（エントリー）'!N50 -> 0 | O49: =学校番号 -> 0 | P49: =表示名 -> 0 | Q49: BD-44 | R49: ='ダブルス（エントリー）'!D93&" "&'ダブルス（エントリー）'!E93&" "&'ダブルス（エントリー）'!F93 | S49: ='ダブルス（エントリー）'!G93 -> 0 | T49: ='ダブルス（エントリー）'!H93 -> 0 | U49: ='ダブルス（エントリー）'!D94&" "&'ダブルス（エントリー）'!E94&" "&'ダブルス（エントリー）'!F94 | V49: ='ダブルス（エントリー）'!G94 -> 0 | W49: ='ダブルス（エントリー）'!H94 -> 0 | X49: =S49+V49 -> 0 | Y49: =学校番号 -> 0 | Z49: =表示名 -> 0 | AA49: BD-44 | AB49: ='ダブルス（エントリー）'!K93&" "&'ダブルス（エントリー）'!L93&" "&'ダブルス（エントリー）'!M93 | AC49: ='ダブルス（エントリー）'!N93 -> 0 | AD49: ='ダブルス（エントリー）'!O93 -> 0 | AE49: ='ダブルス（エントリー）'!K94&" "&'ダブルス（エントリー）'!L94&" "&'ダブルス（エントリー）'!M94 | AF49: ='ダブルス（エントリー）'!N94 -> 0 | AG49: ='ダブルス（エントリー）'!O94 -> 0 | AH49: =AC49+AF49 -> 0
B50: =学校番号 -> 0 | C50: BS-45 | D50: ='シングルス（エントリー）'!C51&" "&'シングルス（エントリー）'!D51&" "&'シングルス（エントリー）'!E51 | E50: =表示名 -> 0 | F50: ='シングルス（エントリー）'!F51 -> 0 | G50: ='シングルス（エントリー）'!G51 -> 0 | H50: =学校番号 -> 0 | I50: GS-45 | J50: ='シングルス（エントリー）'!J51&" "&'シングルス（エントリー）'!K51&" "&'シングルス（エントリー）'!L51 | K50: =表示名 -> 0 | L50: ='シングルス（エントリー）'!M51 -> 0 | M50: ='シングルス（エントリー）'!N51 -> 0 | O50: =学校番号 -> 0 | P50: =表示名 -> 0 | Q50: BD-45 | R50: ='ダブルス（エントリー）'!D95&" "&'ダブルス（エントリー）'!E95&" "&'ダブルス（エントリー）'!F95 | S50: ='ダブルス（エントリー）'!G95 -> 0 | T50: ='ダブルス（エントリー）'!H95 -> 0 | U50: ='ダブルス（エントリー）'!D96&" "&'ダブルス（エントリー）'!E96&" "&'ダブルス（エントリー）'!F96 | V50: ='ダブルス（エントリー）'!G96 -> 0 | W50: ='ダブルス（エントリー）'!H96 -> 0 | X50: =S50+V50 -> 0 | Y50: =学校番号 -> 0 | Z50: =表示名 -> 0 | AA50: BD-45 | AB50: ='ダブルス（エントリー）'!K95&" "&'ダブルス（エントリー）'!L95&" "&'ダブルス（エントリー）'!M95 | AC50: ='ダブルス（エントリー）'!N95 -> 0 | AD50: ='ダブルス（エントリー）'!O95 -> 0 | AE50: ='ダブルス（エントリー）'!K96&" "&'ダブルス（エントリー）'!L96&" "&'ダブルス（エントリー）'!M96 | AF50: ='ダブルス（エントリー）'!N96 -> 0 | AG50: ='ダブルス（エントリー）'!O96 -> 0 | AH50: =AC50+AF50 -> 0
B51: =学校番号 -> 0 | C51: BS-46 | D51: ='シングルス（エントリー）'!C52&" "&'シングルス（エントリー）'!D52&" "&'シングルス（エントリー）'!E52 | E51: =表示名 -> 0 | F51: ='シングルス（エントリー）'!F52 -> 0 | G51: ='シングルス（エントリー）'!G52 -> 0 | H51: =学校番号 -> 0 | I51: GS-46 | J51: ='シングルス（エントリー）'!J52&" "&'シングルス（エントリー）'!K52&" "&'シングルス（エントリー）'!L52 | K51: =表示名 -> 0 | L51: ='シングルス（エントリー）'!M52 -> 0 | M51: ='シングルス（エントリー）'!N52 -> 0 | O51: =学校番号 -> 0 | P51: =表示名 -> 0 | Q51: BD-46 | R51: ='ダブルス（エントリー）'!D97&" "&'ダブルス（エントリー）'!E97&" "&'ダブルス（エントリー）'!F97 | S51: ='ダブルス（エントリー）'!G97 -> 0 | T51: ='ダブルス（エントリー）'!H97 -> 0 | U51: ='ダブルス（エントリー）'!D98&" "&'ダブルス（エントリー）'!E98&" "&'ダブルス（エントリー）'!F98 | V51: ='ダブルス（エントリー）'!G98 -> 0 | W51: ='ダブルス（エントリー）'!H98 -> 0 | X51: =S51+V51 -> 0 | Y51: =学校番号 -> 0 | Z51: =表示名 -> 0 | AA51: BD-46 | AB51: ='ダブルス（エントリー）'!K97&" "&'ダブルス（エントリー）'!L97&" "&'ダブルス（エントリー）'!M97 | AC51: ='ダブルス（エントリー）'!N97 -> 0 | AD51: ='ダブルス（エントリー）'!O97 -> 0 | AE51: ='ダブルス（エントリー）'!K98&" "&'ダブルス（エントリー）'!L98&" "&'ダブルス（エントリー）'!M98 | AF51: ='ダブルス（エントリー）'!N98 -> 0 | AG51: ='ダブルス（エントリー）'!O98 -> 0 | AH51: =AC51+AF51 -> 0
B52: =学校番号 -> 0 | C52: BS-47 | D52: ='シングルス（エントリー）'!C53&" "&'シングルス（エントリー）'!D53&" "&'シングルス（エントリー）'!E53 | E52: =表示名 -> 0 | F52: ='シングルス（エントリー）'!F53 -> 0 | G52: ='シングルス（エントリー）'!G53 -> 0 | H52: =学校番号 -> 0 | I52: GS-47 | J52: ='シングルス（エントリー）'!J53&" "&'シングルス（エントリー）'!K53&" "&'シングルス（エントリー）'!L53 | K52: =表示名 -> 0 | L52: ='シングルス（エントリー）'!M53 -> 0 | M52: ='シングルス（エントリー）'!N53 -> 0 | O52: =学校番号 -> 0 | P52: =表示名 -> 0 | Q52: BD-47 | R52: ='ダブルス（エントリー）'!D99&" "&'ダブルス（エントリー）'!E99&" "&'ダブルス（エントリー）'!F99 | S52: ='ダブルス（エントリー）'!G99 -> 0 | T52: ='ダブルス（エントリー）'!H99 -> 0 | U52: ='ダブルス（エントリー）'!D100&" "&'ダブルス（エントリー）'!E100&" "&'ダブルス（エントリー）'!F100 | V52: ='ダブルス（エントリー）'!G100 -> 0 | W52: ='ダブルス（エントリー）'!H100 -> 0 | X52: =S52+V52 -> 0 | Y52: =学校番号 -> 0 | Z52: =表示名 -> 0 | AA52: BD-47 | AB52: ='ダブルス（エントリー）'!K99&" "&'ダブルス（エントリー）'!L99&" "&'ダブルス（エントリー）'!M99 | AC52: ='ダブルス（エントリー）'!N99 -> 0 | AD52: ='ダブルス（エントリー）'!O99 -> 0 | AE52: ='ダブルス（エントリー）'!K100&" "&'ダブルス（エントリー）'!L100&" "&'ダブルス（エントリー）'!M100 | AF52: ='ダブルス（エントリー）'!N100 -> 0 | AG52: ='ダブルス（エントリー）'!O100 -> 0 | AH52: =AC52+AF52 -> 0
B53: =学校番号 -> 0 | C53: BS-48 | D53: ='シングルス（エントリー）'!C54&" "&'シングルス（エントリー）'!D54&" "&'シングルス（エントリー）'!E54 | E53: =表示名 -> 0 | F53: ='シングルス（エントリー）'!F54 -> 0 | G53: ='シングルス（エントリー）'!G54 -> 0 | H53: =学校番号 -> 0 | I53: GS-48 | J53: ='シングルス（エントリー）'!J54&" "&'シングルス（エントリー）'!K54&" "&'シングルス（エントリー）'!L54 | K53: =表示名 -> 0 | L53: ='シングルス（エントリー）'!M54 -> 0 | M53: ='シングルス（エントリー）'!N54 -> 0 | O53: =学校番号 -> 0 | P53: =表示名 -> 0 | Q53: BD-48 | R53: ='ダブルス（エントリー）'!D101&" "&'ダブルス（エントリー）'!E101&" "&'ダブルス（エントリー）'!F101 | S53: ='ダブルス（エントリー）'!G101 -> 0 | T53: ='ダブルス（エントリー）'!H101 -> 0 | U53: ='ダブルス（エントリー）'!D102&" "&'ダブルス（エントリー）'!E102&" "&'ダブルス（エントリー）'!F102 | V53: ='ダブルス（エントリー）'!G102 -> 0 | W53: ='ダブルス（エントリー）'!H102 -> 0 | X53: =S53+V53 -> 0 | Y53: =学校番号 -> 0 | Z53: =表示名 -> 0 | AA53: BD-48 | AB53: ='ダブルス（エントリー）'!K101&" "&'ダブルス（エントリー）'!L101&" "&'ダブルス（エントリー）'!M101 | AC53: ='ダブルス（エントリー）'!N101 -> 0 | AD53: ='ダブルス（エントリー）'!O101 -> 0 | AE53: ='ダブルス（エントリー）'!K102&" "&'ダブルス（エントリー）'!L102&" "&'ダブルス（エントリー）'!M102 | AF53: ='ダブルス（エントリー）'!N102 -> 0 | AG53: ='ダブルス（エントリー）'!O102 -> 0 | AH53: =AC53+AF53 -> 0
B54: =学校番号 -> 0 | C54: BS-49 | D54: ='シングルス（エントリー）'!C55&" "&'シングルス（エントリー）'!D55&" "&'シングルス（エントリー）'!E55 | E54: =表示名 -> 0 | F54: ='シングルス（エントリー）'!F55 -> 0 | G54: ='シングルス（エントリー）'!G55 -> 0 | H54: =学校番号 -> 0 | I54: GS-49 | J54: ='シングルス（エントリー）'!J55&" "&'シングルス（エントリー）'!K55&" "&'シングルス（エントリー）'!L55 | K54: =表示名 -> 0 | L54: ='シングルス（エントリー）'!M55 -> 0 | M54: ='シングルス（エントリー）'!N55 -> 0 | O54: =学校番号 -> 0 | P54: =表示名 -> 0 | Q54: BD-49 | R54: ='ダブルス（エントリー）'!D103&" "&'ダブルス（エントリー）'!E103&" "&'ダブルス（エントリー）'!F103 | S54: ='ダブルス（エントリー）'!G103 -> 0 | T54: ='ダブルス（エントリー）'!H103 -> 0 | U54: ='ダブルス（エントリー）'!D104&" "&'ダブルス（エントリー）'!E104&" "&'ダブルス（エントリー）'!F104 | V54: ='ダブルス（エントリー）'!G104 -> 0 | W54: ='ダブルス（エントリー）'!H104 -> 0 | X54: =S54+V54 -> 0 | Y54: =学校番号 -> 0 | Z54: =表示名 -> 0 | AA54: BD-49 | AB54: ='ダブルス（エントリー）'!K103&" "&'ダブルス（エントリー）'!L103&" "&'ダブルス（エントリー）'!M103 | AC54: ='ダブルス（エントリー）'!N103 -> 0 | AD54: ='ダブルス（エントリー）'!O103 -> 0 | AE54: ='ダブルス（エントリー）'!K104&" "&'ダブルス（エントリー）'!L104&" "&'ダブルス（エントリー）'!M104 | AF54: ='ダブルス（エントリー）'!N104 -> 0 | AG54: ='ダブルス（エントリー）'!O104 -> 0 | AH54: =AC54+AF54 -> 0
B55: =学校番号 -> 0 | C55: BS-50 | D55: ='シングルス（エントリー）'!C56&" "&'シングルス（エントリー）'!D56&" "&'シングルス（エントリー）'!E56 | E55: =表示名 -> 0 | F55: ='シングルス（エントリー）'!F56 -> 0 | G55: ='シングルス（エントリー）'!G56 -> 0 | H55: =学校番号 -> 0 | I55: GS-50 | J55: ='シングルス（エントリー）'!J56&" "&'シングルス（エントリー）'!K56&" "&'シングルス（エントリー）'!L56 | K55: =表示名 -> 0 | L55: ='シングルス（エントリー）'!M56 -> 0 | M55: ='シングルス（エントリー）'!N56 -> 0 | O55: =学校番号 -> 0 | P55: =表示名 -> 0 | Q55: BD-50 | R55: ='ダブルス（エントリー）'!D105&" "&'ダブルス（エントリー）'!E105&" "&'ダブルス（エントリー）'!F105 | S55: ='ダブルス（エントリー）'!G105 -> 0 | T55: ='ダブルス（エントリー）'!H105 -> 0 | U55: ='ダブルス（エントリー）'!D106&" "&'ダブルス（エントリー）'!E106&" "&'ダブルス（エントリー）'!F106 | V55: ='ダブルス（エントリー）'!G106 -> 0 | W55: ='ダブルス（エントリー）'!H106 -> 0 | X55: =S55+V55 -> 0 | Y55: =学校番号 -> 0 | Z55: =表示名 -> 0 | AA55: BD-50 | AB55: ='ダブルス（エントリー）'!K105&" "&'ダブルス（エントリー）'!L105&" "&'ダブルス（エントリー）'!M105 | AC55: ='ダブルス（エントリー）'!N105 -> 0 | AD55: ='ダブルス（エントリー）'!O105 -> 0 | AE55: ='ダブルス（エントリー）'!K106&" "&'ダブルス（エントリー）'!L106&" "&'ダブルス（エントリー）'!M106 | AF55: ='ダブルス（エントリー）'!N106 -> 0 | AG55: ='ダブルス（エントリー）'!O106 -> 0 | AH55: =AC55+AF55 -> 0
B56: =学校番号 -> 0 | C56: BS-51 | D56: ='シングルス（エントリー）'!C57&" "&'シングルス（エントリー）'!D57&" "&'シングルス（エントリー）'!E57 | E56: =表示名 -> 0 | F56: ='シングルス（エントリー）'!F57 -> 0 | G56: ='シングルス（エントリー）'!G57 -> 0 | H56: =学校番号 -> 0 | I56: GS-51 | J56: ='シングルス（エントリー）'!J57&" "&'シングルス（エントリー）'!K57&" "&'シングルス（エントリー）'!L57 | K56: =表示名 -> 0 | L56: ='シングルス（エントリー）'!M57 -> 0 | M56: ='シングルス（エントリー）'!N57 -> 0
B57: =学校番号 -> 0 | C57: BS-52 | D57: ='シングルス（エントリー）'!C58&" "&'シングルス（エントリー）'!D58&" "&'シングルス（エントリー）'!E58 | E57: =表示名 -> 0 | F57: ='シングルス（エントリー）'!F58 -> 0 | G57: ='シングルス（エントリー）'!G58 -> 0 | H57: =学校番号 -> 0 | I57: GS-52 | J57: ='シングルス（エントリー）'!J58&" "&'シングルス（エントリー）'!K58&" "&'シングルス（エントリー）'!L58 | K57: =表示名 -> 0 | L57: ='シングルス（エントリー）'!M58 -> 0 | M57: ='シングルス（エントリー）'!N58 -> 0
B58: =学校番号 -> 0 | C58: BS-53 | D58: ='シングルス（エントリー）'!C59&" "&'シングルス（エントリー）'!D59&" "&'シングルス（エントリー）'!E59 | E58: =表示名 -> 0 | F58: ='シングルス（エントリー）'!F59 -> 0 | G58: ='シングルス（エントリー）'!G59 -> 0 | H58: =学校番号 -> 0 | I58: GS-53 | J58: ='シングルス（エントリー）'!J59&" "&'シングルス（エントリー）'!K59&" "&'シングルス（エントリー）'!L59 | K58: =表示名 -> 0 | L58: ='シングルス（エントリー）'!M59 -> 0 | M58: ='シングルス（エントリー）'!N59 -> 0
B59: =学校番号 -> 0 | C59: BS-54 | D59: ='シングルス（エントリー）'!C60&" "&'シングルス（エントリー）'!D60&" "&'シングルス（エントリー）'!E60 | E59: =表示名 -> 0 | F59: ='シングルス（エントリー）'!F60 -> 0 | G59: ='シングルス（エントリー）'!G60 -> 0 | H59: =学校番号 -> 0 | I59: GS-54 | J59: ='シングルス（エントリー）'!J60&" "&'シングルス（エントリー）'!K60&" "&'シングルス（エントリー）'!L60 | K59: =表示名 -> 0 | L59: ='シングルス（エントリー）'!M60 -> 0 | M59: ='シングルス（エントリー）'!N60 -> 0
B60: =学校番号 -> 0 | C60: BS-55 | D60: ='シングルス（エントリー）'!C61&" "&'シングルス（エントリー）'!D61&" "&'シングルス（エントリー）'!E61 | E60: =表示名 -> 0 | F60: ='シングルス（エントリー）'!F61 -> 0 | G60: ='シングルス（エントリー）'!G61 -> 0 | H60: =学校番号 -> 0 | I60: GS-55 | J60: ='シングルス（エントリー）'!J61&" "&'シングルス（エントリー）'!K61&" "&'シングルス（エントリー）'!L61 | K60: =表示名 -> 0 | L60: ='シングルス（エントリー）'!M61 -> 0 | M60: ='シングルス（エントリー）'!N61 -> 0
B61: =学校番号 -> 0 | C61: BS-56 | D61: ='シングルス（エントリー）'!C62&" "&'シングルス（エントリー）'!D62&" "&'シングルス（エントリー）'!E62 | E61: =表示名 -> 0 | F61: ='シングルス（エントリー）'!F62 -> 0 | G61: ='シングルス（エントリー）'!G62 -> 0 | H61: =学校番号 -> 0 | I61: GS-56 | J61: ='シングルス（エントリー）'!J62&" "&'シングルス（エントリー）'!K62&" "&'シングルス（エントリー）'!L62 | K61: =表示名 -> 0 | L61: ='シングルス（エントリー）'!M62 -> 0 | M61: ='シングルス（エントリー）'!N62 -> 0
B62: =学校番号 -> 0 | C62: BS-57 | D62: ='シングルス（エントリー）'!C63&" "&'シングルス（エントリー）'!D63&" "&'シングルス（エントリー）'!E63 | E62: =表示名 -> 0 | F62: ='シングルス（エントリー）'!F63 -> 0 | G62: ='シングルス（エントリー）'!G63 -> 0 | H62: =学校番号 -> 0 | I62: GS-57 | J62: ='シングルス（エントリー）'!J63&" "&'シングルス（エントリー）'!K63&" "&'シングルス（エントリー）'!L63 | K62: =表示名 -> 0 | L62: ='シングルス（エントリー）'!M63 -> 0 | M62: ='シングルス（エントリー）'!N63 -> 0
B63: =学校番号 -> 0 | C63: BS-58 | D63: ='シングルス（エントリー）'!C64&" "&'シングルス（エントリー）'!D64&" "&'シングルス（エントリー）'!E64 | E63: =表示名 -> 0 | F63: ='シングルス（エントリー）'!F64 -> 0 | G63: ='シングルス（エントリー）'!G64 -> 0 | H63: =学校番号 -> 0 | I63: GS-58 | J63: ='シングルス（エントリー）'!J64&" "&'シングルス（エントリー）'!K64&" "&'シングルス（エントリー）'!L64 | K63: =表示名 -> 0 | L63: ='シングルス（エントリー）'!M64 -> 0 | M63: ='シングルス（エントリー）'!N64 -> 0
B64: =学校番号 -> 0 | C64: BS-59 | D64: ='シングルス（エントリー）'!C65&" "&'シングルス（エントリー）'!D65&" "&'シングルス（エントリー）'!E65 | E64: =表示名 -> 0 | F64: ='シングルス（エントリー）'!F65 -> 0 | G64: ='シングルス（エントリー）'!G65 -> 0 | H64: =学校番号 -> 0 | I64: GS-59 | J64: ='シングルス（エントリー）'!J65&" "&'シングルス（エントリー）'!K65&" "&'シングルス（エントリー）'!L65 | K64: =表示名 -> 0 | L64: ='シングルス（エントリー）'!M65 -> 0 | M64: ='シングルス（エントリー）'!N65 -> 0
B65: =学校番号 -> 0 | C65: BS-60 | D65: ='シングルス（エントリー）'!C66&" "&'シングルス（エントリー）'!D66&" "&'シングルス（エントリー）'!E66 | E65: =表示名 -> 0 | F65: ='シングルス（エントリー）'!F66 -> 0 | G65: ='シングルス（エントリー）'!G66 -> 0 | H65: =学校番号 -> 0 | I65: GS-60 | J65: ='シングルス（エントリー）'!J66&" "&'シングルス（エントリー）'!K66&" "&'シングルス（エントリー）'!L66 | K65: =表示名 -> 0 | L65: ='シングルス（エントリー）'!M66 -> 0 | M65: ='シングルス（エントリー）'!N66 -> 0
B66: =学校番号 -> 0 | C66: BS-61 | D66: ='シングルス（エントリー）'!C67&" "&'シングルス（エントリー）'!D67&" "&'シングルス（エントリー）'!E67 | E66: =表示名 -> 0 | F66: ='シングルス（エントリー）'!F67 -> 0 | G66: ='シングルス（エントリー）'!G67 -> 0 | H66: =学校番号 -> 0 | I66: GS-61 | J66: ='シングルス（エントリー）'!J67&" "&'シングルス（エントリー）'!K67&" "&'シングルス（エントリー）'!L67 | K66: =表示名 -> 0 | L66: ='シングルス（エントリー）'!M67 -> 0 | M66: ='シングルス（エントリー）'!N67 -> 0
B67: =学校番号 -> 0 | C67: BS-62 | D67: ='シングルス（エントリー）'!C68&" "&'シングルス（エントリー）'!D68&" "&'シングルス（エントリー）'!E68 | E67: =表示名 -> 0 | F67: ='シングルス（エントリー）'!F68 -> 0 | G67: ='シングルス（エントリー）'!G68 -> 0 | H67: =学校番号 -> 0 | I67: GS-62 | J67: ='シングルス（エントリー）'!J68&" "&'シングルス（エントリー）'!K68&" "&'シングルス（エントリー）'!L68 | K67: =表示名 -> 0 | L67: ='シングルス（エントリー）'!M68 -> 0 | M67: ='シングルス（エントリー）'!N68 -> 0
... B70: =学校番号 -> 0 | C70: BS-65 | D70: ='シングルス（エントリー）'!C71&" "&'シングルス（エントリー）'!D71&" "&'シングルス（エントリー）'!E71 | E70: =表示名 -> 0 | F70: ='シングルス（エントリー）'!F71 -> 0 | G70: ='シングルス（エントリー）'!G71 -> 0 | H70: =学校番号 -> 0 | I70: GS-65 | J70: ='シングルス（エントリー）'!J71&" "&'シングルス（エントリー）'!K71&" "&'シングルス（エントリー）'!L71 | K70: =表示名 -> 0 | L70: ='シングルス（エントリー）'!M71 -> 0 | M70: ='シングルス（エントリー）'!N71 -> 0
