Workbook
Name 学校番号: [1]はじめに!$E$6
Name 学校番号: [2]はじめにお読みください!$E$6
Name 学校番号: はじめにお読みください!$E$6
Name 学校名: [1]はじめに!$E$7
Name 学校名: [2]はじめにお読みください!$E$7
Name 学校名: はじめにお読みください!$E$7
Name 記載責任者: [1]はじめに!$E$9
Name 記載責任者: [2]はじめにお読みください!$E$9
Name 記載責任者: はじめにお読みください!$E$9
Name 緊急連絡先: [1]はじめに!$E$10
Name 緊急連絡先: [2]はじめにお読みください!$E$10
Name 緊急連絡先: はじめにお読みください!$E$10
Name 表示名: [1]はじめに!$E$8
Name 表示名: [2]はじめにお読みください!$E$8
Name 表示名: はじめにお読みください!$E$8

Sheet はじめにお読みください
B2: エントリー方法
C5: １．まず、こちらを入力してください！
D6: 学校番号
D7: 正式名称
D8: 表示名【例：泉北】
D9: 記載責任者（顧問）
D10: 緊急連絡先（携帯）
C14: ２．ファイルの作成・「FAX送信用紙」プリントアウト
D15: ① シングルスの部 入力
D16: ① 必要事項の入力
D17: ② FAX送信用紙 入力、プリントアウト
D18: ※ エントリー数、入金額などをご確認ください。
C22: ３．ファイル名の変更・電子データの送信
D23: ① ファイル名を「学校番号（３桁）_学校名_4gakku_2026ST.xls」と変更
D24: （例 : 099_泉北_4gakku_2026ST.xls ）
D25: ② 4gakku@osaka-hs-tennis.com へメール送信
D26: ※ 件名に必ず学校名を入れてください。（例 : 泉北４学区大会申込 ）
C30: ４．入金・領収書貼付・FAX送信 【郵送書類はありません！】
D31: ① エントリー代の入金
D32: 三井住友銀行 佐野支店 普通１９７０５５１
D33: 名義 第４学区テニス大会実行委員会 代表 辻 博規
D34: ※ 男女あわせて入金してください。
D35: ※ 学校名がわかるようにお願いします。
D36: ② 領収書を貼付し、FAX送信用紙を送信
D37: FAX送信先
D38: 大阪体育大学浪商高等学校 外国語科 辻 博規 宛
D39: FAX番号 072 - 453 - 7002
C43: お問い合わせ先
D44: 泉北高校 数学科 大内 康弘
D45: TEL 072-297-1065 FAX 072-293-2376

Sheet ダブルス（要項）
B2: 42485
B3: テニス部顧問 様
B4: 第４学区テニス大会実行委員会
B6: 第10回 第4学区 テニス大会 ダブルスの部 開催について
B8: 標記大会を下記の要領により開催しますので、貴校生徒の参加方よろしくお取り計らい下さい
B10: 1. 主 催 | C10: 第４学区テニス大会実行委員会
B11: 2. 期 日 | C11: 予選 2016年6月19日（日） 予備日 6月25日（土）
C12: 本戦 6月26日（日） 予備日 7月 3日（日）
B13: 3. 会 場 | C13: 予選は第4学区内の各学校コート、本戦は蜻蛉池公園（予定）
B14: 4. 参加資格 | C14: ・ 大阪高体連テニス部に加盟している第4学区内の学校の生徒
C15: ・ 3年生も出場可です
C16: ・ 出場数の制限はありませんが、多数参加の場合はできるだけ コートの提供をお願いします
B17: 5. 競技規則 | C17: 日本テニス協会規則
B18: 6. 競技方法 | C18: ・ 予選は、直近の春季大会または大阪高校総体の本戦出場者、
C19: およびその他実行委員会が認めたものを除く
C20: ・ 本戦は、上記の予選優勝者と本戦出場者のトーナメントで行う
C21: ・ 試合は、1セットマッチ、6オールタイブレークで行う
B22: 7. 申込方法 | C22: ① 申込用ファイルを『4学区テニス大会実行委員会』のブログより
C23: ダウンロードする
C24: ② 【データ】必要事項を入力後、メール送信
C25: ≪電子データ送信先≫ 4gakku@osaka-hs-tennis.com
C26: ③ 【書類】 「FAX送信用紙」を下記へFAXする
C27: ≪FAX送信先≫
C28: 大阪体育大学浪商高等学校 外国語科 辻 博規 宛
C29: FAX番号 072 - 453 - 7002
C30: ④ エントリー代振込先（学校名がわかるように）
C31: 三井住友銀行 佐野支店 普通１５９０５５７
C32: ＜名義＞ 大阪体育大学浪商高校テニス部 代表 辻 博規
C34: 申込締切（データ・FAXとも） 2016年5月27日（金）
B36: 8. エントリー代 | C36: 1組につき1,000円を学校でまとめて
B37: 9. 代表者連絡会 | C37: 代表者連絡会は行いません
C38: ・ ボールは会場校に直送、ドローと日程はブログにて確認すること
B40: 10. 表 彰 | C40: 男女第3位（ベスト4）以上の入賞者に、賞状と賞品
C41: 予選の優勝者に賞状

Sheet 団体（エントリー）
B2: 色のついたセルに必要事項を入力し、必ず上書き保存してください。 提出不要です。
B5: 男子（団体） | G5: 出場 | H5: =SUM(A8:A82) -> 0 | I5: チーム | K5: 女子（団体） | P5: 出場 | Q5: =SUM(J8:J82) -> 0 | R5: チーム
U6: 1 | V6: 2 | W6: 3 | X6: 4 | Y6: 5 | Z6: 6 | AA6: 7 | AB6: 8 | AC6: 9
D7: 姓 | E7: 名 | F7: 学年 | G7: ポイント | H7: 代表者連絡先（１名必須） | I7: 備考 | M7: 姓 | N7: 名 | O7: 学年 | P7: ポイント | Q7: 代表者連絡先（１名 必須） | R7: 備考 | U7: 組番 | V7: 名前・学年 | W7: ポイント | X7: 連絡先 | Y7: 備考 | Z7: 名前・学年 | AA7: ポイント | AB7: 連絡先 | AC7: 備考
A8: =IF(COUNTA(D8:F10)=9,1,0) -> 0 | B8: A | C8: 1 | J8: =IF(COUNTA(M8:O10)=9,1,0) -> 0 | K8: A | L8: 1 | U8: A1 | V8: =D8&" "&E8&" "&F8 | W8: =G8 -> 0 | X8: =H8 -> 0 | Y8: =I8 -> 0 | Z8: =M8&" "&N8&" "&O8 | AA8: =P8 -> 0 | AB8: =Q8 -> 0 | AC8: =R8 -> 0
C9: 2 | L9: 2 | U9: A2 | V9: =D9&" "&E9&" "&F9 | W9: =G9 -> 0 | X9: =H9 -> 0 | Y9: =I9 -> 0 | Z9: =M9&" "&N9&" "&O9 | AA9: =P9 -> 0 | AB9: =Q9 -> 0 | AC9: =R9 -> 0
C10: 3 | L10: 3 | U10: A3 | V10: =D10&" "&E10&" "&F10 | W10: =G10 -> 0 | X10: =H10 -> 0 | Y10: =I10 -> 0 | Z10: =M10&" "&N10&" "&O10 | AA10: =P10 -> 0 | AB10: =Q10 -> 0 | AC10: =R10 -> 0
C11: 4 | L11: 4 | U11: A4 | V11: =D11&" "&E11&" "&F11 | W11: =G11 -> 0 | X11: =H11 -> 0 | Y11: =I11 -> 0 | Z11: =M11&" "&N11&" "&O11 | AA11: =P11 -> 0 | AB11: =Q11 -> 0 | AC11: =R11 -> 0
C12: 5 | L12: 5 | U12: A5 | V12: =D12&" "&E12&" "&F12 | W12: =G12 -> 0 | X12: =H12 -> 0 | Y12: =I12 -> 0 | Z12: =M12&" "&N12&" "&O12 | AA12: =P12 -> 0 | AB12: =Q12 -> 0 | AC12: =R12 -> 0
A13: =IF(COUNTA(D13:F15)=9,1,0) -> 0 | B13: B | C13: 1 | J13: =IF(COUNTA(M13:O15)=9,1,0) -> 0 | K13: B | L13: 1 | U13: B1 | V13: =D13&" "&E13&" "&F13 | W13: =G13 -> 0 | X13: =H13 -> 0 | Y13: =I13 -> 0 | Z13: =M13&" "&N13&" "&O13 | AA13: =P13 -> 0 | AB13: =Q13 -> 0 | AC13: =R13 -> 0
C14: 2 | L14: 2 | U14: B2 | V14: =D14&" "&E14&" "&F14 | W14: =G14 -> 0 | X14: =H14 -> 0 | Y14: =I14 -> 0 | Z14: =M14&" "&N14&" "&O14 | AA14: =P14 -> 0 | AB14: =Q14 -> 0 | AC14: =R14 -> 0
C15: 3 | L15: 3 | U15: B3 | V15: =D15&" "&E15&" "&F15 | W15: =G15 -> 0 | X15: =H15 -> 0 | Y15: =I15 -> 0 | Z15: =M15&" "&N15&" "&O15 | AA15: =P15 -> 0 | AB15: =Q15 -> 0 | AC15: =R15 -> 0
C16: 4 | L16: 4 | U16: B4 | V16: =D16&" "&E16&" "&F16 | W16: =G16 -> 0 | X16: =H16 -> 0 | Y16: =I16 -> 0 | Z16: =M16&" "&N16&" "&O16 | AA16: =P16 -> 0 | AB16: =Q16 -> 0 | AC16: =R16 -> 0
C17: 5 | L17: 5 | U17: B5 | V17: =D17&" "&E17&" "&F17 | W17: =G17 -> 0 | X17: =H17 -> 0 | Y17: =I17 -> 0 | Z17: =M17&" "&N17&" "&O17 | AA17: =P17 -> 0 | AB17: =Q17 -> 0 | AC17: =R17 -> 0
A18: =IF(COUNTA(D18:F20)=9,1,0) -> 0 | B18: C | C18: 1 | J18: =IF(COUNTA(M18:O20)=9,1,0) -> 0 | K18: C | L18: 1 | U18: C1 | V18: =D18&" "&E18&" "&F18 | W18: =G18 -> 0 | X18: =H18 -> 0 | Y18: =I18 -> 0 | Z18: =M18&" "&N18&" "&O18 | AA18: =P18 -> 0 | AB18: =Q18 -> 0 | AC18: =R18 -> 0
C19: 2 | L19: 2 | U19: C2 | V19: =D19&" "&E19&" "&F19 | W19: =G19 -> 0 | X19: =H19 -> 0 | Y19: =I19 -> 0 | Z19: =M19&" "&N19&" "&O19 | AA19: =P19 -> 0 | AB19: =Q19 -> 0 | AC19: =R19 -> 0
C20: 3 | L20: 3 | U20: C3 | V20: =D20&" "&E20&" "&F20 | W20: =G20 -> 0 | X20: =H20 -> 0 | Y20: =I20 -> 0 | Z20: =M20&" "&N20&" "&O20 | AA20: =P20 -> 0 | AB20: =Q20 -> 0 | AC20: =R20 -> 0
C21: 4 | L21: 4 | U21: C4 | V21: =D21&" "&E21&" "&F21 | W21: =G21 -> 0 | X21: =H21 -> 0 | Y21: =I21 -> 0 | Z21: =M21&" "&N21&" "&O21 | AA21: =P21 -> 0 | AB21: =Q21 -> 0 | AC21: =R21 -> 0
C22: 5 | L22: 5 | U22: C5 | V22: =D22&" "&E22&" "&F22 | W22: =G22 -> 0 | X22: =H22 -> 0 | Y22: =I22 -> 0 | Z22: =M22&" "&N22&" "&O22 | AA22: =P22 -> 0 | AB22: =Q22 -> 0 | AC22: =R22 -> 0
A23: =IF(COUNTA(D23:F25)=9,1,0) -> 0 | B23: D | C23: 1 | J23: =IF(COUNTA(M23:O25)=9,1,0) -> 0 | K23: D | L23: 1 | U23: D1 | V23: =D23&" "&E23&" "&F23 | W23: =G23 -> 0 | X23: =H23 -> 0 | Y23: =I23 -> 0 | Z23: =M23&" "&N23&" "&O23 | AA23: =P23 -> 0 | AB23: =Q23 -> 0 | AC23: =R23 -> 0
C24: 2 | L24: 2 | U24: D2 | V24: =D24&" "&E24&" "&F24 | W24: =G24 -> 0 | X24: =H24 -> 0 | Y24: =I24 -> 0 | Z24: =M24&" "&N24&" "&O24 | AA24: =P24 -> 0 | AB24: =Q24 -> 0 | AC24: =R24 -> 0
C25: 3 | L25: 3 | U25: D3 | V25: =D25&" "&E25&" "&F25 | W25: =G25 -> 0 | X25: =H25 -> 0 | Y25: =I25 -> 0 | Z25: =M25&" "&N25&" "&O25 | AA25: =P25 -> 0 | AB25: =Q25 -> 0 | AC25: =R25 -> 0
C26: 4 | L26: 4 | U26: D4 | V26: =D26&" "&E26&" "&F26 | W26: =G26 -> 0 | X26: =H26 -> 0 | Y26: =I26 -> 0 | Z26: =M26&" "&N26&" "&O26 | AA26: =P26 -> 0 | AB26: =Q26 -> 0 | AC26: =R26 -> 0
C27: 5 | L27: 5 | U27: D5 | V27: =D27&" "&E27&" "&F27 | W27: =G27 -> 0 | X27: =H27 -> 0 | Y27: =I27 -> 0 | Z27: =M27&" "&N27&" "&O27 | AA27: =P27 -> 0 | AB27: =Q27 -> 0 | AC27: =R27 -> 0
A28: =IF(COUNTA(D28:F30)=9,1,0) -> 0 | B28: E | C28: 1 | J28: =IF(COUNTA(M28:O30)=9,1,0) -> 0 | K28: E | L28: 1 | U28: E1 | V28: =D28&" "&E28&" "&F28 | W28: =G28 -> 0 | X28: =H28 -> 0 | Y28: =I28 -> 0 | Z28: =M28&" "&N28&" "&O28 | AA28: =P28 -> 0 | AB28: =Q28 -> 0 | AC28: =R28 -> 0
C29: 2 | L29: 2 | U29: E2 | V29: =D29&" "&E29&" "&F29 | W29: =G29 -> 0 | X29: =H29 -> 0 | Y29: =I29 -> 0 | Z29: =M29&" "&N29&" "&O29 | AA29: =P29 -> 0 | AB29: =Q29 -> 0 | AC29: =R29 -> 0
C30: 3 | L30: 3 | U30: E3 | V30: =D30&" "&E30&" "&F30 | W30: =G30 -> 0 | X30: =H30 -> 0 | Y30: =I30 -> 0 | Z30: =M30&" "&N30&" "&O30 | AA30: =P30 -> 0 | AB30: =Q30 -> 0 | AC30: =R30 -> 0
C31: 4 | L31: 4 | U31: E4 | V31: =D31&" "&E31&" "&F31 | W31: =G31 -> 0 | X31: =H31 -> 0 | Y31: =I31 -> 0 | Z31: =M31&" "&N31&" "&O31 | AA31: =P31 -> 0 | AB31: =Q31 -> 0 | AC31: =R31 -> 0
C32: 5 | L32: 5 | U32: E5 | V32: =D32&" "&E32&" "&F32 | W32: =G32 -> 0 | X32: =H32 -> 0 | Y32: =I32 -> 0 | Z32: =M32&" "&N32&" "&O32 | AA32: =P32 -> 0 | AB32: =Q32 -> 0 | AC32: =R32 -> 0
A33: =IF(COUNTA(D33:F35)=9,1,0) -> 0 | B33: F | C33: 1 | J33: =IF(COUNTA(M33:O35)=9,1,0) -> 0 | K33: F | L33: 1 | U33: F1 | V33: =D33&" "&E33&" "&F33 | W33: =G33 -> 0 | X33: =H33 -> 0 | Y33: =I33 -> 0 | Z33: =M33&" "&N33&" "&O33 | AA33: =P33 -> 0 | AB33: =Q33 -> 0 | AC33: =R33 -> 0
C34: 2 | L34: 2 | U34: F2 | V34: =D34&" "&E34&" "&F34 | W34: =G34 -> 0 | X34: =H34 -> 0 | Y34: =I34 -> 0 | Z34: =M34&" "&N34&" "&O34 | AA34: =P34 -> 0 | AB34: =Q34 -> 0 | AC34: =R34 -> 0
C35: 3 | L35: 3 | U35: F3 | V35: =D35&" "&E35&" "&F35 | W35: =G35 -> 0 | X35: =H35 -> 0 | Y35: =I35 -> 0 | Z35: =M35&" "&N35&" "&O35 | AA35: =P35 -> 0 | AB35: =Q35 -> 0 | AC35: =R35 -> 0
C36: 4 | L36: 4 | U36: F4 | V36: =D36&" "&E36&" "&F36 | W36: =G36 -> 0 | X36: =H36 -> 0 | Y36: =I36 -> 0 | Z36: =M36&" "&N36&" "&O36 | AA36: =P36 -> 0 | AB36: =Q36 -> 0 | AC36: =R36 -> 0
C37: 5 | L37: 5 | U37: F5 | V37: =D37&" "&E37&" "&F37 | W37: =G37 -> 0 | X37: =H37 -> 0 | Y37: =I37 -> 0 | Z37: =M37&" "&N37&" "&O37 | AA37: =P37 -> 0 | AB37: =Q37 -> 0 | AC37: =R37 -> 0
A38: =IF(COUNTA(D38:F40)=9,1,0) -> 0 | B38: G | C38: 1 | J38: =IF(COUNTA(M38:O40)=9,1,0) -> 0 | K38: G | L38: 1 | U38: G1 | V38: =D38&" "&E38&" "&F38 | W38: =G38 -> 0 | X38: =H38 -> 0 | Y38: =I38 -> 0 | Z38: =M38&" "&N38&" "&O38 | AA38: =P38 -> 0 | AB38: =Q38 -> 0 | AC38: =R38 -> 0
C39: 2 | L39: 2 | U39: G2 | V39: =D39&" "&E39&" "&F39 | W39: =G39 -> 0 | X39: =H39 -> 0 | Y39: =I39 -> 0 | Z39: =M39&" "&N39&" "&O39 | AA39: =P39 -> 0 | AB39: =Q39 -> 0 | AC39: =R39 -> 0
C40: 3 | L40: 3 | U40: G3 | V40: =D40&" "&E40&" "&F40 | W40: =G40 -> 0 | X40: =H40 -> 0 | Y40: =I40 -> 0 | Z40: =M40&" "&N40&" "&O40 | AA40: =P40 -> 0 | AB40: =Q40 -> 0 | AC40: =R40 -> 0
C41: 4 | L41: 4 | U41: G4 | V41: =D41&" "&E41&" "&F41 | W41: =G41 -> 0 | X41: =H41 -> 0 | Y41: =I41 -> 0 | Z41: =M41&" "&N41&" "&O41 | AA41: =P41 -> 0 | AB41: =Q41 -> 0 | AC41: =R41 -> 0
C42: 5 | L42: 5 | U42: G5 | V42: =D42&" "&E42&" "&F42 | W42: =G42 -> 0 | X42: =H42 -> 0 | Y42: =I42 -> 0 | Z42: =M42&" "&N42&" "&O42 | AA42: =P42 -> 0 | AB42: =Q42 -> 0 | AC42: =R42 -> 0
A43: =IF(COUNTA(D43:F45)=9,1,0) -> 0 | B43: H | C43: 1 | J43: =IF(COUNTA(M43:O45)=9,1,0) -> 0 | K43: H | L43: 1 | U43: H1 | V43: =D43&" "&E43&" "&F43 | W43: =G43 -> 0 | X43: =H43 -> 0 | Y43: =I43 -> 0 | Z43: =M43&" "&N43&" "&O43 | AA43: =P43 -> 0 | AB43: =Q43 -> 0 | AC43: =R43 -> 0
...

Sheet シングルス（エントリー）
L1: ①
B2: 色のついたセルに必要事項を入力し、必ず上書き保存してください。 提出不要です。 | L2: ②
B5: 男子 | E5: 出場 | F5: =SUM(A7:A56) -> 0 | G5: 名 | I5: 女子 | L5: 出場 | M5: =SUM(H7:H56) -> 0 | N5: 名
B6: 順位 | C6: 姓 | D6: 名 | E6: 学年 | F6: ポイント | G6: 備考 | I6: 順位 | J6: 姓 | K6: 名 | L6: 学年 | M6: ポイント | N6: 備考
A7: =IF(COUNTA(C7:E7)=3,1,0) -> 0 | B7: 1 | H7: =IF(COUNTA(J7:L7)=3,1,0) -> 0 | I7: 1
A8: =IF(COUNTA(C8:E8)=3,1,0) -> 0 | B8: 2 | H8: =IF(COUNTA(J8:L8)=3,1,0) -> 0 | I8: 2
A9: =IF(COUNTA(C9:E9)=3,1,0) -> 0 | B9: 3 | H9: =IF(COUNTA(J9:L9)=3,1,0) -> 0 | I9: 3
A10: =IF(COUNTA(C10:E10)=3,1,0) -> 0 | B10: 4 | H10: =IF(COUNTA(J10:L10)=3,1,0) -> 0 | I10: 4
A11: =IF(COUNTA(C11:E11)=3,1,0) -> 0 | B11: 5 | H11: =IF(COUNTA(J11:L11)=3,1,0) -> 0 | I11: 5
A12: =IF(COUNTA(C12:E12)=3,1,0) -> 0 | B12: 6 | H12: =IF(COUNTA(J12:L12)=3,1,0) -> 0 | I12: 6
A13: =IF(COUNTA(C13:E13)=3,1,0) -> 0 | B13: 7 | H13: =IF(COUNTA(J13:L13)=3,1,0) -> 0 | I13: 7
A14: =IF(COUNTA(C14:E14)=3,1,0) -> 0 | B14: 8 | H14: =IF(COUNTA(J14:L14)=3,1,0) -> 0 | I14: 8
A15: =IF(COUNTA(C15:E15)=3,1,0) -> 0 | B15: 9 | H15: =IF(COUNTA(J15:L15)=3,1,0) -> 0 | I15: 9
A16: =IF(COUNTA(C16:E16)=3,1,0) -> 0 | B16: 10 | H16: =IF(COUNTA(J16:L16)=3,1,0) -> 0 | I16: 10
A17: =IF(COUNTA(C17:E17)=3,1,0) -> 0 | B17: 11 | H17: =IF(COUNTA(J17:L17)=3,1,0) -> 0 | I17: 11
A18: =IF(COUNTA(C18:E18)=3,1,0) -> 0 | B18: 12 | H18: =IF(COUNTA(J18:L18)=3,1,0) -> 0 | I18: 12
... A71: =IF(COUNTA(C71:E71)=3,1,0) -> 0 | B71: 65 | H71: =IF(COUNTA(J71:L71)=3,1,0) -> 0 | I71: 65

Sheet ダブルス（エントリー）
M1: ①
C2: 色のついたセルに必要事項を入力し、必ず上書き保存してください。 提出不要です。 | M2: ②
C5: 男子 | F5: 出場 | G5: =SUM(B7:B106) -> 0 | H5: 組 | J5: 女子 | M5: 出場 | N5: =SUM(I7:I106) -> 0 | O5: 組
C6: 順位 | D6: 姓 | E6: 名 | F6: 学年 | G6: ポイント | H6: 備考 | J6: 順位 | K6: 姓 | L6: 名 | M6: 学年 | N6: ポイント | O6: 備考
B7: =IF(COUNTA(D7:F8)=6,1,0) -> 0 | C7: 1 | I7: =IF(COUNTA(K7:M8)=6,1,0) -> 0 | J7: 1
B9: =IF(COUNTA(D9:F10)=6,1,0) -> 0 | C9: 2 | I9: =IF(COUNTA(K9:M10)=6,1,0) -> 0 | J9: 2
B11: =IF(COUNTA(D11:F12)=6,1,0) -> 0 | C11: 3 | I11: =IF(COUNTA(K11:M12)=6,1,0) -> 0 | J11: 3
B13: =IF(COUNTA(D13:F14)=6,1,0) -> 0 | C13: 4 | I13: =IF(COUNTA(K13:M14)=6,1,0) -> 0 | J13: 4
B15: =IF(COUNTA(D15:F16)=6,1,0) -> 0 | C15: 5 | I15: =IF(COUNTA(K15:M16)=6,1,0) -> 0 | J15: 5
B17: =IF(COUNTA(D17:F18)=6,1,0) -> 0 | C17: 6 | I17: =IF(COUNTA(K17:M18)=6,1,0) -> 0 | J17: 6
B19: =IF(COUNTA(D19:F20)=6,1,0) -> 0 | C19: 7 | I19: =IF(COUNTA(K19:M20)=6,1,0) -> 0 | J19: 7
B21: =IF(COUNTA(D21:F22)=6,1,0) -> 0 | C21: 8 | I21: =IF(COUNTA(K21:M22)=6,1,0) -> 0 | J21: 8
B23: =IF(COUNTA(D23:F24)=6,1,0) -> 0 | C23: 9 | I23: =IF(COUNTA(K23:M24)=6,1,0) -> 0 | J23: 9
B25: =IF(COUNTA(D25:F26)=6,1,0) -> 0 | C25: 10 | I25: =IF(COUNTA(K25:M26)=6,1,0) -> 0 | J25: 10
B27: =IF(COUNTA(D27:F28)=6,1,0) -> 0 | C27: 11 | I27: =IF(COUNTA(K27:M28)=6,1,0) -> 0 | J27: 11
B29: =IF(COUNTA(D29:F30)=6,1,0) -> 0 | C29: 12 | I29: =IF(COUNTA(K29:M30)=6,1,0) -> 0 | J29: 12
... B105: =IF(COUNTA(D105:F106)=6,1,0) -> 0 | C105: 50 | I105: =IF(COUNTA(K105:M106)=6,1,0) -> 0 | J105: 50

Sheet FAX送信用紙
B2: 水色のセルに必要事項を入力し、プリントアウトして下さい。 手書き不可！！
B5: 大阪体育大学浪商高等学校 外国語科 辻 博規 宛 (FAX 072-453-7002)
B8: 第２０回 第４学区テニス大会 FAX送信用紙
B10: 学校名 | H10: 学校番号 | I10: =学校番号 -> 0
B11: =はじめにお読みください!E7 -> 0 | H11: =NOW() -> 46135.431
B12: 表示名 | F12: 記載責任者（顧問）
B13: =はじめにお読みください!E8 -> 0 | F13: =記載責任者 -> 0
F14: 緊急連絡先（すぐに連絡のつく電話番号）
F15: =緊急連絡先 -> 0
C17: シングルス | D17: 予備 | E17: 予備
C18: 46397 | D18: =C18+1 -> 46398 | E18: 46403
B19: 男子（面数）
B20: 女子（面数）
B21: 備考
B23: 出場数（団体の部） | F23: 入金額
B24: 男子 | C24: ='団体（エントリー）'!H5 -> 0 | D24: チーム | F24: =C26*3300+C31*1200 -> 0 | I24: 円
B25: 女子 | C25: ='団体（エントリー）'!Q5 -> 0 | D25: チーム
B26: 計 | C26: =SUM(C24:C25) -> 0 | D26: チーム
B28: シングルスの部 | F28: ＜領収書貼り付け欄＞ 領収書などの振り込んだ金額が 確認できるものを貼り付けてください。 ネットバンキングなどによる入金の 場合は、その記録をプリントアウトした ものを別紙にてFAXしてください。
B29: 男子 | C29: ='シングルス（エントリー）'!F5 -> 0 | D29: 名
B30: 女子 | C30: ='シングルス（エントリー）'!M5 -> 0 | D30: 名
B31: 計 | C31: =SUM(C29:C30) -> 0 | D31: 名
L33: ダブルスの部
L34: 男子 | M34: ='ダブルス（エントリー）'!G5 -> 0 | N34: 組
L35: 女子 | M35: ='ダブルス（エントリー）'!N5 -> 0 | N35: 組
L36: 計 | M36: =SUM(M34:M35) -> 0 | N36: 組
B38: 締切（FAX、データとも）
B39: １１月２６日（木）
B42: 【電子データ送信先】
B43: 4gakku＠osaka-hs-tennis.com

Sheet データ※触らないでください
AM3: 2 | AN3: 2 | AO3: 2 | AP3: 2 | AQ3: 2 | AR3: 3 | AS3: 3 | AT3: 3 | AU3: 3 | AV3: 3 | AW3: 4 | AX3: 4 | AY3: 4 | AZ3: 4 | BA3: 4 | BB3: 5 | BC3: 5 | BD3: 5 | BE3: 5 | BF3: 5 | BJ3: 6 | BK3: 6 | BL3: 6 | BM3: 6 | BN3: 6 | BO3: 7 | BP3: 7 | BQ3: 7 | BR3: 7 | BS3: 7 | BT3: 8 | BU3: 8 | BV3: 8 | BW3: 8 | BX3: 8 | BY3: 9 | BZ3: 9 | CA3: 9 | CB3: 9 | CC3: 9
B4: S | H4: シングルス（女子） | O4: D | Y4: ダブルス（女子） | AJ4: T | AM4: 1 | AN4: 2 | AO4: 3 | AP4: 4 | AQ4: 5 | AR4: 1 | AS4: 2 | AT4: 3 | AU4: 4 | AV4: 5 | AW4: 1 | AX4: 2 | AY4: 3 | AZ4: 4 | BA4: 5 | BB4: 1 | BC4: 2 | BD4: 3 | BE4: 4 | BF4: 5 | BG4: 団体（女子） | BJ4: 1 | BK4: 2 | BL4: 3 | BM4: 4 | BN4: 5 | BO4: 1 | BP4: 2 | BQ4: 3 | BR4: 4 | BS4: 5 | BT4: 1 | BU4: 2 | BV4: 3 | BW4: 4 | BX4: 5 | BY4: 1 | BZ4: 2 | CA4: 3 | CB4: 4 | CC4: 5
B5: 学校番号 | C5: 男子 | D5: 名前・学年 | E5: 学校名 | F5: ポイント | G5: 備考 | H5: 学校番号 | I5: 女子 | J5: 名前・学年 | K5: 学校名 | L5: ポイント | M5: 備考 | O5: 学校番号 | P5: 学校名 | Q5: 順位 | R5: 氏名① | S5: ポイント① | T5: 備考① | U5: 氏名② | V5: ポイント② | W5: 備考② | X5: ポイント計 | Y5: 学校番号 | Z5: 学校名 | AA5: 順位 | AB5: 氏名① | AC5: ポイント① | AD5: 備考① | AE5: 氏名② | AF5: ポイント② | AG5: 備考② | AH5: ポイント計 | AJ5: 学校番号 | AK5: 学校名 | AL5: チーム | AM5: No.1 | AN5: No.2 | AO5: No.3 | AP5: No.4 | AQ5: No.5 | AR5: ポイント① | AS5: ポイント② | AT5: ポイント③ | AU5: ポイント④ | AV5: ポイント⑤ | AW5: 連絡先１ | AX5: 連絡先２ | AY5: 連絡先３ | AZ5: 連絡先４ | BA5: 連絡先５ | BB5: 備考１ | BC5: 備考２ | BD5: 備考３ | BE5: 備考４ | BF5: 備考５ | BG5: 学校番号 | BH5: 学校名 | BI5: チーム | BJ5: No.1 | BK5: No.2 | BL5: No.3 | BM5: No.4 | BN5: No.5 | BO5: ポイント① | BP5: ポイント② | BQ5: ポイント③ | BR5: ポイント④ | BS5: ポイント⑤ | BT5: 連絡先１ | BU5: 連絡先２ | BV5: 連絡先３ | BW5: 連絡先４ | BX5: 連絡先５ | BY5: 備考１ | BZ5: 備考２ | CA5: 備考３ | CB5: 備考４ | CC5: 備考５
B6: =学校番号 -> 0 | C6: BS-01 | D6: ='シングルス（エントリー）'!C7&" "&'シングルス（エントリー）'!D7&" "&'シングルス（エントリー）'!E7 | E6: =表示名 -> 0 | F6: ='シングルス（エントリー）'!F7 -> 0 | G6: ='シングルス（エントリー）'!G7 -> 0 | H6: =学校番号 -> 0 | I6: GS-01 | J6: ='シングルス（エントリー）'!J7&" "&'シングルス（エントリー）'!K7&" "&'シングルス（エントリー）'!L7 | K6: =表示名 -> 0 | L6: ='シングルス（エントリー）'!M7 -> 0 | M6: ='シングルス（エントリー）'!N7 -> 0 | O6: =学校番号 -> 0 | P6: =表示名 -> 0 | Q6: BD-01 | R6: ='ダブルス（エントリー）'!D7&" "&'ダブルス（エントリー）'!E7&" "&'ダブルス（エントリー）'!F7 | S6: ='ダブルス（エントリー）'!G7 -> 0 | T6: ='ダブルス（エントリー）'!H7 -> 0 | U6: ='ダブルス（エントリー）'!D8&" "&'ダブルス（エントリー）'!E8&" "&'ダブルス（エントリー）'!F8 | V6: ='ダブルス（エントリー）'!G8 -> 0 | W6: ='ダブルス（エントリー）'!H8 -> 0 | X6: =S6+V6 -> 0 | Y6: =学校番号 -> 0 | Z6: =表示名 -> 0 | AA6: BD-01 | AB6: ='ダブルス（エントリー）'!K7&" "&'ダブルス（エントリー）'!L7&" "&'ダブルス（エントリー）'!M7 | AC6: ='ダブルス（エントリー）'!N7 -> 0 | AD6: ='ダブルス（エントリー）'!O7 -> 0 | AE6: ='ダブルス（エントリー）'!K8&" "&'ダブルス（エントリー）'!L8&" "&'ダブルス（エントリー）'!M8 | AF6: ='ダブルス（エントリー）'!N8 -> 0 | AG6: ='ダブルス（エントリー）'!O8 -> 0 | AH6: =AC6+AF6 -> 0 | AJ6: =学校番号 -> 0 | AK6: =表示名 -> 0 | AL6: A | AM6: =VLOOKUP($AL6&AM$4,'団体（エントリー）'!$U$7:$AC$82,データ※触らないでください!AM$3,FALSE) | AN6: =VLOOKUP($AL6&AN$4,'団体（エントリー）'!$U$7:$AC$82,データ※触らないでください!AN$3,FALSE) | AO6: =VLOOKUP($AL6&AO$4,'団体（エントリー）'!$U$7:$AC$82,データ※触らないでください!AO$3,FALSE) | AP6: =VLOOKUP($AL6&AP$4,'団体（エントリー）'!$U$7:$AC$82,データ※触らないでください!AP$3,FALSE) | AQ6: =VLOOKUP($AL6&AQ$4,'団体（エントリー）'!$U$7:$AC$82,データ※触らないでください!AQ$3,FALSE) | AR6: =VLOOKUP($AL6&AR$4,'団体（エントリー）'!$U$7:$AC$82,データ※触らないでください!AR$3,FALSE) -> 0 | AS6: =VLOOKUP($AL6&AS$4,'団体（エントリー）'!$U$7:$AC$82,データ※触らないでください!AS$3,FALSE) -> 0 | AT6: =VLOOKUP($AL6&AT$4,'団体（エントリー）'!$U$7:$AC$82,データ※触らないでください!AT$3,FALSE) -> 0 | ... BF6: =VLOOKUP($AL6&BF$4,'団体（エントリー）'!$U$7:$AC$82,データ※触らないでください!BF$3,FALSE) -> 0 | BG6: =学校番号 -> 0 | BH6: =表示名 -> 0 | BI6: A | BJ6: =VLOOKUP($AL6&BJ$4,'団体（エントリー）'!$U$7:$AC$82,データ※触らないでください!BJ$3,FALSE) | BK6: =VLOOKUP($AL6&BK$4,'団体（エントリー）'!$U$7:$AC$82,データ※触らないでください!BK$3,FALSE) | BL6: =VLOOKUP($AL6&BL$4,'団体（エントリー）'!$U$7:$AC$82,データ※触らないでください!BL$3,FALSE) | BM6: =VLOOKUP($AL6&BM$4,'団体（エントリー）'!$U$7:$AC$82,データ※触らないでください!BM$3,FALSE) | BN6: =VLOOKUP($AL6&BN$4,'団体（エントリー）'!$U$7:$AC$82,データ※触らないでください!BN$3,FALSE) | BO6: =VLOOKUP($AL6&BO$4,'団体（エントリー）'!$U$7:$AC$82,データ※触らないでください!BO$3,FALSE) -> 0 | BP6: =VLOOKUP($AL6&BP$4,'団体（エントリー）'!$U$7:$AC$82,データ※触らないでください!BP$3,FALSE) -> 0 | BQ6: =VLOOKUP($AL6&BQ$4,'団体（エントリー）'!$U$7:$AC$82,データ※触らないでください!BQ$3,FALSE) -> 0 | ... CC6: =VLOOKUP($AL6&CC$4,'団体（エントリー）'!$U$7:$AC$82,データ※触らないでください!CC$3,FALSE) -> 0
B7: =学校番号 -> 0 | C7: BS-02 | D7: ='シングルス（エントリー）'!C8&" "&'シングルス（エントリー）'!D8&" "&'シングルス（エントリー）'!E8 | E7: =表示名 -> 0 | F7: ='シングルス（エントリー）'!F8 -> 0 | G7: ='シングルス（エントリー）'!G8 -> 0 | H7: =学校番号 -> 0 | I7: GS-02 | J7: ='シングルス（エントリー）'!J8&" "&'シングルス（エントリー）'!K8&" "&'シングルス（エントリー）'!L8 | K7: =表示名 -> 0 | L7: ='シングルス（エントリー）'!M8 -> 0 | M7: ='シングルス（エントリー）'!N8 -> 0 | O7: =学校番号 -> 0 | P7: =表示名 -> 0 | Q7: BD-02 | R7: ='ダブルス（エントリー）'!D9&" "&'ダブルス（エントリー）'!E9&" "&'ダブルス（エントリー）'!F9 | S7: ='ダブルス（エントリー）'!G9 -> 0 | T7: ='ダブルス（エントリー）'!H9 -> 0 | U7: ='ダブルス（エントリー）'!D10&" "&'ダブルス（エントリー）'!E10&" "&'ダブルス（エントリー）'!F10 | V7: ='ダブルス（エントリー）'!G10 -> 0 | W7: ='ダブルス（エントリー）'!H10 -> 0 | X7: =S7+V7 -> 0 | Y7: =学校番号 -> 0 | Z7: =表示名 -> 0 | AA7: BD-02 | AB7: ='ダブルス（エントリー）'!K9&" "&'ダブルス（エントリー）'!L9&" "&'ダブルス（エントリー）'!M9 | AC7: ='ダブルス（エントリー）'!N9 -> 0 | AD7: ='ダブルス（エントリー）'!O9 -> 0 | AE7: ='ダブルス（エントリー）'!K10&" "&'ダブルス（エントリー）'!L10&" "&'ダブルス（エントリー）'!M10 | AF7: ='ダブルス（エントリー）'!N10 -> 0 | AG7: ='ダブルス（エントリー）'!O10 -> 0 | AH7: =AC7+AF7 -> 0 | AJ7: =学校番号 -> 0 | AK7: =表示名 -> 0 | AL7: B | AM7: =VLOOKUP($AL7&AM$4,'団体（エントリー）'!$U$7:$AC$82,データ※触らないでください!AM$3,FALSE) | AN7: =VLOOKUP($AL7&AN$4,'団体（エントリー）'!$U$7:$AC$82,データ※触らないでください!AN$3,FALSE) | AO7: =VLOOKUP($AL7&AO$4,'団体（エントリー）'!$U$7:$AC$82,データ※触らないでください!AO$3,FALSE) | AP7: =VLOOKUP($AL7&AP$4,'団体（エントリー）'!$U$7:$AC$82,データ※触らないでください!AP$3,FALSE) | AQ7: =VLOOKUP($AL7&AQ$4,'団体（エントリー）'!$U$7:$AC$82,データ※触らないでください!AQ$3,FALSE) | AR7: =VLOOKUP($AL7&AR$4,'団体（エントリー）'!$U$7:$AC$82,データ※触らないでください!AR$3,FALSE) -> 0 | AS7: =VLOOKUP($AL7&AS$4,'団体（エントリー）'!$U$7:$AC$82,データ※触らないでください!AS$3,FALSE) -> 0 | AT7: =VLOOKUP($AL7&AT$4,'団体（エントリー）'!$U$7:$AC$82,データ※触らないでください!AT$3,FALSE) -> 0 | ... BF7: =VLOOKUP($AL7&BF$4,'団体（エントリー）'!$U$7:$AC$82,データ※触らないでください!BF$3,FALSE) -> 0 | BG7: =学校番号 -> 0 | BH7: =表示名 -> 0 | BI7: B | BJ7: =VLOOKUP($AL7&BJ$4,'団体（エントリー）'!$U$7:$AC$82,データ※触らないでください!BJ$3,FALSE) | BK7: =VLOOKUP($AL7&BK$4,'団体（エントリー）'!$U$7:$AC$82,データ※触らないでください!BK$3,FALSE) | BL7: =VLOOKUP($AL7&BL$4,'団体（エントリー）'!$U$7:$AC$82,データ※触らないでください!BL$3,FALSE) | BM7: =VLOOKUP($AL7&BM$4,'団体（エントリー）'!$U$7:$AC$82,データ※触らないでください!BM$3,FALSE) | BN7: =VLOOKUP($AL7&BN$4,'団体（エントリー）'!$U$7:$AC$82,データ※触らないでください!BN$3,FALSE) | BO7: =VLOOKUP($AL7&BO$4,'団体（エントリー）'!$U$7:$AC$82,データ※触らないでください!BO$3,FALSE) -> 0 | BP7: =VLOOKUP($AL7&BP$4,'団体（エントリー）'!$U$7:$AC$82,データ※触らないでください!BP$3,FALSE) -> 0 | BQ7: =VLOOKUP($AL7&BQ$4,'団体（エントリー）'!$U$7:$AC$82,データ※触らないでください!BQ$3,FALSE) -> 0 | ... CC7: =VLOOKUP($AL7&CC$4,'団体（エントリー）'!$U$7:$AC$82,データ※触らないでください!CC$3,FALSE) -> 0
B8: =学校番号 -> 0 | C8: BS-03 | D8: ='シングルス（エントリー）'!C9&" "&'シングルス（エントリー）'!D9&" "&'シングルス（エントリー）'!E9 | E8: =表示名 -> 0 | F8: ='シングルス（エントリー）'!F9 -> 0 | G8: ='シングルス（エントリー）'!G9 -> 0 | H8: =学校番号 -> 0 | I8: GS-03 | J8: ='シングルス（エントリー）'!J9&" "&'シングルス（エントリー）'!K9&" "&'シングルス（エントリー）'!L9 | K8: =表示名 -> 0 | L8: ='シングルス（エントリー）'!M9 -> 0 | M8: ='シングルス（エントリー）'!N9 -> 0 | O8: =学校番号 -> 0 | P8: =表示名 -> 0 | Q8: BD-03 | R8: ='ダブルス（エントリー）'!D11&" "&'ダブルス（エントリー）'!E11&" "&'ダブルス（エントリー）'!F11 | S8: ='ダブルス（エントリー）'!G11 -> 0 | T8: ='ダブルス（エントリー）'!H11 -> 0 | U8: ='ダブルス（エントリー）'!D12&" "&'ダブルス（エントリー）'!E12&" "&'ダブルス（エントリー）'!F12 | V8: ='ダブルス（エントリー）'!G12 -> 0 | W8: ='ダブルス（エントリー）'!H12 -> 0 | X8: =S8+V8 -> 0 | Y8: =学校番号 -> 0 | Z8: =表示名 -> 0 | AA8: BD-03 | AB8: ='ダブルス（エントリー）'!K11&" "&'ダブルス（エントリー）'!L11&" "&'ダブルス（エントリー）'!M11 | AC8: ='ダブルス（エントリー）'!N11 -> 0 | AD8: ='ダブルス（エントリー）'!O11 -> 0 | AE8: ='ダブルス（エントリー）'!K12&" "&'ダブルス（エントリー）'!L12&" "&'ダブルス（エントリー）'!M12 | AF8: ='ダブルス（エントリー）'!N12 -> 0 | AG8: ='ダブルス（エントリー）'!O12 -> 0 | AH8: =AC8+AF8 -> 0 | AJ8: =学校番号 -> 0 | AK8: =表示名 -> 0 | AL8: C | AM8: =VLOOKUP($AL8&AM$4,'団体（エントリー）'!$U$7:$AC$82,データ※触らないでください!AM$3,FALSE) | AN8: =VLOOKUP($AL8&AN$4,'団体（エントリー）'!$U$7:$AC$82,データ※触らないでください!AN$3,FALSE) | AO8: =VLOOKUP($AL8&AO$4,'団体（エントリー）'!$U$7:$AC$82,データ※触らないでください!AO$3,FALSE) | AP8: =VLOOKUP($AL8&AP$4,'団体（エントリー）'!$U$7:$AC$82,データ※触らないでください!AP$3,FALSE) | AQ8: =VLOOKUP($AL8&AQ$4,'団体（エントリー）'!$U$7:$AC$82,データ※触らないでください!AQ$3,FALSE) | AR8: =VLOOKUP($AL8&AR$4,'団体（エントリー）'!$U$7:$AC$82,データ※触らないでください!AR$3,FALSE) -> 0 | AS8: =VLOOKUP($AL8&AS$4,'団体（エントリー）'!$U$7:$AC$82,データ※触らないでください!AS$3,FALSE) -> 0 | AT8: =VLOOKUP($AL8&AT$4,'団体（エントリー）'!$U$7:$AC$82,データ※触らないでください!AT$3,FALSE) -> 0 | ... BF8: =VLOOKUP($AL8&BF$4,'団体（エントリー）'!$U$7:$AC$82,データ※触らないでください!BF$3,FALSE) -> 0 | BG8: =学校番号 -> 0 | BH8: =表示名 -> 0 | BI8: C | BJ8: =VLOOKUP($AL8&BJ$4,'団体（エントリー）'!$U$7:$AC$82,データ※触らないでください!BJ$3,FALSE) | BK8: =VLOOKUP($AL8&BK$4,'団体（エントリー）'!$U$7:$AC$82,データ※触らないでください!BK$3,FALSE) | BL8: =VLOOKUP($AL8&BL$4,'団体（エントリー）'!$U$7:$AC$82,データ※触らないでください!BL$3,FALSE) | BM8: =VLOOKUP($AL8&BM$4,'団体（エントリー）'!$U$7:$AC$82,データ※触らないでください!BM$3,FALSE) | BN8: =VLOOKUP($AL8&BN$4,'団体（エントリー）'!$U$7:$AC$82,データ※触らないでください!BN$3,FALSE) | BO8: =VLOOKUP($AL8&BO$4,'団体（エントリー）'!$U$7:$AC$82,データ※触らないでください!BO$3,FALSE) -> 0 | BP8: =VLOOKUP($AL8&BP$4,'団体（エントリー）'!$U$7:$AC$82,データ※触らないでください!BP$3,FALSE) -> 0 | BQ8: =VLOOKUP($AL8&BQ$4,'団体（エントリー）'!$U$7:$AC$82,データ※触らないでください!BQ$3,FALSE) -> 0 | ... CC8: =VLOOKUP($AL8&CC$4,'団体（エントリー）'!$U$7:$AC$82,データ※触らないでください!CC$3,FALSE) -> 0
B9: =学校番号 -> 0 | C9: BS-04 | D9: ='シングルス（エントリー）'!C10&" "&'シングルス（エントリー）'!D10&" "&'シングルス（エントリー）'!E10 | E9: =表示名 -> 0 | F9: ='シングルス（エントリー）'!F10 -> 0 | G9: ='シングルス（エントリー）'!G10 -> 0 | H9: =学校番号 -> 0 | I9: GS-04 | J9: ='シングルス（エントリー）'!J10&" "&'シングルス（エントリー）'!K10&" "&'シングルス（エントリー）'!L10 | K9: =表示名 -> 0 | L9: ='シングルス（エントリー）'!M10 -> 0 | M9: ='シングルス（エントリー）'!N10 -> 0 | O9: =学校番号 -> 0 | P9: =表示名 -> 0 | Q9: BD-04 | R9: ='ダブルス（エントリー）'!D13&" "&'ダブルス（エントリー）'!E13&" "&'ダブルス（エントリー）'!F13 | S9: ='ダブルス（エントリー）'!G13 -> 0 | T9: ='ダブルス（エントリー）'!H13 -> 0 | U9: ='ダブルス（エントリー）'!D14&" "&'ダブルス（エントリー）'!E14&" "&'ダブルス（エントリー）'!F14 | V9: ='ダブルス（エントリー）'!G14 -> 0 | W9: ='ダブルス（エントリー）'!H14 -> 0 | X9: =S9+V9 -> 0 | Y9: =学校番号 -> 0 | Z9: =表示名 -> 0 | AA9: BD-04 | AB9: ='ダブルス（エントリー）'!K13&" "&'ダブルス（エントリー）'!L13&" "&'ダブルス（エントリー）'!M13 | AC9: ='ダブルス（エントリー）'!N13 -> 0 | AD9: ='ダブルス（エントリー）'!O13 -> 0 | AE9: ='ダブルス（エントリー）'!K14&" "&'ダブルス（エントリー）'!L14&" "&'ダブルス（エントリー）'!M14 | AF9: ='ダブルス（エントリー）'!N14 -> 0 | AG9: ='ダブルス（エントリー）'!O14 -> 0 | AH9: =AC9+AF9 -> 0 | AJ9: =学校番号 -> 0 | AK9: =表示名 -> 0 | AL9: D | AM9: =VLOOKUP($AL9&AM$4,'団体（エントリー）'!$U$7:$AC$82,データ※触らないでください!AM$3,FALSE) | AN9: =VLOOKUP($AL9&AN$4,'団体（エントリー）'!$U$7:$AC$82,データ※触らないでください!AN$3,FALSE) | AO9: =VLOOKUP($AL9&AO$4,'団体（エントリー）'!$U$7:$AC$82,データ※触らないでください!AO$3,FALSE) | AP9: =VLOOKUP($AL9&AP$4,'団体（エントリー）'!$U$7:$AC$82,データ※触らないでください!AP$3,FALSE) | AQ9: =VLOOKUP($AL9&AQ$4,'団体（エントリー）'!$U$7:$AC$82,データ※触らないでください!AQ$3,FALSE) | AR9: =VLOOKUP($AL9&AR$4,'団体（エントリー）'!$U$7:$AC$82,データ※触らないでください!AR$3,FALSE) -> 0 | AS9: =VLOOKUP($AL9&AS$4,'団体（エントリー）'!$U$7:$AC$82,データ※触らないでください!AS$3,FALSE) -> 0 | AT9: =VLOOKUP($AL9&AT$4,'団体（エントリー）'!$U$7:$AC$82,データ※触らないでください!AT$3,FALSE) -> 0 | ... BF9: =VLOOKUP($AL9&BF$4,'団体（エントリー）'!$U$7:$AC$82,データ※触らないでください!BF$3,FALSE) -> 0 | BG9: =学校番号 -> 0 | BH9: =表示名 -> 0 | BI9: D | BJ9: =VLOOKUP($AL9&BJ$4,'団体（エントリー）'!$U$7:$AC$82,データ※触らないでください!BJ$3,FALSE) | BK9: =VLOOKUP($AL9&BK$4,'団体（エントリー）'!$U$7:$AC$82,データ※触らないでください!BK$3,FALSE) | BL9: =VLOOKUP($AL9&BL$4,'団体（エントリー）'!$U$7:$AC$82,データ※触らないでください!BL$3,FALSE) | BM9: =VLOOKUP($AL9&BM$4,'団体（エントリー）'!$U$7:$AC$82,データ※触らないでください!BM$3,FALSE) | BN9: =VLOOKUP($AL9&BN$4,'団体（エントリー）'!$U$7:$AC$82,データ※触らないでください!BN$3,FALSE) | BO9: =VLOOKUP($AL9&BO$4,'団体（エントリー）'!$U$7:$AC$82,データ※触らないでください!BO$3,FALSE) -> 0 | BP9: =VLOOKUP($AL9&BP$4,'団体（エントリー）'!$U$7:$AC$82,データ※触らないでください!BP$3,FALSE) -> 0 | BQ9: =VLOOKUP($AL9&BQ$4,'団体（エントリー）'!$U$7:$AC$82,データ※触らないでください!BQ$3,FALSE) -> 0 | ... CC9: =VLOOKUP($AL9&CC$4,'団体（エントリー）'!$U$7:$AC$82,データ※触らないでください!CC$3,FALSE) -> 0
B10: =学校番号 -> 0 | C10: BS-05 | D10: ='シングルス（エントリー）'!C11&" "&'シングルス（エントリー）'!D11&" "&'シングルス（エントリー）'!E11 | E10: =表示名 -> 0 | F10: ='シングルス（エントリー）'!F11 -> 0 | G10: ='シングルス（エントリー）'!G11 -> 0 | H10: =学校番号 -> 0 | I10: GS-05 | J10: ='シングルス（エントリー）'!J11&" "&'シングルス（エントリー）'!K11&" "&'シングルス（エントリー）'!L11 | K10: =表示名 -> 0 | L10: ='シングルス（エントリー）'!M11 -> 0 | M10: ='シングルス（エントリー）'!N11 -> 0 | O10: =学校番号 -> 0 | P10: =表示名 -> 0 | Q10: BD-05 | R10: ='ダブルス（エントリー）'!D15&" "&'ダブルス（エントリー）'!E15&" "&'ダブルス（エントリー）'!F15 | S10: ='ダブルス（エントリー）'!G15 -> 0 | T10: ='ダブルス（エントリー）'!H15 -> 0 | U10: ='ダブルス（エントリー）'!D16&" "&'ダブルス（エントリー）'!E16&" "&'ダブルス（エントリー）'!F16 | V10: ='ダブルス（エントリー）'!G16 -> 0 | W10: ='ダブルス（エントリー）'!H16 -> 0 | X10: =S10+V10 -> 0 | Y10: =学校番号 -> 0 | Z10: =表示名 -> 0 | AA10: BD-05 | AB10: ='ダブルス（エントリー）'!K15&" "&'ダブルス（エントリー）'!L15&" "&'ダブルス（エントリー）'!M15 | AC10: ='ダブルス（エントリー）'!N15 -> 0 | AD10: ='ダブルス（エントリー）'!O15 -> 0 | AE10: ='ダブルス（エントリー）'!K16&" "&'ダブルス（エントリー）'!L16&" "&'ダブルス（エントリー）'!M16 | AF10: ='ダブルス（エントリー）'!N16 -> 0 | AG10: ='ダブルス（エントリー）'!O16 -> 0 | AH10: =AC10+AF10 -> 0 | AJ10: =学校番号 -> 0 | AK10: =表示名 -> 0 | AL10: E | AM10: =VLOOKUP($AL10&AM$4,'団体（エントリー）'!$U$7:$AC$82,データ※触らないでください!AM$3,FALSE) | AN10: =VLOOKUP($AL10&AN$4,'団体（エントリー）'!$U$7:$AC$82,データ※触らないでください!AN$3,FALSE) | AO10: =VLOOKUP($AL10&AO$4,'団体（エントリー）'!$U$7:$AC$82,データ※触らないでください!AO$3,FALSE) | AP10: =VLOOKUP($AL10&AP$4,'団体（エントリー）'!$U$7:$AC$82,データ※触らないでください!AP$3,FALSE) | AQ10: =VLOOKUP($AL10&AQ$4,'団体（エントリー）'!$U$7:$AC$82,データ※触らないでください!AQ$3,FALSE) | AR10: =VLOOKUP($AL10&AR$4,'団体（エントリー）'!$U$7:$AC$82,データ※触らないでください!AR$3,FALSE) -> 0 | AS10: =VLOOKUP($AL10&AS$4,'団体（エントリー）'!$U$7:$AC$82,データ※触らないでください!AS$3,FALSE) -> 0 | AT10: =VLOOKUP($AL10&AT$4,'団体（エントリー）'!$U$7:$AC$82,データ※触らないでください!AT$3,FALSE) -> 0 | ... BF10: =VLOOKUP($AL10&BF$4,'団体（エントリー）'!$U$7:$AC$82,データ※触らないでください!BF$3,FALSE) -> 0 | BG10: =学校番号 -> 0 | BH10: =表示名 -> 0 | BI10: E | BJ10: =VLOOKUP($AL10&BJ$4,'団体（エントリー）'!$U$7:$AC$82,データ※触らないでください!BJ$3,FALSE) | BK10: =VLOOKUP($AL10&BK$4,'団体（エントリー）'!$U$7:$AC$82,データ※触らないでください!BK$3,FALSE) | BL10: =VLOOKUP($AL10&BL$4,'団体（エントリー）'!$U$7:$AC$82,データ※触らないでください!BL$3,FALSE) | BM10: =VLOOKUP($AL10&BM$4,'団体（エントリー）'!$U$7:$AC$82,データ※触らないでください!BM$3,FALSE) | BN10: =VLOOKUP($AL10&BN$4,'団体（エントリー）'!$U$7:$AC$82,データ※触らないでください!BN$3,FALSE) | BO10: =VLOOKUP($AL10&BO$4,'団体（エントリー）'!$U$7:$AC$82,データ※触らないでください!BO$3,FALSE) -> 0 | BP10: =VLOOKUP($AL10&BP$4,'団体（エントリー）'!$U$7:$AC$82,データ※触らないでください!BP$3,FALSE) -> 0 | BQ10: =VLOOKUP($AL10&BQ$4,'団体（エントリー）'!$U$7:$AC$82,データ※触らないでください!BQ$3,FALSE) -> 0 | ... CC10: =VLOOKUP($AL10&CC$4,'団体（エントリー）'!$U$7:$AC$82,データ※触らないでください!CC$3,FALSE) -> 0
B11: =学校番号 -> 0 | C11: BS-06 | D11: ='シングルス（エントリー）'!C12&" "&'シングルス（エントリー）'!D12&" "&'シングルス（エントリー）'!E12 | E11: =表示名 -> 0 | F11: ='シングルス（エントリー）'!F12 -> 0 | G11: ='シングルス（エントリー）'!G12 -> 0 | H11: =学校番号 -> 0 | I11: GS-06 | J11: ='シングルス（エントリー）'!J12&" "&'シングルス（エントリー）'!K12&" "&'シングルス（エントリー）'!L12 | K11: =表示名 -> 0 | L11: ='シングルス（エントリー）'!M12 -> 0 | M11: ='シングルス（エントリー）'!N12 -> 0 | O11: =学校番号 -> 0 | P11: =表示名 -> 0 | Q11: BD-06 | R11: ='ダブルス（エントリー）'!D17&" "&'ダブルス（エントリー）'!E17&" "&'ダブルス（エントリー）'!F17 | S11: ='ダブルス（エントリー）'!G17 -> 0 | T11: ='ダブルス（エントリー）'!H17 -> 0 | U11: ='ダブルス（エントリー）'!D18&" "&'ダブルス（エントリー）'!E18&" "&'ダブルス（エントリー）'!F18 | V11: ='ダブルス（エントリー）'!G18 -> 0 | W11: ='ダブルス（エントリー）'!H18 -> 0 | X11: =S11+V11 -> 0 | Y11: =学校番号 -> 0 | Z11: =表示名 -> 0 | AA11: BD-06 | AB11: ='ダブルス（エントリー）'!K17&" "&'ダブルス（エントリー）'!L17&" "&'ダブルス（エントリー）'!M17 | AC11: ='ダブルス（エントリー）'!N17 -> 0 | AD11: ='ダブルス（エントリー）'!O17 -> 0 | AE11: ='ダブルス（エントリー）'!K18&" "&'ダブルス（エントリー）'!L18&" "&'ダブルス（エントリー）'!M18 | AF11: ='ダブルス（エントリー）'!N18 -> 0 | AG11: ='ダブルス（エントリー）'!O18 -> 0 | AH11: =AC11+AF11 -> 0 | AJ11: =学校番号 -> 0 | AK11: =表示名 -> 0 | AL11: F | AM11: =VLOOKUP($AL11&AM$4,'団体（エントリー）'!$U$7:$AC$82,データ※触らないでください!AM$3,FALSE) | AN11: =VLOOKUP($AL11&AN$4,'団体（エントリー）'!$U$7:$AC$82,データ※触らないでください!AN$3,FALSE) | AO11: =VLOOKUP($AL11&AO$4,'団体（エントリー）'!$U$7:$AC$82,データ※触らないでください!AO$3,FALSE) | AP11: =VLOOKUP($AL11&AP$4,'団体（エントリー）'!$U$7:$AC$82,データ※触らないでください!AP$3,FALSE) | AQ11: =VLOOKUP($AL11&AQ$4,'団体（エントリー）'!$U$7:$AC$82,データ※触らないでください!AQ$3,FALSE) | AR11: =VLOOKUP($AL11&AR$4,'団体（エントリー）'!$U$7:$AC$82,データ※触らないでください!AR$3,FALSE) -> 0 | AS11: =VLOOKUP($AL11&AS$4,'団体（エントリー）'!$U$7:$AC$82,データ※触らないでください!AS$3,FALSE) -> 0 | AT11: =VLOOKUP($AL11&AT$4,'団体（エントリー）'!$U$7:$AC$82,データ※触らないでください!AT$3,FALSE) -> 0 | ... BF11: =VLOOKUP($AL11&BF$4,'団体（エントリー）'!$U$7:$AC$82,データ※触らないでください!BF$3,FALSE) -> 0 | BG11: =学校番号 -> 0 | BH11: =表示名 -> 0 | BI11: F | BJ11: =VLOOKUP($AL11&BJ$4,'団体（エントリー）'!$U$7:$AC$82,データ※触らないでください!BJ$3,FALSE) | BK11: =VLOOKUP($AL11&BK$4,'団体（エントリー）'!$U$7:$AC$82,データ※触らないでください!BK$3,FALSE) | BL11: =VLOOKUP($AL11&BL$4,'団体（エントリー）'!$U$7:$AC$82,データ※触らないでください!BL$3,FALSE) | BM11: =VLOOKUP($AL11&BM$4,'団体（エントリー）'!$U$7:$AC$82,データ※触らないでください!BM$3,FALSE) | BN11: =VLOOKUP($AL11&BN$4,'団体（エントリー）'!$U$7:$AC$82,データ※触らないでください!BN$3,FALSE) | BO11: =VLOOKUP($AL11&BO$4,'団体（エントリー）'!$U$7:$AC$82,データ※触らないでください!BO$3,FALSE) -> 0 | BP11: =VLOOKUP($AL11&BP$4,'団体（エントリー）'!$U$7:$AC$82,データ※触らないでください!BP$3,FALSE) -> 0 | BQ11: =VLOOKUP($AL11&BQ$4,'団体（エントリー）'!$U$7:$AC$82,データ※触らないでください!BQ$3,FALSE) -> 0 | ... CC11: =VLOOKUP($AL11&CC$4,'団体（エントリー）'!$U$7:$AC$82,データ※触らないでください!CC$3,FALSE) -> 0
B12: =学校番号 -> 0 | C12: BS-07 | D12: ='シングルス（エントリー）'!C13&" "&'シングルス（エントリー）'!D13&" "&'シングルス（エントリー）'!E13 | E12: =表示名 -> 0 | F12: ='シングルス（エントリー）'!F13 -> 0 | G12: ='シングルス（エントリー）'!G13 -> 0 | H12: =学校番号 -> 0 | I12: GS-07 | J12: ='シングルス（エントリー）'!J13&" "&'シングルス（エントリー）'!K13&" "&'シングルス（エントリー）'!L13 | K12: =表示名 -> 0 | L12: ='シングルス（エントリー）'!M13 -> 0 | M12: ='シングルス（エントリー）'!N13 -> 0 | O12: =学校番号 -> 0 | P12: =表示名 -> 0 | Q12: BD-07 | R12: ='ダブルス（エントリー）'!D19&" "&'ダブルス（エントリー）'!E19&" "&'ダブルス（エントリー）'!F19 | S12: ='ダブルス（エントリー）'!G19 -> 0 | T12: ='ダブルス（エントリー）'!H19 -> 0 | U12: ='ダブルス（エントリー）'!D20&" "&'ダブルス（エントリー）'!E20&" "&'ダブルス（エントリー）'!F20 | V12: ='ダブルス（エントリー）'!G20 -> 0 | W12: ='ダブルス（エントリー）'!H20 -> 0 | X12: =S12+V12 -> 0 | Y12: =学校番号 -> 0 | Z12: =表示名 -> 0 | AA12: BD-07 | AB12: ='ダブルス（エントリー）'!K19&" "&'ダブルス（エントリー）'!L19&" "&'ダブルス（エントリー）'!M19 | AC12: ='ダブルス（エントリー）'!N19 -> 0 | AD12: ='ダブルス（エントリー）'!O19 -> 0 | AE12: ='ダブルス（エントリー）'!K20&" "&'ダブルス（エントリー）'!L20&" "&'ダブルス（エントリー）'!M20 | AF12: ='ダブルス（エントリー）'!N20 -> 0 | AG12: ='ダブルス（エントリー）'!O20 -> 0 | AH12: =AC12+AF12 -> 0 | AJ12: =学校番号 -> 0 | AK12: =表示名 -> 0 | AL12: G | AM12: =VLOOKUP($AL12&AM$4,'団体（エントリー）'!$U$7:$AC$82,データ※触らないでください!AM$3,FALSE) | AN12: =VLOOKUP($AL12&AN$4,'団体（エントリー）'!$U$7:$AC$82,データ※触らないでください!AN$3,FALSE) | AO12: =VLOOKUP($AL12&AO$4,'団体（エントリー）'!$U$7:$AC$82,データ※触らないでください!AO$3,FALSE) | AP12: =VLOOKUP($AL12&AP$4,'団体（エントリー）'!$U$7:$AC$82,データ※触らないでください!AP$3,FALSE) | AQ12: =VLOOKUP($AL12&AQ$4,'団体（エントリー）'!$U$7:$AC$82,データ※触らないでください!AQ$3,FALSE) | AR12: =VLOOKUP($AL12&AR$4,'団体（エントリー）'!$U$7:$AC$82,データ※触らないでください!AR$3,FALSE) -> 0 | AS12: =VLOOKUP($AL12&AS$4,'団体（エントリー）'!$U$7:$AC$82,データ※触らないでください!AS$3,FALSE) -> 0 | AT12: =VLOOKUP($AL12&AT$4,'団体（エントリー）'!$U$7:$AC$82,データ※触らないでください!AT$3,FALSE) -> 0 | ... BF12: =VLOOKUP($AL12&BF$4,'団体（エントリー）'!$U$7:$AC$82,データ※触らないでください!BF$3,FALSE) -> 0 | BG12: =学校番号 -> 0 | BH12: =表示名 -> 0 | BI12: G | BJ12: =VLOOKUP($AL12&BJ$4,'団体（エントリー）'!$U$7:$AC$82,データ※触らないでください!BJ$3,FALSE) | BK12: =VLOOKUP($AL12&BK$4,'団体（エントリー）'!$U$7:$AC$82,データ※触らないでください!BK$3,FALSE) | BL12: =VLOOKUP($AL12&BL$4,'団体（エントリー）'!$U$7:$AC$82,データ※触らないでください!BL$3,FALSE) | BM12: =VLOOKUP($AL12&BM$4,'団体（エントリー）'!$U$7:$AC$82,データ※触らないでください!BM$3,FALSE) | BN12: =VLOOKUP($AL12&BN$4,'団体（エントリー）'!$U$7:$AC$82,データ※触らないでください!BN$3,FALSE) | BO12: =VLOOKUP($AL12&BO$4,'団体（エントリー）'!$U$7:$AC$82,データ※触らないでください!BO$3,FALSE) -> 0 | BP12: =VLOOKUP($AL12&BP$4,'団体（エントリー）'!$U$7:$AC$82,データ※触らないでください!BP$3,FALSE) -> 0 | BQ12: =VLOOKUP($AL12&BQ$4,'団体（エントリー）'!$U$7:$AC$82,データ※触らないでください!BQ$3,FALSE) -> 0 | ... CC12: =VLOOKUP($AL12&CC$4,'団体（エントリー）'!$U$7:$AC$82,データ※触らないでください!CC$3,FALSE) -> 0
B13: =学校番号 -> 0 | C13: BS-08 | D13: ='シングルス（エントリー）'!C14&" "&'シングルス（エントリー）'!D14&" "&'シングルス（エントリー）'!E14 | E13: =表示名 -> 0 | F13: ='シングルス（エントリー）'!F14 -> 0 | G13: ='シングルス（エントリー）'!G14 -> 0 | H13: =学校番号 -> 0 | I13: GS-08 | J13: ='シングルス（エントリー）'!J14&" "&'シングルス（エントリー）'!K14&" "&'シングルス（エントリー）'!L14 | K13: =表示名 -> 0 | L13: ='シングルス（エントリー）'!M14 -> 0 | M13: ='シングルス（エントリー）'!N14 -> 0 | O13: =学校番号 -> 0 | P13: =表示名 -> 0 | Q13: BD-08 | R13: ='ダブルス（エントリー）'!D21&" "&'ダブルス（エントリー）'!E21&" "&'ダブルス（エントリー）'!F21 | S13: ='ダブルス（エントリー）'!G21 -> 0 | T13: ='ダブルス（エントリー）'!H21 -> 0 | U13: ='ダブルス（エントリー）'!D22&" "&'ダブルス（エントリー）'!E22&" "&'ダブルス（エントリー）'!F22 | V13: ='ダブルス（エントリー）'!G22 -> 0 | W13: ='ダブルス（エントリー）'!H22 -> 0 | X13: =S13+V13 -> 0 | Y13: =学校番号 -> 0 | Z13: =表示名 -> 0 | AA13: BD-08 | AB13: ='ダブルス（エントリー）'!K21&" "&'ダブルス（エントリー）'!L21&" "&'ダブルス（エントリー）'!M21 | AC13: ='ダブルス（エントリー）'!N21 -> 0 | AD13: ='ダブルス（エントリー）'!O21 -> 0 | AE13: ='ダブルス（エントリー）'!K22&" "&'ダブルス（エントリー）'!L22&" "&'ダブルス（エントリー）'!M22 | AF13: ='ダブルス（エントリー）'!N22 -> 0 | AG13: ='ダブルス（エントリー）'!O22 -> 0 | AH13: =AC13+AF13 -> 0 | AJ13: =学校番号 -> 0 | AK13: =表示名 -> 0 | AL13: H | AM13: =VLOOKUP($AL13&AM$4,'団体（エントリー）'!$U$7:$AC$82,データ※触らないでください!AM$3,FALSE) | AN13: =VLOOKUP($AL13&AN$4,'団体（エントリー）'!$U$7:$AC$82,データ※触らないでください!AN$3,FALSE) | AO13: =VLOOKUP($AL13&AO$4,'団体（エントリー）'!$U$7:$AC$82,データ※触らないでください!AO$3,FALSE) | AP13: =VLOOKUP($AL13&AP$4,'団体（エントリー）'!$U$7:$AC$82,データ※触らないでください!AP$3,FALSE) | AQ13: =VLOOKUP($AL13&AQ$4,'団体（エントリー）'!$U$7:$AC$82,データ※触らないでください!AQ$3,FALSE) | AR13: =VLOOKUP($AL13&AR$4,'団体（エントリー）'!$U$7:$AC$82,データ※触らないでください!AR$3,FALSE) -> 0 | AS13: =VLOOKUP($AL13&AS$4,'団体（エントリー）'!$U$7:$AC$82,データ※触らないでください!AS$3,FALSE) -> 0 | AT13: =VLOOKUP($AL13&AT$4,'団体（エントリー）'!$U$7:$AC$82,データ※触らないでください!AT$3,FALSE) -> 0 | ... BF13: =VLOOKUP($AL13&BF$4,'団体（エントリー）'!$U$7:$AC$82,データ※触らないでください!BF$3,FALSE) -> 0 | BG13: =学校番号 -> 0 | BH13: =表示名 -> 0 | BI13: H | BJ13: =VLOOKUP($AL13&BJ$4,'団体（エントリー）'!$U$7:$AC$82,データ※触らないでください!BJ$3,FALSE) | BK13: =VLOOKUP($AL13&BK$4,'団体（エントリー）'!$U$7:$AC$82,データ※触らないでください!BK$3,FALSE) | BL13: =VLOOKUP($AL13&BL$4,'団体（エントリー）'!$U$7:$AC$82,データ※触らないでください!BL$3,FALSE) | BM13: =VLOOKUP($AL13&BM$4,'団体（エントリー）'!$U$7:$AC$82,データ※触らないでください!BM$3,FALSE) | BN13: =VLOOKUP($AL13&BN$4,'団体（エントリー）'!$U$7:$AC$82,データ※触らないでください!BN$3,FALSE) | BO13: =VLOOKUP($AL13&BO$4,'団体（エントリー）'!$U$7:$AC$82,データ※触らないでください!BO$3,FALSE) -> 0 | BP13: =VLOOKUP($AL13&BP$4,'団体（エントリー）'!$U$7:$AC$82,データ※触らないでください!BP$3,FALSE) -> 0 | BQ13: =VLOOKUP($AL13&BQ$4,'団体（エントリー）'!$U$7:$AC$82,データ※触らないでください!BQ$3,FALSE) -> 0 | ... CC13: =VLOOKUP($AL13&CC$4,'団体（エントリー）'!$U$7:$AC$82,データ※触らないでください!CC$3,FALSE) -> 0
B14: =学校番号 -> 0 | C14: BS-09 | D14: ='シングルス（エントリー）'!C15&" "&'シングルス（エントリー）'!D15&" "&'シングルス（エントリー）'!E15 | E14: =表示名 -> 0 | F14: ='シングルス（エントリー）'!F15 -> 0 | G14: ='シングルス（エントリー）'!G15 -> 0 | H14: =学校番号 -> 0 | I14: GS-09 | J14: ='シングルス（エントリー）'!J15&" "&'シングルス（エントリー）'!K15&" "&'シングルス（エントリー）'!L15 | K14: =表示名 -> 0 | L14: ='シングルス（エントリー）'!M15 -> 0 | M14: ='シングルス（エントリー）'!N15 -> 0 | O14: =学校番号 -> 0 | P14: =表示名 -> 0 | Q14: BD-09 | R14: ='ダブルス（エントリー）'!D23&" "&'ダブルス（エントリー）'!E23&" "&'ダブルス（エントリー）'!F23 | S14: ='ダブルス（エントリー）'!G23 -> 0 | T14: ='ダブルス（エントリー）'!H23 -> 0 | U14: ='ダブルス（エントリー）'!D24&" "&'ダブルス（エントリー）'!E24&" "&'ダブルス（エントリー）'!F24 | V14: ='ダブルス（エントリー）'!G24 -> 0 | W14: ='ダブルス（エントリー）'!H24 -> 0 | X14: =S14+V14 -> 0 | Y14: =学校番号 -> 0 | Z14: =表示名 -> 0 | AA14: BD-09 | AB14: ='ダブルス（エントリー）'!K23&" "&'ダブルス（エントリー）'!L23&" "&'ダブルス（エントリー）'!M23 | AC14: ='ダブルス（エントリー）'!N23 -> 0 | AD14: ='ダブルス（エントリー）'!O23 -> 0 | AE14: ='ダブルス（エントリー）'!K24&" "&'ダブルス（エントリー）'!L24&" "&'ダブルス（エントリー）'!M24 | AF14: ='ダブルス（エントリー）'!N24 -> 0 | AG14: ='ダブルス（エントリー）'!O24 -> 0 | AH14: =AC14+AF14 -> 0 | AJ14: =学校番号 -> 0 | AK14: =表示名 -> 0 | AL14: I | AM14: =VLOOKUP($AL14&AM$4,'団体（エントリー）'!$U$7:$AC$82,データ※触らないでください!AM$3,FALSE) | AN14: =VLOOKUP($AL14&AN$4,'団体（エントリー）'!$U$7:$AC$82,データ※触らないでください!AN$3,FALSE) | AO14: =VLOOKUP($AL14&AO$4,'団体（エントリー）'!$U$7:$AC$82,データ※触らないでください!AO$3,FALSE) | AP14: =VLOOKUP($AL14&AP$4,'団体（エントリー）'!$U$7:$AC$82,データ※触らないでください!AP$3,FALSE) | AQ14: =VLOOKUP($AL14&AQ$4,'団体（エントリー）'!$U$7:$AC$82,データ※触らないでください!AQ$3,FALSE) | AR14: =VLOOKUP($AL14&AR$4,'団体（エントリー）'!$U$7:$AC$82,データ※触らないでください!AR$3,FALSE) -> 0 | AS14: =VLOOKUP($AL14&AS$4,'団体（エントリー）'!$U$7:$AC$82,データ※触らないでください!AS$3,FALSE) -> 0 | AT14: =VLOOKUP($AL14&AT$4,'団体（エントリー）'!$U$7:$AC$82,データ※触らないでください!AT$3,FALSE) -> 0 | ... BF14: =VLOOKUP($AL14&BF$4,'団体（エントリー）'!$U$7:$AC$82,データ※触らないでください!BF$3,FALSE) -> 0 | BG14: =学校番号 -> 0 | BH14: =表示名 -> 0 | BI14: I | BJ14: =VLOOKUP($AL14&BJ$4,'団体（エントリー）'!$U$7:$AC$82,データ※触らないでください!BJ$3,FALSE) | BK14: =VLOOKUP($AL14&BK$4,'団体（エントリー）'!$U$7:$AC$82,データ※触らないでください!BK$3,FALSE) | BL14: =VLOOKUP($AL14&BL$4,'団体（エントリー）'!$U$7:$AC$82,データ※触らないでください!BL$3,FALSE) | BM14: =VLOOKUP($AL14&BM$4,'団体（エントリー）'!$U$7:$AC$82,データ※触らないでください!BM$3,FALSE) | BN14: =VLOOKUP($AL14&BN$4,'団体（エントリー）'!$U$7:$AC$82,データ※触らないでください!BN$3,FALSE) | BO14: =VLOOKUP($AL14&BO$4,'団体（エントリー）'!$U$7:$AC$82,データ※触らないでください!BO$3,FALSE) -> 0 | BP14: =VLOOKUP($AL14&BP$4,'団体（エントリー）'!$U$7:$AC$82,データ※触らないでください!BP$3,FALSE) -> 0 | BQ14: =VLOOKUP($AL14&BQ$4,'団体（エントリー）'!$U$7:$AC$82,データ※触らないでください!BQ$3,FALSE) -> 0 | ... CC14: =VLOOKUP($AL14&CC$4,'団体（エントリー）'!$U$7:$AC$82,データ※触らないでください!CC$3,FALSE) -> 0
B15: =学校番号 -> 0 | C15: BS-10 | D15: ='シングルス（エントリー）'!C16&" "&'シングルス（エントリー）'!D16&" "&'シングルス（エントリー）'!E16 | E15: =表示名 -> 0 | F15: ='シングルス（エントリー）'!F16 -> 0 | G15: ='シングルス（エントリー）'!G16 -> 0 | H15: =学校番号 -> 0 | I15: GS-10 | J15: ='シングルス（エントリー）'!J16&" "&'シングルス（エントリー）'!K16&" "&'シングルス（エントリー）'!L16 | K15: =表示名 -> 0 | L15: ='シングルス（エントリー）'!M16 -> 0 | M15: ='シングルス（エントリー）'!N16 -> 0 | O15: =学校番号 -> 0 | P15: =表示名 -> 0 | Q15: BD-10 | R15: ='ダブルス（エントリー）'!D25&" "&'ダブルス（エントリー）'!E25&" "&'ダブルス（エントリー）'!F25 | S15: ='ダブルス（エントリー）'!G25 -> 0 | T15: ='ダブルス（エントリー）'!H25 -> 0 | U15: ='ダブルス（エントリー）'!D26&" "&'ダブルス（エントリー）'!E26&" "&'ダブルス（エントリー）'!F26 | V15: ='ダブルス（エントリー）'!G26 -> 0 | W15: ='ダブルス（エントリー）'!H26 -> 0 | X15: =S15+V15 -> 0 | Y15: =学校番号 -> 0 | Z15: =表示名 -> 0 | AA15: BD-10 | AB15: ='ダブルス（エントリー）'!K25&" "&'ダブルス（エントリー）'!L25&" "&'ダブルス（エントリー）'!M25 | AC15: ='ダブルス（エントリー）'!N25 -> 0 | AD15: ='ダブルス（エントリー）'!O25 -> 0 | AE15: ='ダブルス（エントリー）'!K26&" "&'ダブルス（エントリー）'!L26&" "&'ダブルス（エントリー）'!M26 | AF15: ='ダブルス（エントリー）'!N26 -> 0 | AG15: ='ダブルス（エントリー）'!O26 -> 0 | AH15: =AC15+AF15 -> 0 | AJ15: =学校番号 -> 0 | AK15: =表示名 -> 0 | AL15: J | AM15: =VLOOKUP($AL15&AM$4,'団体（エントリー）'!$U$7:$AC$82,データ※触らないでください!AM$3,FALSE) | AN15: =VLOOKUP($AL15&AN$4,'団体（エントリー）'!$U$7:$AC$82,データ※触らないでください!AN$3,FALSE) | AO15: =VLOOKUP($AL15&AO$4,'団体（エントリー）'!$U$7:$AC$82,データ※触らないでください!AO$3,FALSE) | AP15: =VLOOKUP($AL15&AP$4,'団体（エントリー）'!$U$7:$AC$82,データ※触らないでください!AP$3,FALSE) | AQ15: =VLOOKUP($AL15&AQ$4,'団体（エントリー）'!$U$7:$AC$82,データ※触らないでください!AQ$3,FALSE) | AR15: =VLOOKUP($AL15&AR$4,'団体（エントリー）'!$U$7:$AC$82,データ※触らないでください!AR$3,FALSE) -> 0 | AS15: =VLOOKUP($AL15&AS$4,'団体（エントリー）'!$U$7:$AC$82,データ※触らないでください!AS$3,FALSE) -> 0 | AT15: =VLOOKUP($AL15&AT$4,'団体（エントリー）'!$U$7:$AC$82,データ※触らないでください!AT$3,FALSE) -> 0 | ... BF15: =VLOOKUP($AL15&BF$4,'団体（エントリー）'!$U$7:$AC$82,データ※触らないでください!BF$3,FALSE) -> 0 | BG15: =学校番号 -> 0 | BH15: =表示名 -> 0 | BI15: J | BJ15: =VLOOKUP($AL15&BJ$4,'団体（エントリー）'!$U$7:$AC$82,データ※触らないでください!BJ$3,FALSE) | BK15: =VLOOKUP($AL15&BK$4,'団体（エントリー）'!$U$7:$AC$82,データ※触らないでください!BK$3,FALSE) | BL15: =VLOOKUP($AL15&BL$4,'団体（エントリー）'!$U$7:$AC$82,データ※触らないでください!BL$3,FALSE) | BM15: =VLOOKUP($AL15&BM$4,'団体（エントリー）'!$U$7:$AC$82,データ※触らないでください!BM$3,FALSE) | BN15: =VLOOKUP($AL15&BN$4,'団体（エントリー）'!$U$7:$AC$82,データ※触らないでください!BN$3,FALSE) | BO15: =VLOOKUP($AL15&BO$4,'団体（エントリー）'!$U$7:$AC$82,データ※触らないでください!BO$3,FALSE) -> 0 | BP15: =VLOOKUP($AL15&BP$4,'団体（エントリー）'!$U$7:$AC$82,データ※触らないでください!BP$3,FALSE) -> 0 | BQ15: =VLOOKUP($AL15&BQ$4,'団体（エントリー）'!$U$7:$AC$82,データ※触らないでください!BQ$3,FALSE) -> 0 | ... CC15: =VLOOKUP($AL15&CC$4,'団体（エントリー）'!$U$7:$AC$82,データ※触らないでください!CC$3,FALSE) -> 0
B16: =学校番号 -> 0 | C16: BS-11 | D16: ='シングルス（エントリー）'!C17&" "&'シングルス（エントリー）'!D17&" "&'シングルス（エントリー）'!E17 | E16: =表示名 -> 0 | F16: ='シングルス（エントリー）'!F17 -> 0 | G16: ='シングルス（エントリー）'!G17 -> 0 | H16: =学校番号 -> 0 | I16: GS-11 | J16: ='シングルス（エントリー）'!J17&" "&'シングルス（エントリー）'!K17&" "&'シングルス（エントリー）'!L17 | K16: =表示名 -> 0 | L16: ='シングルス（エントリー）'!M17 -> 0 | M16: ='シングルス（エントリー）'!N17 -> 0 | O16: =学校番号 -> 0 | P16: =表示名 -> 0 | Q16: BD-11 | R16: ='ダブルス（エントリー）'!D27&" "&'ダブルス（エントリー）'!E27&" "&'ダブルス（エントリー）'!F27 | S16: ='ダブルス（エントリー）'!G27 -> 0 | T16: ='ダブルス（エントリー）'!H27 -> 0 | U16: ='ダブルス（エントリー）'!D28&" "&'ダブルス（エントリー）'!E28&" "&'ダブルス（エントリー）'!F28 | V16: ='ダブルス（エントリー）'!G28 -> 0 | W16: ='ダブルス（エントリー）'!H28 -> 0 | X16: =S16+V16 -> 0 | Y16: =学校番号 -> 0 | Z16: =表示名 -> 0 | AA16: BD-11 | AB16: ='ダブルス（エントリー）'!K27&" "&'ダブルス（エントリー）'!L27&" "&'ダブルス（エントリー）'!M27 | AC16: ='ダブルス（エントリー）'!N27 -> 0 | AD16: ='ダブルス（エントリー）'!O27 -> 0 | AE16: ='ダブルス（エントリー）'!K28&" "&'ダブルス（エントリー）'!L28&" "&'ダブルス（エントリー）'!M28 | AF16: ='ダブルス（エントリー）'!N28 -> 0 | AG16: ='ダブルス（エントリー）'!O28 -> 0 | AH16: =AC16+AF16 -> 0 | AJ16: =学校番号 -> 0 | AK16: =表示名 -> 0 | AL16: K | AM16: =VLOOKUP($AL16&AM$4,'団体（エントリー）'!$U$7:$AC$82,データ※触らないでください!AM$3,FALSE) | AN16: =VLOOKUP($AL16&AN$4,'団体（エントリー）'!$U$7:$AC$82,データ※触らないでください!AN$3,FALSE) | AO16: =VLOOKUP($AL16&AO$4,'団体（エントリー）'!$U$7:$AC$82,データ※触らないでください!AO$3,FALSE) | AP16: =VLOOKUP($AL16&AP$4,'団体（エントリー）'!$U$7:$AC$82,データ※触らないでください!AP$3,FALSE) | AQ16: =VLOOKUP($AL16&AQ$4,'団体（エントリー）'!$U$7:$AC$82,データ※触らないでください!AQ$3,FALSE) | AR16: =VLOOKUP($AL16&AR$4,'団体（エントリー）'!$U$7:$AC$82,データ※触らないでください!AR$3,FALSE) -> 0 | AS16: =VLOOKUP($AL16&AS$4,'団体（エントリー）'!$U$7:$AC$82,データ※触らないでください!AS$3,FALSE) -> 0 | AT16: =VLOOKUP($AL16&AT$4,'団体（エントリー）'!$U$7:$AC$82,データ※触らないでください!AT$3,FALSE) -> 0 | ... BF16: =VLOOKUP($AL16&BF$4,'団体（エントリー）'!$U$7:$AC$82,データ※触らないでください!BF$3,FALSE) -> 0 | BG16: =学校番号 -> 0 | BH16: =表示名 -> 0 | BI16: K | BJ16: =VLOOKUP($AL16&BJ$4,'団体（エントリー）'!$U$7:$AC$82,データ※触らないでください!BJ$3,FALSE) | BK16: =VLOOKUP($AL16&BK$4,'団体（エントリー）'!$U$7:$AC$82,データ※触らないでください!BK$3,FALSE) | BL16: =VLOOKUP($AL16&BL$4,'団体（エントリー）'!$U$7:$AC$82,データ※触らないでください!BL$3,FALSE) | BM16: =VLOOKUP($AL16&BM$4,'団体（エントリー）'!$U$7:$AC$82,データ※触らないでください!BM$3,FALSE) | BN16: =VLOOKUP($AL16&BN$4,'団体（エントリー）'!$U$7:$AC$82,データ※触らないでください!BN$3,FALSE) | BO16: =VLOOKUP($AL16&BO$4,'団体（エントリー）'!$U$7:$AC$82,データ※触らないでください!BO$3,FALSE) -> 0 | BP16: =VLOOKUP($AL16&BP$4,'団体（エントリー）'!$U$7:$AC$82,データ※触らないでください!BP$3,FALSE) -> 0 | BQ16: =VLOOKUP($AL16&BQ$4,'団体（エントリー）'!$U$7:$AC$82,データ※触らないでください!BQ$3,FALSE) -> 0 | ... CC16: =VLOOKUP($AL16&CC$4,'団体（エントリー）'!$U$7:$AC$82,データ※触らないでください!CC$3,FALSE) -> 0
B17: =学校番号 -> 0 | C17: BS-12 | D17: ='シングルス（エントリー）'!C18&" "&'シングルス（エントリー）'!D18&" "&'シングルス（エントリー）'!E18 | E17: =表示名 -> 0 | F17: ='シングルス（エントリー）'!F18 -> 0 | G17: ='シングルス（エントリー）'!G18 -> 0 | H17: =学校番号 -> 0 | I17: GS-12 | J17: ='シングルス（エントリー）'!J18&" "&'シングルス（エントリー）'!K18&" "&'シングルス（エントリー）'!L18 | K17: =表示名 -> 0 | L17: ='シングルス（エントリー）'!M18 -> 0 | M17: ='シングルス（エントリー）'!N18 -> 0 | O17: =学校番号 -> 0 | P17: =表示名 -> 0 | Q17: BD-12 | R17: ='ダブルス（エントリー）'!D29&" "&'ダブルス（エントリー）'!E29&" "&'ダブルス（エントリー）'!F29 | S17: ='ダブルス（エントリー）'!G29 -> 0 | T17: ='ダブルス（エントリー）'!H29 -> 0 | U17: ='ダブルス（エントリー）'!D30&" "&'ダブルス（エントリー）'!E30&" "&'ダブルス（エントリー）'!F30 | V17: ='ダブルス（エントリー）'!G30 -> 0 | W17: ='ダブルス（エントリー）'!H30 -> 0 | X17: =S17+V17 -> 0 | Y17: =学校番号 -> 0 | Z17: =表示名 -> 0 | AA17: BD-12 | AB17: ='ダブルス（エントリー）'!K29&" "&'ダブルス（エントリー）'!L29&" "&'ダブルス（エントリー）'!M29 | AC17: ='ダブルス（エントリー）'!N29 -> 0 | AD17: ='ダブルス（エントリー）'!O29 -> 0 | AE17: ='ダブルス（エントリー）'!K30&" "&'ダブルス（エントリー）'!L30&" "&'ダブルス（エントリー）'!M30 | AF17: ='ダブルス（エントリー）'!N30 -> 0 | AG17: ='ダブルス（エントリー）'!O30 -> 0 | AH17: =AC17+AF17 -> 0 | AJ17: =学校番号 -> 0 | AK17: =表示名 -> 0 | AL17: L | AM17: =VLOOKUP($AL17&AM$4,'団体（エントリー）'!$U$7:$AC$82,データ※触らないでください!AM$3,FALSE) | AN17: =VLOOKUP($AL17&AN$4,'団体（エントリー）'!$U$7:$AC$82,データ※触らないでください!AN$3,FALSE) | AO17: =VLOOKUP($AL17&AO$4,'団体（エントリー）'!$U$7:$AC$82,データ※触らないでください!AO$3,FALSE) | AP17: =VLOOKUP($AL17&AP$4,'団体（エントリー）'!$U$7:$AC$82,データ※触らないでください!AP$3,FALSE) | AQ17: =VLOOKUP($AL17&AQ$4,'団体（エントリー）'!$U$7:$AC$82,データ※触らないでください!AQ$3,FALSE) | AR17: =VLOOKUP($AL17&AR$4,'団体（エントリー）'!$U$7:$AC$82,データ※触らないでください!AR$3,FALSE) -> 0 | AS17: =VLOOKUP($AL17&AS$4,'団体（エントリー）'!$U$7:$AC$82,データ※触らないでください!AS$3,FALSE) -> 0 | AT17: =VLOOKUP($AL17&AT$4,'団体（エントリー）'!$U$7:$AC$82,データ※触らないでください!AT$3,FALSE) -> 0 | ... BF17: =VLOOKUP($AL17&BF$4,'団体（エントリー）'!$U$7:$AC$82,データ※触らないでください!BF$3,FALSE) -> 0 | BG17: =学校番号 -> 0 | BH17: =表示名 -> 0 | BI17: L | BJ17: =VLOOKUP($AL17&BJ$4,'団体（エントリー）'!$U$7:$AC$82,データ※触らないでください!BJ$3,FALSE) | BK17: =VLOOKUP($AL17&BK$4,'団体（エントリー）'!$U$7:$AC$82,データ※触らないでください!BK$3,FALSE) | BL17: =VLOOKUP($AL17&BL$4,'団体（エントリー）'!$U$7:$AC$82,データ※触らないでください!BL$3,FALSE) | BM17: =VLOOKUP($AL17&BM$4,'団体（エントリー）'!$U$7:$AC$82,データ※触らないでください!BM$3,FALSE) | BN17: =VLOOKUP($AL17&BN$4,'団体（エントリー）'!$U$7:$AC$82,データ※触らないでください!BN$3,FALSE) | BO17: =VLOOKUP($AL17&BO$4,'団体（エントリー）'!$U$7:$AC$82,データ※触らないでください!BO$3,FALSE) -> 0 | BP17: =VLOOKUP($AL17&BP$4,'団体（エントリー）'!$U$7:$AC$82,データ※触らないでください!BP$3,FALSE) -> 0 | BQ17: =VLOOKUP($AL17&BQ$4,'団体（エントリー）'!$U$7:$AC$82,データ※触らないでください!BQ$3,FALSE) -> 0 | ... CC17: =VLOOKUP($AL17&CC$4,'団体（エントリー）'!$U$7:$AC$82,データ※触らないでください!CC$3,FALSE) -> 0
B18: =学校番号 -> 0 | C18: BS-13 | D18: ='シングルス（エントリー）'!C19&" "&'シングルス（エントリー）'!D19&" "&'シングルス（エントリー）'!E19 | E18: =表示名 -> 0 | F18: ='シングルス（エントリー）'!F19 -> 0 | G18: ='シングルス（エントリー）'!G19 -> 0 | H18: =学校番号 -> 0 | I18: GS-13 | J18: ='シングルス（エントリー）'!J19&" "&'シングルス（エントリー）'!K19&" "&'シングルス（エントリー）'!L19 | K18: =表示名 -> 0 | L18: ='シングルス（エントリー）'!M19 -> 0 | M18: ='シングルス（エントリー）'!N19 -> 0 | O18: =学校番号 -> 0 | P18: =表示名 -> 0 | Q18: BD-13 | R18: ='ダブルス（エントリー）'!D31&" "&'ダブルス（エントリー）'!E31&" "&'ダブルス（エントリー）'!F31 | S18: ='ダブルス（エントリー）'!G31 -> 0 | T18: ='ダブルス（エントリー）'!H31 -> 0 | U18: ='ダブルス（エントリー）'!D32&" "&'ダブルス（エントリー）'!E32&" "&'ダブルス（エントリー）'!F32 | V18: ='ダブルス（エントリー）'!G32 -> 0 | W18: ='ダブルス（エントリー）'!H32 -> 0 | X18: =S18+V18 -> 0 | Y18: =学校番号 -> 0 | Z18: =表示名 -> 0 | AA18: BD-13 | AB18: ='ダブルス（エントリー）'!K31&" "&'ダブルス（エントリー）'!L31&" "&'ダブルス（エントリー）'!M31 | AC18: ='ダブルス（エントリー）'!N31 -> 0 | AD18: ='ダブルス（エントリー）'!O31 -> 0 | AE18: ='ダブルス（エントリー）'!K32&" "&'ダブルス（エントリー）'!L32&" "&'ダブルス（エントリー）'!M32 | AF18: ='ダブルス（エントリー）'!N32 -> 0 | AG18: ='ダブルス（エントリー）'!O32 -> 0 | AH18: =AC18+AF18 -> 0 | AJ18: =学校番号 -> 0 | AK18: =表示名 -> 0 | AL18: M | AM18: =VLOOKUP($AL18&AM$4,'団体（エントリー）'!$U$7:$AC$82,データ※触らないでください!AM$3,FALSE) | AN18: =VLOOKUP($AL18&AN$4,'団体（エントリー）'!$U$7:$AC$82,データ※触らないでください!AN$3,FALSE) | AO18: =VLOOKUP($AL18&AO$4,'団体（エントリー）'!$U$7:$AC$82,データ※触らないでください!AO$3,FALSE) | AP18: =VLOOKUP($AL18&AP$4,'団体（エントリー）'!$U$7:$AC$82,データ※触らないでください!AP$3,FALSE) | AQ18: =VLOOKUP($AL18&AQ$4,'団体（エントリー）'!$U$7:$AC$82,データ※触らないでください!AQ$3,FALSE) | AR18: =VLOOKUP($AL18&AR$4,'団体（エントリー）'!$U$7:$AC$82,データ※触らないでください!AR$3,FALSE) -> 0 | AS18: =VLOOKUP($AL18&AS$4,'団体（エントリー）'!$U$7:$AC$82,データ※触らないでください!AS$3,FALSE) -> 0 | AT18: =VLOOKUP($AL18&AT$4,'団体（エントリー）'!$U$7:$AC$82,データ※触らないでください!AT$3,FALSE) -> 0 | ... BF18: =VLOOKUP($AL18&BF$4,'団体（エントリー）'!$U$7:$AC$82,データ※触らないでください!BF$3,FALSE) -> 0 | BG18: =学校番号 -> 0 | BH18: =表示名 -> 0 | BI18: M | BJ18: =VLOOKUP($AL18&BJ$4,'団体（エントリー）'!$U$7:$AC$82,データ※触らないでください!BJ$3,FALSE) | BK18: =VLOOKUP($AL18&BK$4,'団体（エントリー）'!$U$7:$AC$82,データ※触らないでください!BK$3,FALSE) | BL18: =VLOOKUP($AL18&BL$4,'団体（エントリー）'!$U$7:$AC$82,データ※触らないでください!BL$3,FALSE) | BM18: =VLOOKUP($AL18&BM$4,'団体（エントリー）'!$U$7:$AC$82,データ※触らないでください!BM$3,FALSE) | BN18: =VLOOKUP($AL18&BN$4,'団体（エントリー）'!$U$7:$AC$82,データ※触らないでください!BN$3,FALSE) | BO18: =VLOOKUP($AL18&BO$4,'団体（エントリー）'!$U$7:$AC$82,データ※触らないでください!BO$3,FALSE) -> 0 | BP18: =VLOOKUP($AL18&BP$4,'団体（エントリー）'!$U$7:$AC$82,データ※触らないでください!BP$3,FALSE) -> 0 | BQ18: =VLOOKUP($AL18&BQ$4,'団体（エントリー）'!$U$7:$AC$82,データ※触らないでください!BQ$3,FALSE) -> 0 | ... CC18: =VLOOKUP($AL18&CC$4,'団体（エントリー）'!$U$7:$AC$82,データ※触らないでください!CC$3,FALSE) -> 0
B19: =学校番号 -> 0 | C19: BS-14 | D19: ='シングルス（エントリー）'!C20&" "&'シングルス（エントリー）'!D20&" "&'シングルス（エントリー）'!E20 | E19: =表示名 -> 0 | F19: ='シングルス（エントリー）'!F20 -> 0 | G19: ='シングルス（エントリー）'!G20 -> 0 | H19: =学校番号 -> 0 | I19: GS-14 | J19: ='シングルス（エントリー）'!J20&" "&'シングルス（エントリー）'!K20&" "&'シングルス（エントリー）'!L20 | K19: =表示名 -> 0 | L19: ='シングルス（エントリー）'!M20 -> 0 | M19: ='シングルス（エントリー）'!N20 -> 0 | O19: =学校番号 -> 0 | P19: =表示名 -> 0 | Q19: BD-14 | R19: ='ダブルス（エントリー）'!D33&" "&'ダブルス（エントリー）'!E33&" "&'ダブルス（エントリー）'!F33 | S19: ='ダブルス（エントリー）'!G33 -> 0 | T19: ='ダブルス（エントリー）'!H33 -> 0 | U19: ='ダブルス（エントリー）'!D34&" "&'ダブルス（エントリー）'!E34&" "&'ダブルス（エントリー）'!F34 | V19: ='ダブルス（エントリー）'!G34 -> 0 | W19: ='ダブルス（エントリー）'!H34 -> 0 | X19: =S19+V19 -> 0 | Y19: =学校番号 -> 0 | Z19: =表示名 -> 0 | AA19: BD-14 | AB19: ='ダブルス（エントリー）'!K33&" "&'ダブルス（エントリー）'!L33&" "&'ダブルス（エントリー）'!M33 | AC19: ='ダブルス（エントリー）'!N33 -> 0 | AD19: ='ダブルス（エントリー）'!O33 -> 0 | AE19: ='ダブルス（エントリー）'!K34&" "&'ダブルス（エントリー）'!L34&" "&'ダブルス（エントリー）'!M34 | AF19: ='ダブルス（エントリー）'!N34 -> 0 | AG19: ='ダブルス（エントリー）'!O34 -> 0 | AH19: =AC19+AF19 -> 0 | AJ19: =学校番号 -> 0 | AK19: =表示名 -> 0 | AL19: N | AM19: =VLOOKUP($AL19&AM$4,'団体（エントリー）'!$U$7:$AC$82,データ※触らないでください!AM$3,FALSE) | AN19: =VLOOKUP($AL19&AN$4,'団体（エントリー）'!$U$7:$AC$82,データ※触らないでください!AN$3,FALSE) | AO19: =VLOOKUP($AL19&AO$4,'団体（エントリー）'!$U$7:$AC$82,データ※触らないでください!AO$3,FALSE) | AP19: =VLOOKUP($AL19&AP$4,'団体（エントリー）'!$U$7:$AC$82,データ※触らないでください!AP$3,FALSE) | AQ19: =VLOOKUP($AL19&AQ$4,'団体（エントリー）'!$U$7:$AC$82,データ※触らないでください!AQ$3,FALSE) | AR19: =VLOOKUP($AL19&AR$4,'団体（エントリー）'!$U$7:$AC$82,データ※触らないでください!AR$3,FALSE) -> 0 | AS19: =VLOOKUP($AL19&AS$4,'団体（エントリー）'!$U$7:$AC$82,データ※触らないでください!AS$3,FALSE) -> 0 | AT19: =VLOOKUP($AL19&AT$4,'団体（エントリー）'!$U$7:$AC$82,データ※触らないでください!AT$3,FALSE) -> 0 | ... BF19: =VLOOKUP($AL19&BF$4,'団体（エントリー）'!$U$7:$AC$82,データ※触らないでください!BF$3,FALSE) -> 0 | BG19: =学校番号 -> 0 | BH19: =表示名 -> 0 | BI19: N | BJ19: =VLOOKUP($AL19&BJ$4,'団体（エントリー）'!$U$7:$AC$82,データ※触らないでください!BJ$3,FALSE) | BK19: =VLOOKUP($AL19&BK$4,'団体（エントリー）'!$U$7:$AC$82,データ※触らないでください!BK$3,FALSE) | BL19: =VLOOKUP($AL19&BL$4,'団体（エントリー）'!$U$7:$AC$82,データ※触らないでください!BL$3,FALSE) | BM19: =VLOOKUP($AL19&BM$4,'団体（エントリー）'!$U$7:$AC$82,データ※触らないでください!BM$3,FALSE) | BN19: =VLOOKUP($AL19&BN$4,'団体（エントリー）'!$U$7:$AC$82,データ※触らないでください!BN$3,FALSE) | BO19: =VLOOKUP($AL19&BO$4,'団体（エントリー）'!$U$7:$AC$82,データ※触らないでください!BO$3,FALSE) -> 0 | BP19: =VLOOKUP($AL19&BP$4,'団体（エントリー）'!$U$7:$AC$82,データ※触らないでください!BP$3,FALSE) -> 0 | BQ19: =VLOOKUP($AL19&BQ$4,'団体（エントリー）'!$U$7:$AC$82,データ※触らないでください!BQ$3,FALSE) -> 0 | ... CC19: =VLOOKUP($AL19&CC$4,'団体（エントリー）'!$U$7:$AC$82,データ※触らないでください!CC$3,FALSE) -> 0
B20: =学校番号 -> 0 | C20: BS-15 | D20: ='シングルス（エントリー）'!C21&" "&'シングルス（エントリー）'!D21&" "&'シングルス（エントリー）'!E21 | E20: =表示名 -> 0 | F20: ='シングルス（エントリー）'!F21 -> 0 | G20: ='シングルス（エントリー）'!G21 -> 0 | H20: =学校番号 -> 0 | I20: GS-15 | J20: ='シングルス（エントリー）'!J21&" "&'シングルス（エントリー）'!K21&" "&'シングルス（エントリー）'!L21 | K20: =表示名 -> 0 | L20: ='シングルス（エントリー）'!M21 -> 0 | M20: ='シングルス（エントリー）'!N21 -> 0 | O20: =学校番号 -> 0 | P20: =表示名 -> 0 | Q20: BD-15 | R20: ='ダブルス（エントリー）'!D35&" "&'ダブルス（エントリー）'!E35&" "&'ダブルス（エントリー）'!F35 | S20: ='ダブルス（エントリー）'!G35 -> 0 | T20: ='ダブルス（エントリー）'!H35 -> 0 | U20: ='ダブルス（エントリー）'!D36&" "&'ダブルス（エントリー）'!E36&" "&'ダブルス（エントリー）'!F36 | V20: ='ダブルス（エントリー）'!G36 -> 0 | W20: ='ダブルス（エントリー）'!H36 -> 0 | X20: =S20+V20 -> 0 | Y20: =学校番号 -> 0 | Z20: =表示名 -> 0 | AA20: BD-15 | AB20: ='ダブルス（エントリー）'!K35&" "&'ダブルス（エントリー）'!L35&" "&'ダブルス（エントリー）'!M35 | AC20: ='ダブルス（エントリー）'!N35 -> 0 | AD20: ='ダブルス（エントリー）'!O35 -> 0 | AE20: ='ダブルス（エントリー）'!K36&" "&'ダブルス（エントリー）'!L36&" "&'ダブルス（エントリー）'!M36 | AF20: ='ダブルス（エントリー）'!N36 -> 0 | AG20: ='ダブルス（エントリー）'!O36 -> 0 | AH20: =AC20+AF20 -> 0 | AJ20: =学校番号 -> 0 | AK20: =表示名 -> 0 | AL20: O | AM20: =VLOOKUP($AL20&AM$4,'団体（エントリー）'!$U$7:$AC$82,データ※触らないでください!AM$3,FALSE) | AN20: =VLOOKUP($AL20&AN$4,'団体（エントリー）'!$U$7:$AC$82,データ※触らないでください!AN$3,FALSE) | AO20: =VLOOKUP($AL20&AO$4,'団体（エントリー）'!$U$7:$AC$82,データ※触らないでください!AO$3,FALSE) | AP20: =VLOOKUP($AL20&AP$4,'団体（エントリー）'!$U$7:$AC$82,データ※触らないでください!AP$3,FALSE) | AQ20: =VLOOKUP($AL20&AQ$4,'団体（エントリー）'!$U$7:$AC$82,データ※触らないでください!AQ$3,FALSE) | AR20: =VLOOKUP($AL20&AR$4,'団体（エントリー）'!$U$7:$AC$82,データ※触らないでください!AR$3,FALSE) -> 0 | AS20: =VLOOKUP($AL20&AS$4,'団体（エントリー）'!$U$7:$AC$82,データ※触らないでください!AS$3,FALSE) -> 0 | AT20: =VLOOKUP($AL20&AT$4,'団体（エントリー）'!$U$7:$AC$82,データ※触らないでください!AT$3,FALSE) -> 0 | ... BF20: =VLOOKUP($AL20&BF$4,'団体（エントリー）'!$U$7:$AC$82,データ※触らないでください!BF$3,FALSE) -> 0 | BG20: =学校番号 -> 0 | BH20: =表示名 -> 0 | BI20: O | BJ20: =VLOOKUP($AL20&BJ$4,'団体（エントリー）'!$U$7:$AC$82,データ※触らないでください!BJ$3,FALSE) | BK20: =VLOOKUP($AL20&BK$4,'団体（エントリー）'!$U$7:$AC$82,データ※触らないでください!BK$3,FALSE) | BL20: =VLOOKUP($AL20&BL$4,'団体（エントリー）'!$U$7:$AC$82,データ※触らないでください!BL$3,FALSE) | BM20: =VLOOKUP($AL20&BM$4,'団体（エントリー）'!$U$7:$AC$82,データ※触らないでください!BM$3,FALSE) | BN20: =VLOOKUP($AL20&BN$4,'団体（エントリー）'!$U$7:$AC$82,データ※触らないでください!BN$3,FALSE) | BO20: =VLOOKUP($AL20&BO$4,'団体（エントリー）'!$U$7:$AC$82,データ※触らないでください!BO$3,FALSE) -> 0 | BP20: =VLOOKUP($AL20&BP$4,'団体（エントリー）'!$U$7:$AC$82,データ※触らないでください!BP$3,FALSE) -> 0 | BQ20: =VLOOKUP($AL20&BQ$4,'団体（エントリー）'!$U$7:$AC$82,データ※触らないでください!BQ$3,FALSE) -> 0 | ... CC20: =VLOOKUP($AL20&CC$4,'団体（エントリー）'!$U$7:$AC$82,データ※触らないでください!CC$3,FALSE) -> 0
B21: =学校番号 -> 0 | C21: BS-16 | D21: ='シングルス（エントリー）'!C22&" "&'シングルス（エントリー）'!D22&" "&'シングルス（エントリー）'!E22 | E21: =表示名 -> 0 | F21: ='シングルス（エントリー）'!F22 -> 0 | G21: ='シングルス（エントリー）'!G22 -> 0 | H21: =学校番号 -> 0 | I21: GS-16 | J21: ='シングルス（エントリー）'!J22&" "&'シングルス（エントリー）'!K22&" "&'シングルス（エントリー）'!L22 | K21: =表示名 -> 0 | L21: ='シングルス（エントリー）'!M22 -> 0 | M21: ='シングルス（エントリー）'!N22 -> 0 | O21: =学校番号 -> 0 | P21: =表示名 -> 0 | Q21: BD-16 | R21: ='ダブルス（エントリー）'!D37&" "&'ダブルス（エントリー）'!E37&" "&'ダブルス（エントリー）'!F37 | S21: ='ダブルス（エントリー）'!G37 -> 0 | T21: ='ダブルス（エントリー）'!H37 -> 0 | U21: ='ダブルス（エントリー）'!D38&" "&'ダブルス（エントリー）'!E38&" "&'ダブルス（エントリー）'!F38 | V21: ='ダブルス（エントリー）'!G38 -> 0 | W21: ='ダブルス（エントリー）'!H38 -> 0 | X21: =S21+V21 -> 0 | Y21: =学校番号 -> 0 | Z21: =表示名 -> 0 | AA21: BD-16 | AB21: ='ダブルス（エントリー）'!K37&" "&'ダブルス（エントリー）'!L37&" "&'ダブルス（エントリー）'!M37 | AC21: ='ダブルス（エントリー）'!N37 -> 0 | AD21: ='ダブルス（エントリー）'!O37 -> 0 | AE21: ='ダブルス（エントリー）'!K38&" "&'ダブルス（エントリー）'!L38&" "&'ダブルス（エントリー）'!M38 | AF21: ='ダブルス（エントリー）'!N38 -> 0 | AG21: ='ダブルス（エントリー）'!O38 -> 0 | AH21: =AC21+AF21 -> 0
B22: =学校番号 -> 0 | C22: BS-17 | D22: ='シングルス（エントリー）'!C23&" "&'シングルス（エントリー）'!D23&" "&'シングルス（エントリー）'!E23 | E22: =表示名 -> 0 | F22: ='シングルス（エントリー）'!F23 -> 0 | G22: ='シングルス（エントリー）'!G23 -> 0 | H22: =学校番号 -> 0 | I22: GS-17 | J22: ='シングルス（エントリー）'!J23&" "&'シングルス（エントリー）'!K23&" "&'シングルス（エントリー）'!L23 | K22: =表示名 -> 0 | L22: ='シングルス（エントリー）'!M23 -> 0 | M22: ='シングルス（エントリー）'!N23 -> 0 | O22: =学校番号 -> 0 | P22: =表示名 -> 0 | Q22: BD-17 | R22: ='ダブルス（エントリー）'!D39&" "&'ダブルス（エントリー）'!E39&" "&'ダブルス（エントリー）'!F39 | S22: ='ダブルス（エントリー）'!G39 -> 0 | T22: ='ダブルス（エントリー）'!H39 -> 0 | U22: ='ダブルス（エントリー）'!D40&" "&'ダブルス（エントリー）'!E40&" "&'ダブルス（エントリー）'!F40 | V22: ='ダブルス（エントリー）'!G40 -> 0 | W22: ='ダブルス（エントリー）'!H40 -> 0 | X22: =S22+V22 -> 0 | Y22: =学校番号 -> 0 | Z22: =表示名 -> 0 | AA22: BD-17 | AB22: ='ダブルス（エントリー）'!K39&" "&'ダブルス（エントリー）'!L39&" "&'ダブルス（エントリー）'!M39 | AC22: ='ダブルス（エントリー）'!N39 -> 0 | AD22: ='ダブルス（エントリー）'!O39 -> 0 | AE22: ='ダブルス（エントリー）'!K40&" "&'ダブルス（エントリー）'!L40&" "&'ダブルス（エントリー）'!M40 | AF22: ='ダブルス（エントリー）'!N40 -> 0 | AG22: ='ダブルス（エントリー）'!O40 -> 0 | AH22: =AC22+AF22 -> 0
B23: =学校番号 -> 0 | C23: BS-18 | D23: ='シングルス（エントリー）'!C24&" "&'シングルス（エントリー）'!D24&" "&'シングルス（エントリー）'!E24 | E23: =表示名 -> 0 | F23: ='シングルス（エントリー）'!F24 -> 0 | G23: ='シングルス（エントリー）'!G24 -> 0 | H23: =学校番号 -> 0 | I23: GS-18 | J23: ='シングルス（エントリー）'!J24&" "&'シングルス（エントリー）'!K24&" "&'シングルス（エントリー）'!L24 | K23: =表示名 -> 0 | L23: ='シングルス（エントリー）'!M24 -> 0 | M23: ='シングルス（エントリー）'!N24 -> 0 | O23: =学校番号 -> 0 | P23: =表示名 -> 0 | Q23: BD-18 | R23: ='ダブルス（エントリー）'!D41&" "&'ダブルス（エントリー）'!E41&" "&'ダブルス（エントリー）'!F41 | S23: ='ダブルス（エントリー）'!G41 -> 0 | T23: ='ダブルス（エントリー）'!H41 -> 0 | U23: ='ダブルス（エントリー）'!D42&" "&'ダブルス（エントリー）'!E42&" "&'ダブルス（エントリー）'!F42 | V23: ='ダブルス（エントリー）'!G42 -> 0 | W23: ='ダブルス（エントリー）'!H42 -> 0 | X23: =S23+V23 -> 0 | Y23: =学校番号 -> 0 | Z23: =表示名 -> 0 | AA23: BD-18 | AB23: ='ダブルス（エントリー）'!K41&" "&'ダブルス（エントリー）'!L41&" "&'ダブルス（エントリー）'!M41 | AC23: ='ダブルス（エントリー）'!N41 -> 0 | AD23: ='ダブルス（エントリー）'!O41 -> 0 | AE23: ='ダブルス（エントリー）'!K42&" "&'ダブルス（エントリー）'!L42&" "&'ダブルス（エントリー）'!M42 | AF23: ='ダブルス（エントリー）'!N42 -> 0 | AG23: ='ダブルス（エントリー）'!O42 -> 0 | AH23: =AC23+AF23 -> 0
B24: =学校番号 -> 0 | C24: BS-19 | D24: ='シングルス（エントリー）'!C25&" "&'シングルス（エントリー）'!D25&" "&'シングルス（エントリー）'!E25 | E24: =表示名 -> 0 | F24: ='シングルス（エントリー）'!F25 -> 0 | G24: ='シングルス（エントリー）'!G25 -> 0 | H24: =学校番号 -> 0 | I24: GS-19 | J24: ='シングルス（エントリー）'!J25&" "&'シングルス（エントリー）'!K25&" "&'シングルス（エントリー）'!L25 | K24: =表示名 -> 0 | L24: ='シングルス（エントリー）'!M25 -> 0 | M24: ='シングルス（エントリー）'!N25 -> 0 | O24: =学校番号 -> 0 | P24: =表示名 -> 0 | Q24: BD-19 | R24: ='ダブルス（エントリー）'!D43&" "&'ダブルス（エントリー）'!E43&" "&'ダブルス（エントリー）'!F43 | S24: ='ダブルス（エントリー）'!G43 -> 0 | T24: ='ダブルス（エントリー）'!H43 -> 0 | U24: ='ダブルス（エントリー）'!D44&" "&'ダブルス（エントリー）'!E44&" "&'ダブルス（エントリー）'!F44 | V24: ='ダブルス（エントリー）'!G44 -> 0 | W24: ='ダブルス（エントリー）'!H44 -> 0 | X24: =S24+V24 -> 0 | Y24: =学校番号 -> 0 | Z24: =表示名 -> 0 | AA24: BD-19 | AB24: ='ダブルス（エントリー）'!K43&" "&'ダブルス（エントリー）'!L43&" "&'ダブルス（エントリー）'!M43 | AC24: ='ダブルス（エントリー）'!N43 -> 0 | AD24: ='ダブルス（エントリー）'!O43 -> 0 | AE24: ='ダブルス（エントリー）'!K44&" "&'ダブルス（エントリー）'!L44&" "&'ダブルス（エントリー）'!M44 | AF24: ='ダブルス（エントリー）'!N44 -> 0 | AG24: ='ダブルス（エントリー）'!O44 -> 0 | AH24: =AC24+AF24 -> 0
B25: =学校番号 -> 0 | C25: BS-20 | D25: ='シングルス（エントリー）'!C26&" "&'シングルス（エントリー）'!D26&" "&'シングルス（エントリー）'!E26 | E25: =表示名 -> 0 | F25: ='シングルス（エントリー）'!F26 -> 0 | G25: ='シングルス（エントリー）'!G26 -> 0 | H25: =学校番号 -> 0 | I25: GS-20 | J25: ='シングルス（エントリー）'!J26&" "&'シングルス（エントリー）'!K26&" "&'シングルス（エントリー）'!L26 | K25: =表示名 -> 0 | L25: ='シングルス（エントリー）'!M26 -> 0 | M25: ='シングルス（エントリー）'!N26 -> 0 | O25: =学校番号 -> 0 | P25: =表示名 -> 0 | Q25: BD-20 | R25: ='ダブルス（エントリー）'!D45&" "&'ダブルス（エントリー）'!E45&" "&'ダブルス（エントリー）'!F45 | S25: ='ダブルス（エントリー）'!G45 -> 0 | T25: ='ダブルス（エントリー）'!H45 -> 0 | U25: ='ダブルス（エントリー）'!D46&" "&'ダブルス（エントリー）'!E46&" "&'ダブルス（エントリー）'!F46 | V25: ='ダブルス（エントリー）'!G46 -> 0 | W25: ='ダブルス（エントリー）'!H46 -> 0 | X25: =S25+V25 -> 0 | Y25: =学校番号 -> 0 | Z25: =表示名 -> 0 | AA25: BD-20 | AB25: ='ダブルス（エントリー）'!K45&" "&'ダブルス（エントリー）'!L45&" "&'ダブルス（エントリー）'!M45 | AC25: ='ダブルス（エントリー）'!N45 -> 0 | AD25: ='ダブルス（エントリー）'!O45 -> 0 | AE25: ='ダブルス（エントリー）'!K46&" "&'ダブルス（エントリー）'!L46&" "&'ダブルス（エントリー）'!M46 | AF25: ='ダブルス（エントリー）'!N46 -> 0 | AG25: ='ダブルス（エントリー）'!O46 -> 0 | AH25: =AC25+AF25 -> 0
